BEGIN:VCALENDAR
VERSION:2.0
PRODID:-//jEvents 2.0 for Joomla//EN
CALSCALE:GREGORIAN
METHOD:PUBLISH
BEGIN:VTIMEZONE
TZID:Europe/Lisbon
END:VTIMEZONE
BEGIN:VEVENT
UID:e6accb5520690dcdb25e018af514bb08
CATEGORIES:Santos
SUMMARY:Santa Clara de Assis
DESCRIPTION;ENCODING=QUOTED-PRINTABLE:
DTSTAMP:20260422T052935Z
DTSTART;TZID=Europe/Lisbon;VALUE=DATE:20290811
DTEND;TZID=Europe/Lisbon;VALUE=DATE:20290812
SEQUENCE:0
TRANSP:OPAQUE
END:VEVENT
END:VCALENDAR