BEGIN:VCALENDAR
VERSION:2.0
PRODID:-//jEvents 2.0 for Joomla//EN
CALSCALE:GREGORIAN
METHOD:PUBLISH
BEGIN:VEVENT
UID:3e5df5252f184df1c645ead0625c3d3b
CATEGORIES:Santos
SUMMARY:Santa Filomena
DESCRIPTION;ENCODING=QUOTED-PRINTABLE:
DTSTAMP:20260425T170712Z
DTSTART;TZID=Europe/Lisbon;VALUE=DATE:20530810
DTEND;TZID=Europe/Lisbon;VALUE=DATE:20530811
SEQUENCE:0
TRANSP:OPAQUE
END:VEVENT
END:VCALENDAR