BEGIN:VCALENDAR
VERSION:2.0
PRODID:-//jEvents 2.0 for Joomla//EN
CALSCALE:GREGORIAN
METHOD:PUBLISH
BEGIN:VEVENT
UID:4945f6a5ba73ce1e645954f57e8e3136
CATEGORIES:Santos
SUMMARY:São Fábio
DESCRIPTION;ENCODING=QUOTED-PRINTABLE:
DTSTAMP:20260425T215034Z
DTSTART;TZID=Europe/Lisbon;VALUE=DATE:20540809
DTEND;TZID=Europe/Lisbon;VALUE=DATE:20540810
SEQUENCE:0
TRANSP:OPAQUE
END:VEVENT
END:VCALENDAR