BEGIN:VCALENDAR
VERSION:2.0
PRODID:-//jEvents 2.0 for Joomla//EN
CALSCALE:GREGORIAN
METHOD:PUBLISH
BEGIN:VEVENT
UID:7d2a75ceaaf974ce70023e95e010dd8e
CATEGORIES:Santos
SUMMARY:São Domingos de Gusmão
DESCRIPTION;ENCODING=QUOTED-PRINTABLE:
DTSTAMP:20260424T093132Z
DTSTART;TZID=Europe/Lisbon;VALUE=DATE:20440807
DTEND;TZID=Europe/Lisbon;VALUE=DATE:20440808
SEQUENCE:0
TRANSP:OPAQUE
END:VEVENT
END:VCALENDAR