BEGIN:VCALENDAR
VERSION:2.0
PRODID:-//jEvents 2.0 for Joomla//EN
CALSCALE:GREGORIAN
METHOD:PUBLISH
BEGIN:VTIMEZONE
TZID:Europe/Lisbon
END:VTIMEZONE
BEGIN:VEVENT
UID:c86d889ceb6f4fe25ce646a384765234
CATEGORIES:Santos
SUMMARY:São Domingos
DESCRIPTION;ENCODING=QUOTED-PRINTABLE:
DTSTAMP:20260421T143218Z
DTSTART;TZID=Europe/Lisbon;VALUE=DATE:20220808
DTEND;TZID=Europe/Lisbon;VALUE=DATE:20220809
SEQUENCE:0
TRANSP:OPAQUE
END:VEVENT
END:VCALENDAR