BEGIN:VCALENDAR
VERSION:2.0
PRODID:-//jEvents 2.0 for Joomla//EN
CALSCALE:GREGORIAN
METHOD:PUBLISH
BEGIN:VTIMEZONE
TZID:Europe/Lisbon
BEGIN:STANDARD
DTSTART:20200113T000000
RDATE:20200329T020000
TZOFFSETFROM:+0100
TZOFFSETTO:+0000
TZNAME:Europe/Lisbon WET
END:STANDARD
BEGIN:STANDARD
DTSTART:20201025T010000
RDATE:20210328T020000
TZOFFSETFROM:+0100
TZOFFSETTO:+0000
TZNAME:Europe/Lisbon WET
END:STANDARD
BEGIN:DAYLIGHT
DTSTART:20200329T020000
RDATE:20201025T010000
TZOFFSETFROM:+0000
TZOFFSETTO:+0100
TZNAME:Europe/Lisbon WEST
END:DAYLIGHT
END:VTIMEZONE
BEGIN:VEVENT
UID:67a1b786553a48d2c82ff9984b41c34f
CATEGORIES:Santos
SUMMARY:São Hilário de Poitiers
DESCRIPTION;ENCODING=QUOTED-PRINTABLE:\nSão Hilário nasceu numa família nobre, mas pagã, no Sudoeste de França. R
 ecebeu formação em latim, e invulgarmente em grego, língua que na altura se
  destinava quase exclusivamente a textos cristãos. Foi a sua erudição em am
 bas as línguas que o levou a converter-se ao Cristianismo. Foi baptizado po
 r volta do ano 385 d.C. e oito anos depois foi nomeado bispo de Poitiers.\n
 \nNascimento: ano 300 d.C em Poitiers, França\nMorte: ano 368 d.C. em Poiti
 ers, França\n
DTSTAMP:20260420T043136Z
DTSTART;TZID=Europe/Lisbon;VALUE=DATE:20210113
DTEND;TZID=Europe/Lisbon;VALUE=DATE:20210114
SEQUENCE:0
TRANSP:OPAQUE
END:VEVENT
END:VCALENDAR