BEGIN:VCALENDAR
VERSION:2.0
PRODID:-//jEvents 2.0 for Joomla//EN
CALSCALE:GREGORIAN
METHOD:PUBLISH
BEGIN:VEVENT
UID:90d6a19802ab7a03ddc55546e41cd1d3
CATEGORIES:Santos
SUMMARY:Beatos Agatângelo e Cassiano
DESCRIPTION;ENCODING=QUOTED-PRINTABLE:
DTSTAMP:20260424T142258Z
DTSTART;TZID=Europe/Lisbon;VALUE=DATE:20460807
DTEND;TZID=Europe/Lisbon;VALUE=DATE:20460808
SEQUENCE:0
TRANSP:OPAQUE
END:VEVENT
END:VCALENDAR