BEGIN:VCALENDAR
VERSION:2.0
PRODID:-//jEvents 2.0 for Joomla//EN
CALSCALE:GREGORIAN
METHOD:PUBLISH
BEGIN:VEVENT
UID:f76cc026cef555ed62338b02c578313f
CATEGORIES:Santos
SUMMARY:São Caetano
DESCRIPTION;ENCODING=QUOTED-PRINTABLE:
DTSTAMP:20260425T203347Z
DTSTART;TZID=Europe/Lisbon;VALUE=DATE:20530807
DTEND;TZID=Europe/Lisbon;VALUE=DATE:20530808
SEQUENCE:0
TRANSP:OPAQUE
END:VEVENT
END:VCALENDAR