BEGIN:VCALENDAR
VERSION:2.0
PRODID:-//jEvents 2.0 for Joomla//EN
CALSCALE:GREGORIAN
METHOD:PUBLISH
BEGIN:VTIMEZONE
TZID:Europe/Lisbon
END:VTIMEZONE
BEGIN:VEVENT
UID:f76cc026cef555ed62338b02c578313f
CATEGORIES:Santos
SUMMARY:São Caetano
DESCRIPTION;ENCODING=QUOTED-PRINTABLE:
DTSTAMP:20260422T013739Z
DTSTART;TZID=Europe/Lisbon;VALUE=DATE:20280806
DTEND;TZID=Europe/Lisbon;VALUE=DATE:20280807
SEQUENCE:0
TRANSP:OPAQUE
END:VEVENT
END:VCALENDAR