BEGIN:VCALENDAR
VERSION:2.0
PRODID:-//jEvents 2.0 for Joomla//EN
CALSCALE:GREGORIAN
METHOD:PUBLISH
BEGIN:VTIMEZONE
TZID:Europe/Lisbon
END:VTIMEZONE
BEGIN:VEVENT
UID:a5c239ca02b4753213327556fe2ec698
CATEGORIES:Santos
SUMMARY:São Sisto II e companheiros
DESCRIPTION;ENCODING=QUOTED-PRINTABLE:
DTSTAMP:20260421T164911Z
DTSTART;TZID=Europe/Lisbon;VALUE=DATE:20280806
DTEND;TZID=Europe/Lisbon;VALUE=DATE:20280807
SEQUENCE:0
TRANSP:OPAQUE
END:VEVENT
END:VCALENDAR