BEGIN:VCALENDAR
VERSION:2.0
PRODID:-//jEvents 2.0 for Joomla//EN
CALSCALE:GREGORIAN
METHOD:PUBLISH
BEGIN:VEVENT
UID:afcb5527ce54747b9eaa3a20a4db83a2
CATEGORIES:Santos
SUMMARY:Transfiguração do Senhor
DESCRIPTION;ENCODING=QUOTED-PRINTABLE:
DTSTAMP:20260424T082659Z
DTSTART;TZID=Europe/Lisbon;VALUE=DATE:20410806
DTEND;TZID=Europe/Lisbon;VALUE=DATE:20410807
SEQUENCE:0
TRANSP:OPAQUE
END:VEVENT
END:VCALENDAR