BEGIN:VCALENDAR
VERSION:2.0
PRODID:-//jEvents 2.0 for Joomla//EN
CALSCALE:GREGORIAN
METHOD:PUBLISH
BEGIN:VTIMEZONE
TZID:Europe/Lisbon
END:VTIMEZONE
BEGIN:VEVENT
UID:6fb6f50ce53e3b46472d3c88fa54de14
CATEGORIES:Santos
SUMMARY:Nossa Senhora de África
DESCRIPTION;ENCODING=QUOTED-PRINTABLE:
DTSTAMP:20260421T132738Z
DTSTART;TZID=Europe/Lisbon;VALUE=DATE:20260805
DTEND;TZID=Europe/Lisbon;VALUE=DATE:20260806
SEQUENCE:0
TRANSP:OPAQUE
END:VEVENT
END:VCALENDAR