BEGIN:VCALENDAR
VERSION:2.0
PRODID:-//jEvents 2.0 for Joomla//EN
CALSCALE:GREGORIAN
METHOD:PUBLISH
BEGIN:VEVENT
UID:b3f83f5c1a664d749ae53645a097ffe0
CATEGORIES:Santos
SUMMARY:Dedicação da Basílica de Santa Maria Maior
DESCRIPTION;ENCODING=QUOTED-PRINTABLE:
DTSTAMP:20260424T123500Z
DTSTART;TZID=Europe/Lisbon;VALUE=DATE:20450805
DTEND;TZID=Europe/Lisbon;VALUE=DATE:20450806
SEQUENCE:0
TRANSP:OPAQUE
END:VEVENT
END:VCALENDAR