BEGIN:VCALENDAR
VERSION:2.0
PRODID:-//jEvents 2.0 for Joomla//EN
CALSCALE:GREGORIAN
METHOD:PUBLISH
BEGIN:VTIMEZONE
TZID:Europe/Lisbon
END:VTIMEZONE
BEGIN:VEVENT
UID:aab700fbeed978e723dbd4ebf4f1ede3
CATEGORIES:Santos
SUMMARY:Aelred
DESCRIPTION;ENCODING=QUOTED-PRINTABLE:\n\n\nNo ano 1146, Aelred, com apenas 36 anos de idade, foi elevado abade d
 a abadia cisterciense de Rievaulx, em Yorkshire, Inglaterra. \nFoi um histo
 riador dotado e sofreu bastante. Diz-se que nos últimos anos de vida "era m
 ais um fantasma que um homem".\n\nNascimento: ano 1110 d.C em Hexham, Ingla
 terra\nMorte: ano 1167 d.C. em Rievaulx, Yorkshire, Inglaterra\n
DTSTAMP:20260422T035616Z
DTSTART;TZID=Europe/Lisbon;VALUE=DATE:20310112
DTEND;TZID=Europe/Lisbon;VALUE=DATE:20310113
SEQUENCE:0
TRANSP:OPAQUE
END:VEVENT
END:VCALENDAR