BEGIN:VCALENDAR
VERSION:2.0
PRODID:-//jEvents 2.0 for Joomla//EN
CALSCALE:GREGORIAN
METHOD:PUBLISH
BEGIN:VEVENT
UID:c9bb1a621e44adf7f7c81b28d4bd3101
CATEGORIES:Santos
SUMMARY:Beato Augusto Czartoryski
DESCRIPTION;ENCODING=QUOTED-PRINTABLE:
DTSTAMP:20260424T094438Z
DTSTART;TZID=Europe/Lisbon;VALUE=DATE:20440801
DTEND;TZID=Europe/Lisbon;VALUE=DATE:20440802
SEQUENCE:0
TRANSP:OPAQUE
END:VEVENT
END:VCALENDAR