BEGIN:VCALENDAR
VERSION:2.0
PRODID:-//jEvents 2.0 for Joomla//EN
CALSCALE:GREGORIAN
METHOD:PUBLISH
BEGIN:VTIMEZONE
TZID:Europe/Lisbon
END:VTIMEZONE
BEGIN:VEVENT
UID:c9bb1a621e44adf7f7c81b28d4bd3101
CATEGORIES:Santos
SUMMARY:Beato Augusto Czartoryski
DESCRIPTION;ENCODING=QUOTED-PRINTABLE:
DTSTAMP:20260421T215345Z
DTSTART;TZID=Europe/Lisbon;VALUE=DATE:20270802
DTEND;TZID=Europe/Lisbon;VALUE=DATE:20270803
SEQUENCE:0
TRANSP:OPAQUE
END:VEVENT
END:VCALENDAR