BEGIN:VCALENDAR
VERSION:2.0
PRODID:-//jEvents 2.0 for Joomla//EN
CALSCALE:GREGORIAN
METHOD:PUBLISH
BEGIN:VEVENT
UID:72549703fd38f330d37ac2d0df8dc4b8
CATEGORIES:Santos
SUMMARY:Beata Joana
DESCRIPTION;ENCODING=QUOTED-PRINTABLE:
DTSTAMP:20260424T164355Z
DTSTART;TZID=Europe/Lisbon;VALUE=DATE:20450801
DTEND;TZID=Europe/Lisbon;VALUE=DATE:20450802
SEQUENCE:0
TRANSP:OPAQUE
END:VEVENT
END:VCALENDAR