BEGIN:VCALENDAR
VERSION:2.0
PRODID:-//jEvents 2.0 for Joomla//EN
CALSCALE:GREGORIAN
METHOD:PUBLISH
BEGIN:VEVENT
UID:852072467090514a32b2c2d32f0b6058
CATEGORIES:Santos
SUMMARY:Beato João de Rieti
DESCRIPTION;ENCODING=QUOTED-PRINTABLE:
DTSTAMP:20260424T093103Z
DTSTART;TZID=Europe/Lisbon;VALUE=DATE:20440801
DTEND;TZID=Europe/Lisbon;VALUE=DATE:20440802
SEQUENCE:0
TRANSP:OPAQUE
END:VEVENT
END:VCALENDAR