BEGIN:VCALENDAR
VERSION:2.0
PRODID:-//jEvents 2.0 for Joomla//EN
CALSCALE:GREGORIAN
METHOD:PUBLISH
BEGIN:VTIMEZONE
TZID:Europe/Lisbon
END:VTIMEZONE
BEGIN:VEVENT
UID:371b5c5ec9aa397e684ced47e78fb060
CATEGORIES:Santos
SUMMARY:São Pedro Juliano Eymard
DESCRIPTION;ENCODING=QUOTED-PRINTABLE:
DTSTAMP:20260421T215345Z
DTSTART;TZID=Europe/Lisbon;VALUE=DATE:20270802
DTEND;TZID=Europe/Lisbon;VALUE=DATE:20270803
SEQUENCE:0
TRANSP:OPAQUE
END:VEVENT
END:VCALENDAR