BEGIN:VCALENDAR
VERSION:2.0
PRODID:-//jEvents 2.0 for Joomla//EN
CALSCALE:GREGORIAN
METHOD:PUBLISH
BEGIN:VTIMEZONE
TZID:Europe/Lisbon
BEGIN:STANDARD
DTSTART:20201025T010000
RDATE:20210328T020000
TZOFFSETFROM:+0100
TZOFFSETTO:+0000
TZNAME:Europe/Lisbon WET
END:STANDARD
BEGIN:DAYLIGHT
DTSTART:20200801T000000
RDATE:20201025T010000
TZOFFSETFROM:+0000
TZOFFSETTO:+0100
TZNAME:Europe/Lisbon WEST
END:DAYLIGHT
END:VTIMEZONE
BEGIN:VEVENT
UID:371b5c5ec9aa397e684ced47e78fb060
CATEGORIES:Santos
SUMMARY:São Pedro Juliano Eymard
DESCRIPTION;ENCODING=QUOTED-PRINTABLE:
DTSTAMP:20260421T144912Z
DTSTART;TZID=Europe/Lisbon;VALUE=DATE:20210802
DTEND;TZID=Europe/Lisbon;VALUE=DATE:20210803
SEQUENCE:0
TRANSP:OPAQUE
END:VEVENT
END:VCALENDAR