BEGIN:VCALENDAR
VERSION:2.0
PRODID:-//jEvents 2.0 for Joomla//EN
CALSCALE:GREGORIAN
METHOD:PUBLISH
BEGIN:VEVENT
UID:ec4041c76a573545e8155f2fe22896c1
CATEGORIES:Santos
SUMMARY:Santo Eusébio de Vercelas
DESCRIPTION;ENCODING=QUOTED-PRINTABLE:
DTSTAMP:20260424T133958Z
DTSTART;TZID=Europe/Lisbon;VALUE=DATE:20460802
DTEND;TZID=Europe/Lisbon;VALUE=DATE:20460803
SEQUENCE:0
TRANSP:OPAQUE
END:VEVENT
END:VCALENDAR