BEGIN:VCALENDAR
VERSION:2.0
PRODID:-//jEvents 2.0 for Joomla//EN
CALSCALE:GREGORIAN
METHOD:PUBLISH
BEGIN:VTIMEZONE
TZID:Europe/Lisbon
END:VTIMEZONE
BEGIN:VEVENT
UID:ec4041c76a573545e8155f2fe22896c1
CATEGORIES:Santos
SUMMARY:Santo Eusébio de Vercelas
DESCRIPTION;ENCODING=QUOTED-PRINTABLE:
DTSTAMP:20260422T013355Z
DTSTART;TZID=Europe/Lisbon;VALUE=DATE:20280801
DTEND;TZID=Europe/Lisbon;VALUE=DATE:20280802
SEQUENCE:0
TRANSP:OPAQUE
END:VEVENT
END:VCALENDAR