BEGIN:VCALENDAR
VERSION:2.0
PRODID:-//jEvents 2.0 for Joomla//EN
CALSCALE:GREGORIAN
METHOD:PUBLISH
BEGIN:VTIMEZONE
TZID:Europe/Lisbon
BEGIN:STANDARD
DTSTART:20150130T000000
RDATE:20150329T020000
TZOFFSETFROM:+0100
TZOFFSETTO:+0000
TZNAME:Europe/Lisbon WET
END:STANDARD
BEGIN:STANDARD
DTSTART:20151025T010000
RDATE:20160327T020000
TZOFFSETFROM:+0100
TZOFFSETTO:+0000
TZNAME:Europe/Lisbon WET
END:STANDARD
BEGIN:STANDARD
DTSTART:20161030T010000
RDATE:20170326T020000
TZOFFSETFROM:+0100
TZOFFSETTO:+0000
TZNAME:Europe/Lisbon WET
END:STANDARD
BEGIN:STANDARD
DTSTART:20171029T010000
RDATE:20180325T020000
TZOFFSETFROM:+0100
TZOFFSETTO:+0000
TZNAME:Europe/Lisbon WET
END:STANDARD
BEGIN:STANDARD
DTSTART:20181028T010000
RDATE:20190331T020000
TZOFFSETFROM:+0100
TZOFFSETTO:+0000
TZNAME:Europe/Lisbon WET
END:STANDARD
BEGIN:STANDARD
DTSTART:20191027T010000
RDATE:20200329T020000
TZOFFSETFROM:+0100
TZOFFSETTO:+0000
TZNAME:Europe/Lisbon WET
END:STANDARD
BEGIN:STANDARD
DTSTART:20201025T010000
RDATE:20210328T020000
TZOFFSETFROM:+0100
TZOFFSETTO:+0000
TZNAME:Europe/Lisbon WET
END:STANDARD
BEGIN:DAYLIGHT
DTSTART:20150329T020000
RDATE:20151025T010000
TZOFFSETFROM:+0000
TZOFFSETTO:+0100
TZNAME:Europe/Lisbon WEST
END:DAYLIGHT
BEGIN:DAYLIGHT
DTSTART:20160327T020000
RDATE:20161030T010000
TZOFFSETFROM:+0000
TZOFFSETTO:+0100
TZNAME:Europe/Lisbon WEST
END:DAYLIGHT
BEGIN:DAYLIGHT
DTSTART:20170326T020000
RDATE:20171029T010000
TZOFFSETFROM:+0000
TZOFFSETTO:+0100
TZNAME:Europe/Lisbon WEST
END:DAYLIGHT
BEGIN:DAYLIGHT
DTSTART:20180325T020000
RDATE:20181028T010000
TZOFFSETFROM:+0000
TZOFFSETTO:+0100
TZNAME:Europe/Lisbon WEST
END:DAYLIGHT
BEGIN:DAYLIGHT
DTSTART:20190331T020000
RDATE:20191027T010000
TZOFFSETFROM:+0000
TZOFFSETTO:+0100
TZNAME:Europe/Lisbon WEST
END:DAYLIGHT
BEGIN:DAYLIGHT
DTSTART:20200329T020000
RDATE:20201025T010000
TZOFFSETFROM:+0000
TZOFFSETTO:+0100
TZNAME:Europe/Lisbon WEST
END:DAYLIGHT
END:VTIMEZONE
BEGIN:VEVENT
UID:ab0eef93d4a8c80c91283d042c1c697e
CATEGORIES:Santos
SUMMARY:São João Bosco
DESCRIPTION;ENCODING=QUOTED-PRINTABLE:São João Bosco, também é conhecido como Dom Bosco, nasceu a 16 de agosto de
  1815 em Becchi &ndash; Itália (atual Castelnuovo Dom Bosco em sua homenage
 m) e faleceu em Turim a 31 de janeiro de 1888. Era filho de Francesco Bosco
  e Margherita Occhiena. Tinha dois irmãos, António (filho do primeiro casam
 ento do pai) e José (seu irmão mais velho).\nSão João Bosco ficou órfão de 
 pai aos dois anos. Diante da difícil situação económica porque passava o no
 rte da Itália, a infância de São João Bosco foi marcada pela pobreza da fam
 ília.\nDesde criança que São João Bosco se sentia chamado a falar de Deus a
 os amigos, pois observava a realidade à sua volta: muitas crianças vindas d
 o campo, na maioria órfãs como ele, em busca de emprego, mas que acabavam n
 a rua a passar fome, convivendo com o crime ou explorados por aqueles que b
 uscavam mão-de-obra barata. Quando podia, São João Bosco atraía um grupo de
  meninos e apresentando-lhes uma performance de teatro, magia ou música e, 
 de seguida, passava uma mensagem de fé, de amor, de catequese.\nDiz-se que 
 a sua vocação surgiu de um sonho, quando tinha 9 anos. No sonho São João Bo
 sco estava a brigar com outros meninos quando um homem, que alguns acredita
 m ser Jesus Cristo, se aproximou e lhe disse para educar, não com pancadas,
  mas com carinho.\nSão João Bosco dizia então: &ldquo;Quando crescer quero 
 ser padre para cuidar dos meninos. Todo menino é bom; se há meninos maus é 
 porque não há quem cuide deles&rdquo;.\nSão João Bosco fez a primeira comun
 hão em 1826. Em 1828 começou a estudar e aos dezasseis anos (1831) passa a 
 frequentar a escola de Castelnuovo D'Asti. Em 30 de outubro de 1835, quando
  completou vinte anos, ingressou no Seminário de Chieri. Dom Bosco foi orde
 nado sacerdote a 5 de junho de 1841, pelo bispo Luigi Fransoni. Após a orde
 nação, São João Bosco transfere-se para Turim. Durante a sua adolescência, 
 São João Bosco teve de trabalhar para pagar os seus estudos. Foi alfaiate, 
 sapateiro, ferreiro, carpinteiro e nos tempos livres, estudava música.\nAss
 im que foi ordenado São João Bosco começou o seu trabalho com meninos de ru
 a, evangelizando-os e ensinando-lhes uma profissão.\nO trabalho frutificou 
 e em 1846, Dom Bosco pensava em organizar uma associação religiosa, contudo
 , a disputa pela separação entre Estado e Igreja na Itália não permitia uma
  ordem em moldes religiosos. A solução veio com a ideia de se criar uma org
 anização de cidadãos que se dedicavam às atividades educativas, tudo em mol
 des civis que serviriam como uma associação de cidadãos aos olhos do Estado
  e como uma associação de religiosos perante a Igreja.\nSão João Bosco cons
 eguiu então um terreno no bairro de Valdocco, em Turim. Mudou-se para lá e 
 fundou a obra que mudaria a vida de muitos meninos, oferecendo-lhes moradia
 , segurança, diversão, catequese e profissionalização. Chamou este local de
  Oratório São Francisco de Sales. \nJá padre São João Bosco teve boas ofert
 as de trabalho pastoral mas renunciou a todas elas bem como às comodidades 
 que lhe ofereciam para se dedicar aos rapazes que vinham aos grupos para a 
 cidade de Turim em busca de trabalho. Inicialmente, começou por reuni-los n
 um pátio onde os atraía através dos jogos com a única finalidade de &ldquo;
 formar bons cristãos e honestos cidadãos&rdquo;.\nEm plena revolução indust
 rial estes jovens eram muito explorados e D. Bosco, através do diálogo com 
 os patrões, conseguiu os primeiros contratos de trabalho. Depressa fundou i
 nternatos e escolas profissionais. Nos pátios havia grupos de catequese mas
  também jogos e música pois ele dizia que era preciso gostar do que os jove
 ns gostavam para que eles acolhessem o que os educadores lhes queriam comun
 icar.\nSão João Bosco foi escritor de livros sagrados e profanos para assim
  ajudar a formar os jovens. Mandou construir Igrejas, especialmente a Basíl
 ica de Nossa Senhora Auxiliadora, em Turim. A Maria confiava todo o seu tra
 balho e teve provas evidentes da sua proteção materna. Dizia que Maria Auxi
 liadora era a protagonista da sua vida e obra e apelava ao amor constante a
  esta boa Mãe.\nEncontrou nos seus educandos bons colaboradores e, com algu
 ns dos primeiros, fundou a Congregação Salesiana, em 1855. Com outros sacer
 dotes e leigos colaboradores na obra da juventude, fundou os Salesianos Coo
 peradores, grupo a que chamou de &ldquo;Salesianos leigos&rdquo;. Em 1872, 
 com Maria Mazzarello, juntamente com sua amiga Petronilla, fundou uma ofici
 na de costura para meninas. O projeto deu certo e a organização passou a ac
 olher meninas órfãs sob o nome Instituto das Filhas de Maria Auxiliadora, q
 ue teriam a missão de cuidar das meninas.\nSão João Bosco teve a alegria de
  ver alguns dos seus jovens optar pelo caminho da santidade que ele propunh
 a. Sofreu duras incompreensões, porém o seu amor à Igreja nunca decaiu e o 
 Papa sempre o compreendeu e animou a sua obra.\nAbriu casas por várias zona
 s da Itália, França, Espanha e pela América Latina.\nNos últimos momentos d
 a sua vida, dirigindo-se ao Bispo D. Cagliero e ao Pe. Rua, que seria seu s
 ucessor, D. Bosco pede-lhes: &ldquo;Amai-vos&hellip;como irmãos. Fazei o be
 m a todos e a ninguém o mal&rdquo;.\nFoi para os jovens que teve as últimas
  palavras: &ldquo;Dizei aos meus jovens que os espero a todos no Céu&rdquo;
 .\nFaleceu a 31 de janeiro de 1888.\nFoi canonizado pelo Papa Pio XI no ano
  de 1934.\nSão João Bosco rogai por nós!\n
DTSTAMP:20260419T213913Z
DTSTART;TZID=Europe/Lisbon;VALUE=DATE:20160131
DTEND;TZID=Europe/Lisbon;VALUE=DATE:20160201
SEQUENCE:0
TRANSP:OPAQUE
END:VEVENT
END:VCALENDAR