BEGIN:VCALENDAR
VERSION:2.0
PRODID:-//jEvents 2.0 for Joomla//EN
CALSCALE:GREGORIAN
METHOD:PUBLISH
BEGIN:VTIMEZONE
TZID:Europe/Lisbon
BEGIN:STANDARD
DTSTART:20140214T000000
RDATE:20140330T020000
TZOFFSETFROM:+0100
TZOFFSETTO:+0000
TZNAME:Europe/Lisbon WET
END:STANDARD
BEGIN:STANDARD
DTSTART:20141026T010000
RDATE:20150329T020000
TZOFFSETFROM:+0100
TZOFFSETTO:+0000
TZNAME:Europe/Lisbon WET
END:STANDARD
BEGIN:STANDARD
DTSTART:20151025T010000
RDATE:20160327T020000
TZOFFSETFROM:+0100
TZOFFSETTO:+0000
TZNAME:Europe/Lisbon WET
END:STANDARD
BEGIN:STANDARD
DTSTART:20161030T010000
RDATE:20170326T020000
TZOFFSETFROM:+0100
TZOFFSETTO:+0000
TZNAME:Europe/Lisbon WET
END:STANDARD
BEGIN:STANDARD
DTSTART:20171029T010000
RDATE:20180325T020000
TZOFFSETFROM:+0100
TZOFFSETTO:+0000
TZNAME:Europe/Lisbon WET
END:STANDARD
BEGIN:STANDARD
DTSTART:20181028T010000
RDATE:20190331T020000
TZOFFSETFROM:+0100
TZOFFSETTO:+0000
TZNAME:Europe/Lisbon WET
END:STANDARD
BEGIN:STANDARD
DTSTART:20191027T010000
RDATE:20200329T020000
TZOFFSETFROM:+0100
TZOFFSETTO:+0000
TZNAME:Europe/Lisbon WET
END:STANDARD
BEGIN:STANDARD
DTSTART:20201025T010000
RDATE:20210328T020000
TZOFFSETFROM:+0100
TZOFFSETTO:+0000
TZNAME:Europe/Lisbon WET
END:STANDARD
BEGIN:DAYLIGHT
DTSTART:20140330T020000
RDATE:20141026T010000
TZOFFSETFROM:+0000
TZOFFSETTO:+0100
TZNAME:Europe/Lisbon WEST
END:DAYLIGHT
BEGIN:DAYLIGHT
DTSTART:20150329T020000
RDATE:20151025T010000
TZOFFSETFROM:+0000
TZOFFSETTO:+0100
TZNAME:Europe/Lisbon WEST
END:DAYLIGHT
BEGIN:DAYLIGHT
DTSTART:20160327T020000
RDATE:20161030T010000
TZOFFSETFROM:+0000
TZOFFSETTO:+0100
TZNAME:Europe/Lisbon WEST
END:DAYLIGHT
BEGIN:DAYLIGHT
DTSTART:20170326T020000
RDATE:20171029T010000
TZOFFSETFROM:+0000
TZOFFSETTO:+0100
TZNAME:Europe/Lisbon WEST
END:DAYLIGHT
BEGIN:DAYLIGHT
DTSTART:20180325T020000
RDATE:20181028T010000
TZOFFSETFROM:+0000
TZOFFSETTO:+0100
TZNAME:Europe/Lisbon WEST
END:DAYLIGHT
BEGIN:DAYLIGHT
DTSTART:20190331T020000
RDATE:20191027T010000
TZOFFSETFROM:+0000
TZOFFSETTO:+0100
TZNAME:Europe/Lisbon WEST
END:DAYLIGHT
BEGIN:DAYLIGHT
DTSTART:20200329T020000
RDATE:20201025T010000
TZOFFSETFROM:+0000
TZOFFSETTO:+0100
TZNAME:Europe/Lisbon WEST
END:DAYLIGHT
END:VTIMEZONE
BEGIN:VEVENT
UID:a9dcbfc62b85f01c7c5ce31bd84c2ad5
CATEGORIES:Santos
SUMMARY:São Cláudio La Colombière
DESCRIPTION;ENCODING=QUOTED-PRINTABLE:São Cláudio La Colombière nasceu a 2 de fevereiro de 1641 em Saint-Symphori
 en (França) e faleceu a 15 de fevereiro de 1682 em Paray-le-Monial (França)
 .\nSão Cláudio La Colombière era oriundo duma família de nobres e empenhado
 s cristãos que desejavam dedicar o filho ao serviço de Deus. Contudo São Cl
 áudio La Colombière era totalmente oposto a essa ideia. \nAos nove anos o s
 anto mudou-se com a família de Saint-Symphorien para Vienne (França), onde 
 fez a Primeira Comunhão no convento beneditino de Saint Andrés-le-Bas. Pouc
 o depois de ter chegado à cidade, São Cláudio La Colombière começou a estud
 ar gramática com os padres jesuítas e, três anos depois, mudou-se para Lyon
 , a fim de estudar Humanidades, no colégio da Companhia. Foi em Lyon que o 
 santo começou a tomar contato com a obra de Francisco de Sales (http://www.
 paroquia-almancil.pt/utilidades/vida-dos-santos/icalrepeat.detail/2018/01/2
 4/6302/-/s-francisco-de-sales.html), através das Irmãs da Visitação de Bell
 ecour, em cujo convento falecera S. Francisco de Sales.\nCom dezassete anos
 , e enquanto passava alguns dias de férias na casa dos pais, Cláudio La Col
 ombière decidiu tornar-se jesuíta. De temperamento reservado, um pouco tími
 do e muito afetuoso, custou-lhe separar-se da família, mas entregou-se a De
 us completamente. Assim no ano de 1658, Cláudio La Colombière ingressou no 
 Noviciado de Avignon. Dois anos depois, proferiu os primeiros votos e, have
 ndo concluído o curso de Filosofia, dedicou-se ao magistério no colégio da 
 Companhia, conforme determinavam as regras, antes de prosseguir os estudos 
 para o sacerdócio.\nNo ano de 1666 é enviado pelo Superior Geral para o Col
 égio de Clermont, em Paris, a fim de estudar Teologia. Aí se revelou exímio
  orador e excelente professor de retórica.\nA 6 de abril de 1669, São Cláud
 io La Colombière recebeu as sagradas ordens e cinco anos depois chegou para
  ele o tempo chamado por Santo Inácio de &ldquo;Escola do Afeto&rdquo;, que
  consistia num novo período de noviciado instituído por S. Francisco de Sal
 es para que os jesuítas fizessem um balanço da sua vida, visando desapegare
 m-se de toda a preocupação humana e deixarem-se levar pela luz divina, ante
 s de fazerem os votos solenes.\nProfessou os votos solenes no dia do seu 34
 º aniversário, a 2 de fevereiro de 1675, sendo logo de seguida eleito super
 ior da casa dos jesuítas em Paray-le-Monial.O santo não sabia o que iria en
 contrar na pequena cidade de Paray-le-Monial, mas ao chegar encontrou-se co
 m Santa Margarida Maria Alacoque (http://www.paroquia-almancil.pt/utilidade
 s/vida-dos-santos/icalrepeat.detail/2018/10/16/51467/-/s-margarida-maria-al
 acoque.html) e tomou conhecimento das polémicas que as visões da santa tinh
 am criado.\nSem se preocupar com as críticas e juízos desfavoráveis, Cláudi
 o La Colombière viu a mão de Deus nas visões de Irmã Margarida Maria e tran
 quilizou-a e apoiou-a.\nO padre Cláudio La Colombière permaneceu apenas 18 
 meses em Paray&ndash;le-Monial, contudo nesse curto espaço de tempo terá fe
 ito mais pelas almas do que em todos os anos anteriores de sua vida. O jans
 enismo (heresia que surgiu na França e Bélgica, no século XVII e se desenvo
 lveu no século XVIII, e que afirmava que os Homens já nasciam predestinados
  ao céu ou ao inferno, nada podendo mudar esse destino) estava em pleno aug
 e na França e minava nos corações a confiança na bondade de Nosso Senhor e 
 de sua Mãe Santíssima, e afastava os fiéis dos Sacramentos, sobretudo da Sa
 grada Comunhão. Com o seu apostolado São Cláudio La Colombière promovia a c
 onfiança em Maria e a devoção ao Santíssimo Sacramento, atraindo assim muit
 as ovelhas desgarradas.\nFundou uma Congregação Mariana para nobres e burgu
 eses, na qual agrupou os cavalheiros católicos da cidade, bem como reorgani
 zou a dos alunos do colégio da Companhia. Reestruturou o hospital dos pereg
 rinos e indigentes, e pregou missões nos povoados vizinhos, participou na &
 ldquo;Grande Revelação&rdquo; feita a Santa Margarida Maria Alacoque no ano
  de 1675, promovendo a difusão da devoção ao Sagrado Coração de Jesus, bem 
 como a instituição de sua festa e da consagração reparadora.\nSão Cláudio L
 a Colombière recebeu ordem para partir para Londres, como capelão da Duques
 a de York, Maria de Módena, quando estava no auge das suas atividades em Pa
 ray-le-Monial.\nSão Cláudio La Colombière partiu e apesar de vive no paláci
 o Saint James, fazia-o num regime de profundo recolhimento e grandes mortif
 icações. Preocupava-se apenas em propagar a devoção à Sagrada Eucaristia e 
 ao Sagrado Coração de Jesus, apesar das dificuldades criadas pela hostilida
 de contra a Igreja. Converteu famílias inteiras e atraiu para a vida consag
 rada muitos membros da aristocracia londrina. \nSão Cláudio La Colombière f
 oi denunciado e preso pelo crime de proselitismo religioso, pois os jesuíta
 s foram acusados por Titus Oates de se encontrarem a planear o assassinato 
 de Carlos II para o substituir pelo seu irmão, o Duque de York, entretanto 
 convertido ao catolicismo. São Cláudio La Colombière foi preso numa masmorr
 a com péssimas condições e aí teria morrido em pouco tempo, se não tivesse 
 sido libertado por força de uma intervenção de Luís XIV.\nChegou a França e
 m meados de 1679, quase sem forças. Depois de recuperar um pouco a saúde, d
 irigiu-se para o Colégio da Santíssima Trindade, em Lyon, onde outrora fize
 ra seus primeiros estudos, para assumir o cargo de diretor espiritual dos a
 lunos de Filosofia. Ali, embora fisicamente muito desgastado, não deixava d
 e propagar a devoção ao Divino Coração, defendendo-a contra os inúmeros ata
 ques e incompreensões de que era objeto.\nNo inverno de 1681, retornou a Pa
 ray-le-Monial. O frio daquela rigorosa estação prejudicava a sua saúde e o 
 superior da casa pensou em mudar São Claúdio La Colombière para Vienne, con
 tudo tal não viria a suceder-se.\nSão Cláudio La Colombière faleceu a 15 de
  fevereiro de 1682 com apenas 41 anos de idade.\nFoi santificado pelo Papa 
 João Paulo II a 31 de maio de 1992.\n \nSão Cláudio La Colombière, rogai po
 r nós! \n Oração a São Cláudio La Colombière&ldquo;Ó Pai, pela vossa miseri
 córdia, São Cláudio de La Colombière anunciou as insondáveis riquezas de Cr
 isto. Concedei-nos, por sua intercessão, crescer no vosso conhecimento e vi
 ver na vossa presença segundo o Evangelho, frutificando em boas obras. Por 
 Nosso Senhor Jesus Cristo, vosso filho, na unidade do Espírito Santo. Amém.
  \n
DTSTAMP:20260420T093248Z
DTSTART;TZID=Europe/Lisbon;VALUE=DATE:20150215
DTEND;TZID=Europe/Lisbon;VALUE=DATE:20150216
SEQUENCE:0
TRANSP:OPAQUE
END:VEVENT
END:VCALENDAR