BEGIN:VCALENDAR
VERSION:2.0
PRODID:-//jEvents 2.0 for Joomla//EN
CALSCALE:GREGORIAN
METHOD:PUBLISH
BEGIN:VTIMEZONE
TZID:Europe/Lisbon
BEGIN:STANDARD
DTSTART:20150212T000000
RDATE:20150329T020000
TZOFFSETFROM:+0100
TZOFFSETTO:+0000
TZNAME:Europe/Lisbon WET
END:STANDARD
BEGIN:STANDARD
DTSTART:20151025T010000
RDATE:20160327T020000
TZOFFSETFROM:+0100
TZOFFSETTO:+0000
TZNAME:Europe/Lisbon WET
END:STANDARD
BEGIN:STANDARD
DTSTART:20161030T010000
RDATE:20170326T020000
TZOFFSETFROM:+0100
TZOFFSETTO:+0000
TZNAME:Europe/Lisbon WET
END:STANDARD
BEGIN:STANDARD
DTSTART:20171029T010000
RDATE:20180325T020000
TZOFFSETFROM:+0100
TZOFFSETTO:+0000
TZNAME:Europe/Lisbon WET
END:STANDARD
BEGIN:STANDARD
DTSTART:20181028T010000
RDATE:20190331T020000
TZOFFSETFROM:+0100
TZOFFSETTO:+0000
TZNAME:Europe/Lisbon WET
END:STANDARD
BEGIN:STANDARD
DTSTART:20191027T010000
RDATE:20200329T020000
TZOFFSETFROM:+0100
TZOFFSETTO:+0000
TZNAME:Europe/Lisbon WET
END:STANDARD
BEGIN:STANDARD
DTSTART:20201025T010000
RDATE:20210328T020000
TZOFFSETFROM:+0100
TZOFFSETTO:+0000
TZNAME:Europe/Lisbon WET
END:STANDARD
BEGIN:DAYLIGHT
DTSTART:20150329T020000
RDATE:20151025T010000
TZOFFSETFROM:+0000
TZOFFSETTO:+0100
TZNAME:Europe/Lisbon WEST
END:DAYLIGHT
BEGIN:DAYLIGHT
DTSTART:20160327T020000
RDATE:20161030T010000
TZOFFSETFROM:+0000
TZOFFSETTO:+0100
TZNAME:Europe/Lisbon WEST
END:DAYLIGHT
BEGIN:DAYLIGHT
DTSTART:20170326T020000
RDATE:20171029T010000
TZOFFSETFROM:+0000
TZOFFSETTO:+0100
TZNAME:Europe/Lisbon WEST
END:DAYLIGHT
BEGIN:DAYLIGHT
DTSTART:20180325T020000
RDATE:20181028T010000
TZOFFSETFROM:+0000
TZOFFSETTO:+0100
TZNAME:Europe/Lisbon WEST
END:DAYLIGHT
BEGIN:DAYLIGHT
DTSTART:20190331T020000
RDATE:20191027T010000
TZOFFSETFROM:+0000
TZOFFSETTO:+0100
TZNAME:Europe/Lisbon WEST
END:DAYLIGHT
BEGIN:DAYLIGHT
DTSTART:20200329T020000
RDATE:20201025T010000
TZOFFSETFROM:+0000
TZOFFSETTO:+0100
TZNAME:Europe/Lisbon WEST
END:DAYLIGHT
END:VTIMEZONE
BEGIN:VEVENT
UID:d067271e3eeeb67a1c3cad1217034e98
CATEGORIES:Santos
SUMMARY:Beata Cristina de Espoleto
DESCRIPTION;ENCODING=QUOTED-PRINTABLE:Existem algumas versões relativas à biografia de Beata Cristina de Espoleto
 . Algumas fontes indicam que seria da família dos Visconti de Milão, outras
  que tinha parentesco com os Semenzi de Calvisano, próximo de Brescia. No q
 ue todos concordam é que a Beata Cristina de Espoleto era uma jovem muito b
 onita.\nAlgumas das fontes que consultámos referem que Beata Cristina de Es
 poleto desde os cinco anos de idade levava uma vida de oração e mortificaçã
 o. Segundo essas fontes, quando a beata teria dez anos, os seus pais começa
 ram a pensar no seu matrimónio, conforme era costume na época. Cristina de 
 Espoleto opôs-se à ideia porque queria ser monja, mas os seus pais persisti
 ram na ideia porque queriam ter herdeiros. Quando teria doze anos e vendo q
 ue seria obrigada a contrair matrimónio, Cristina de Espoleto terá fugido c
 om uma jovem servente e tomado o hábito das irmãs de Santo Agostinho.\nOutr
 as fontes dizem que a Beata Cristina de Espoleto terá sido Agustina Camozzi
 , filha de um médico, e que terá casado com um artesão local. O marido terá
  morrido logo de seguida, ficando a beata viúva ainda muito jovem. Terá dep
 osi casado com um cavaleiro milanês de quem teve um filho que morreu muito 
 novo. Um outro militar apaixonou-se perdidamente por Cristina de Espoleto e
  terá assassinado o seu marido. Aí a beata terá decidido mudar totalmente d
 e vida, e desejando imitar Cristo terá tomado o hábito, feito votos solenes
  nas irmãs agostinianas e adotado o nome Cristina.\nO certo, sobre a Beata 
 Cristina de Espoleto, é que habitou em vários conventos como agostiniana se
 cular, mas não permaneceu muito tempo em nenhum para fugir de toda populari
 dade e viver no esquecimento mais absoluto, dedicada à penitência, a oração
  e as obras de misericórdia com os mais necessitados.\nNo ano de 1457, Cris
 tina de Espoleto com desejo de visitar os lugares santos de Assis, Roma e o
  Santo Sepulcro, começou uma peregrinação. Na companhia de outra terciária,
  chegou a Espoleto &ndash;na província de Perugia (região de Umbria &ndash;
  Itália) e aí permaneceu dedicando-se à assistência dos doentes no hospital
  da cidade. \nFaleceu a 13 de fevereiro de 1458.\nFoi beatificada pelo Papa
  Gregório XVI no ano de 1834. \n \nCuriosidade: Cristina significa aquela q
 ue segue o Messias.\n \n
DTSTAMP:20260420T053236Z
DTSTART;TZID=Europe/Lisbon;VALUE=DATE:20160213
DTEND;TZID=Europe/Lisbon;VALUE=DATE:20160214
SEQUENCE:0
TRANSP:OPAQUE
END:VEVENT
END:VCALENDAR