BEGIN:VCALENDAR
VERSION:2.0
PRODID:-//jEvents 2.0 for Joomla//EN
CALSCALE:GREGORIAN
METHOD:PUBLISH
BEGIN:VTIMEZONE
TZID:Europe/Lisbon
BEGIN:STANDARD
DTSTART:20170211T000000
RDATE:20170326T020000
TZOFFSETFROM:+0100
TZOFFSETTO:+0000
TZNAME:Europe/Lisbon WET
END:STANDARD
BEGIN:STANDARD
DTSTART:20171029T010000
RDATE:20180325T020000
TZOFFSETFROM:+0100
TZOFFSETTO:+0000
TZNAME:Europe/Lisbon WET
END:STANDARD
BEGIN:STANDARD
DTSTART:20181028T010000
RDATE:20190331T020000
TZOFFSETFROM:+0100
TZOFFSETTO:+0000
TZNAME:Europe/Lisbon WET
END:STANDARD
BEGIN:STANDARD
DTSTART:20191027T010000
RDATE:20200329T020000
TZOFFSETFROM:+0100
TZOFFSETTO:+0000
TZNAME:Europe/Lisbon WET
END:STANDARD
BEGIN:STANDARD
DTSTART:20201025T010000
RDATE:20210328T020000
TZOFFSETFROM:+0100
TZOFFSETTO:+0000
TZNAME:Europe/Lisbon WET
END:STANDARD
BEGIN:DAYLIGHT
DTSTART:20170326T020000
RDATE:20171029T010000
TZOFFSETFROM:+0000
TZOFFSETTO:+0100
TZNAME:Europe/Lisbon WEST
END:DAYLIGHT
BEGIN:DAYLIGHT
DTSTART:20180325T020000
RDATE:20181028T010000
TZOFFSETFROM:+0000
TZOFFSETTO:+0100
TZNAME:Europe/Lisbon WEST
END:DAYLIGHT
BEGIN:DAYLIGHT
DTSTART:20190331T020000
RDATE:20191027T010000
TZOFFSETFROM:+0000
TZOFFSETTO:+0100
TZNAME:Europe/Lisbon WEST
END:DAYLIGHT
BEGIN:DAYLIGHT
DTSTART:20200329T020000
RDATE:20201025T010000
TZOFFSETFROM:+0000
TZOFFSETTO:+0100
TZNAME:Europe/Lisbon WEST
END:DAYLIGHT
END:VTIMEZONE
BEGIN:VEVENT
UID:83fa784c2225f03d27f1e93671b0dac1
CATEGORIES:Santos
SUMMARY:Beato Reginaldo de Orleães
DESCRIPTION;ENCODING=QUOTED-PRINTABLE:Beato Reginaldo de Orleães nasceu no ano de 1175 na cidade de Saint Gilles,
  França e faleceu a 12 de fevereiro de 1220 em Paris.\nDesde pequeno que o 
 Beato Reginaldo de Orleães foi uma criança especial, possuía inteligência a
 cima da média e vocação religiosa. Reginaldo de Orleães era um comunicador 
 nato, e tornou-se uma figura extremamente carismática e singela, generoso c
 om o próximo, mas austero consigo mesmo. \nQuando atingiu a idade indicada,
  o beato foi estudar direito canónico na Universidade de Paris. No ano de 1
 206, depois de receber o diploma de doutor, foi convidado para ser professo
 r titular da cadeira de direito canónico, cargo que aceitou e exerceu duran
 te cinco anos. Beato Reginaldo de Orleães dividia o seu tempo com o trabalh
 o, o estudo, a caridade e a oração contemplativa unida a rígida penitência,
  alcançando grandes progressos espirituais.\nReginaldo de Orleães ficou con
 hecido e tornou-se respeitado quer no meio académico quer no meio do clero.
  Os que prezaram da sua companhia diziam que Reginaldo de Orleães era um gi
 gante durante os sermões; ardoroso e veemente, adquiria um brilho especial,
  fazendo com que a presença de Deus fosse sentida no ambiente e o no coraçã
 o dos ouvintes. \nNo início do ano de 1212, Reginaldo aceitou ser decano (c
 ardeal mais antigo) e canónico na diocese da cidade francesa de Orleães. Se
 mpre humilde, Reginaldo de Orleães continuou a cativar os fiéis com a sua o
 ratória. No ano de 1218, desejando definir em que Ordem ingressar, aceitou 
 acompanhar o bispo de Orleães numa peregrinação a Roma com destino à Terra 
 Santa. \nAo chegar ao Vaticano, o beato tomou conhecimento de sobre uma Ord
 em recém-criada, para a formação de padres predicantes, cujo fundador, o pa
 dre Domingos de Gusmão (http://www.paroquia-almancil.pt/utilidades/vida-dos
 -santos/icalrepeat.detail/2018/08/08/15589/-/s-domingos.html). \nEmbora int
 eressado na ordem, o Beato Reginaldo de Orleães decidiu seguir para Jerusal
 ém, mas logo depois regressou pois ficou gravemente doente. Apesar de desen
 ganado, o beato foi milagrosamente curado pela intercessão de Nossa Senhora
 , que lhe apareceu e mostrou um hábito. Reginaldo de Orleães percebeu que s
 e tratava da Ordem dos Padres Predicadores, indo procurar o seu fundador (D
 omingos de Gusmão), que o aceitou e lhe deu a primeira missão a ser executa
 da em Bolonha, Itália. Como grande predicador que era, Reginaldo de Orleães
  inflamou os ânimos dos seus ouvintes, despertando as vocações e induzindo 
 muitos a ingressarem na nova congregação. De modo que, o edifício da comuni
 dade, em Santa Maria de Mascarela, se tornou pequeno e tiveram de se transf
 erir para o outro convento, na propriedade rural de São Nicolau, não muito 
 distante. \nPelos resultados fantásticos e devido ao sucesso obtido em Bolo
 nha, no final do ano seguinte (1219), Reginaldo de Orleães foi enviado a Pa
 ris, para impulsionar aquela comunidade. O sucesso repetiu-se, pois ali tam
 bém a sua palestra entusiasmada exerceu um fascínio irresistível. \nFaleceu
  a 12 de fevereiro de 1220.\nFoi beatificado pelo Papa Pio IX em 1875.\n
DTSTAMP:20260419T235845Z
DTSTART;TZID=Europe/Lisbon;VALUE=DATE:20180212
DTEND;TZID=Europe/Lisbon;VALUE=DATE:20180213
SEQUENCE:0
TRANSP:OPAQUE
END:VEVENT
END:VCALENDAR