BEGIN:VCALENDAR
VERSION:2.0
PRODID:-//jEvents 2.0 for Joomla//EN
CALSCALE:GREGORIAN
METHOD:PUBLISH
BEGIN:VTIMEZONE
TZID:Europe/Lisbon
BEGIN:STANDARD
DTSTART:20150211T000000
RDATE:20150329T020000
TZOFFSETFROM:+0100
TZOFFSETTO:+0000
TZNAME:Europe/Lisbon WET
END:STANDARD
BEGIN:STANDARD
DTSTART:20151025T010000
RDATE:20160327T020000
TZOFFSETFROM:+0100
TZOFFSETTO:+0000
TZNAME:Europe/Lisbon WET
END:STANDARD
BEGIN:STANDARD
DTSTART:20161030T010000
RDATE:20170326T020000
TZOFFSETFROM:+0100
TZOFFSETTO:+0000
TZNAME:Europe/Lisbon WET
END:STANDARD
BEGIN:STANDARD
DTSTART:20171029T010000
RDATE:20180325T020000
TZOFFSETFROM:+0100
TZOFFSETTO:+0000
TZNAME:Europe/Lisbon WET
END:STANDARD
BEGIN:STANDARD
DTSTART:20181028T010000
RDATE:20190331T020000
TZOFFSETFROM:+0100
TZOFFSETTO:+0000
TZNAME:Europe/Lisbon WET
END:STANDARD
BEGIN:STANDARD
DTSTART:20191027T010000
RDATE:20200329T020000
TZOFFSETFROM:+0100
TZOFFSETTO:+0000
TZNAME:Europe/Lisbon WET
END:STANDARD
BEGIN:STANDARD
DTSTART:20201025T010000
RDATE:20210328T020000
TZOFFSETFROM:+0100
TZOFFSETTO:+0000
TZNAME:Europe/Lisbon WET
END:STANDARD
BEGIN:DAYLIGHT
DTSTART:20150329T020000
RDATE:20151025T010000
TZOFFSETFROM:+0000
TZOFFSETTO:+0100
TZNAME:Europe/Lisbon WEST
END:DAYLIGHT
BEGIN:DAYLIGHT
DTSTART:20160327T020000
RDATE:20161030T010000
TZOFFSETFROM:+0000
TZOFFSETTO:+0100
TZNAME:Europe/Lisbon WEST
END:DAYLIGHT
BEGIN:DAYLIGHT
DTSTART:20170326T020000
RDATE:20171029T010000
TZOFFSETFROM:+0000
TZOFFSETTO:+0100
TZNAME:Europe/Lisbon WEST
END:DAYLIGHT
BEGIN:DAYLIGHT
DTSTART:20180325T020000
RDATE:20181028T010000
TZOFFSETFROM:+0000
TZOFFSETTO:+0100
TZNAME:Europe/Lisbon WEST
END:DAYLIGHT
BEGIN:DAYLIGHT
DTSTART:20190331T020000
RDATE:20191027T010000
TZOFFSETFROM:+0000
TZOFFSETTO:+0100
TZNAME:Europe/Lisbon WEST
END:DAYLIGHT
BEGIN:DAYLIGHT
DTSTART:20200329T020000
RDATE:20201025T010000
TZOFFSETFROM:+0000
TZOFFSETTO:+0100
TZNAME:Europe/Lisbon WEST
END:DAYLIGHT
END:VTIMEZONE
BEGIN:VEVENT
UID:4c47ae76899beb28d33676e7d01aa1af
CATEGORIES:Santos
SUMMARY:Beato José Olallo Valdês
DESCRIPTION;ENCODING=QUOTED-PRINTABLE:\n\nBeato José Olallo Valdês nasceu a 12 de fevereiro de 1820 em Havana (Cu
 ba) e faleceu a 7 de março de 1889 em Santa Maria del Puerto del Principe (
 atual Camagüey, Cuba). Não se conhece a filiação do Beato José Olallo Valdê
 s, sabe-se apenas que foi uma das crianças abandonadas no dia 15 de março d
 e 1820 na Casa Berço São José de Havana, onde no mesmo dia recebeu o batism
 o, pelas mãos do Padre António Eusébio Ramos. Viveu e foi educado na mesma 
 Casa Berço até aos 7 anos, e depois na de Beneficência, manifestando-se um 
 rapaz sério e responsável. Por volta dos 13 anos ingressou na Ordem Hospita
 lária de São João de Deus, na comunidade do hospital dos santos Felipe e Sa
 ntiago, em Havana.\nSuperando os obstáculos que pareciam interpor-se à sua 
 vocação, mantém-se constante na sua decisão, emitindo a profissão como reli
 gioso hospitalário. Em abril de 1835 chega à cidade de Porto Príncipe, e co
 meça a trabalhar no Hospital de São João de Deus. Trabalhava de acordo com 
 a sua fé: atendia com especial afeto os doentes; instruía as crianças pobre
 s na doutrina cristã e ensinava-os a ler e a escrever; defendia os escravos
 . O povo da cidade conhecia-o como Padre Olallo, apesar de não ser sacerdot
 e.\nBeato José Olallo Valdês acolheu um rapaz pequeno que tinha problemas m
 entais e que tinha sido abandonado, a quem queria como um filho.\nDurante a
  luta pela independência de Cuba o hospital foi destinado ao uso dos milita
 res. No ano de 1868, e durante essa mesma luta, o beato recolheu o corpo do
  General Ignacio Agramonte, que jazia na frente do hospital e lavou o cadáv
 er para que o povo da cidade pudesse prestar tributo ao militar que antes o
 s havia livrado de importantes batalhas na guerra.\nO arcebispo de Santiago
  de Cuba, Monsenhor José Maria Martín de Herrera y de la Iglesia propôs-lhe
  que fosse ordenado sacerdote, mas o beato José Olallo Valdês recusou porqu
 e queria dedicar a sua vida aos pobres e aos doentes.\nDe 1876, em que morr
 eu seu último irmão de Comunidade, até à data de sua morte, em 1889, ficou 
 sozinho, mas seguiu com a mesma magnificência ocupando-se da assistência do
 s doentes, sempre fiel a Deus, à sua consciência, à sua vocação e ao carism
 a, humilde e obediente, com nobreza de coração, respeitando, servindo e ama
 ndo também os ingratos, os inimigos e aos invejosos, sem nunca abandonar se
 us votos religiosos.\nFicou doente em dezembro de 1887 e veio a morrer no d
 ia 7 de março de 1889, e quase toda a cidade participou no funeral deste gr
 ande homem.\nFoi beatificado a 29 de novembro de 2008.\n
DTSTAMP:20260420T062319Z
DTSTART;TZID=Europe/Lisbon;VALUE=DATE:20160212
DTEND;TZID=Europe/Lisbon;VALUE=DATE:20160213
SEQUENCE:0
TRANSP:OPAQUE
END:VEVENT
END:VCALENDAR