BEGIN:VCALENDAR
VERSION:2.0
PRODID:-//jEvents 2.0 for Joomla//EN
CALSCALE:GREGORIAN
METHOD:PUBLISH
BEGIN:VTIMEZONE
TZID:Europe/Lisbon
BEGIN:STANDARD
DTSTART:20150208T000000
RDATE:20150329T020000
TZOFFSETFROM:+0100
TZOFFSETTO:+0000
TZNAME:Europe/Lisbon WET
END:STANDARD
BEGIN:STANDARD
DTSTART:20151025T010000
RDATE:20160327T020000
TZOFFSETFROM:+0100
TZOFFSETTO:+0000
TZNAME:Europe/Lisbon WET
END:STANDARD
BEGIN:STANDARD
DTSTART:20161030T010000
RDATE:20170326T020000
TZOFFSETFROM:+0100
TZOFFSETTO:+0000
TZNAME:Europe/Lisbon WET
END:STANDARD
BEGIN:STANDARD
DTSTART:20171029T010000
RDATE:20180325T020000
TZOFFSETFROM:+0100
TZOFFSETTO:+0000
TZNAME:Europe/Lisbon WET
END:STANDARD
BEGIN:STANDARD
DTSTART:20181028T010000
RDATE:20190331T020000
TZOFFSETFROM:+0100
TZOFFSETTO:+0000
TZNAME:Europe/Lisbon WET
END:STANDARD
BEGIN:STANDARD
DTSTART:20191027T010000
RDATE:20200329T020000
TZOFFSETFROM:+0100
TZOFFSETTO:+0000
TZNAME:Europe/Lisbon WET
END:STANDARD
BEGIN:STANDARD
DTSTART:20201025T010000
RDATE:20210328T020000
TZOFFSETFROM:+0100
TZOFFSETTO:+0000
TZNAME:Europe/Lisbon WET
END:STANDARD
BEGIN:DAYLIGHT
DTSTART:20150329T020000
RDATE:20151025T010000
TZOFFSETFROM:+0000
TZOFFSETTO:+0100
TZNAME:Europe/Lisbon WEST
END:DAYLIGHT
BEGIN:DAYLIGHT
DTSTART:20160327T020000
RDATE:20161030T010000
TZOFFSETFROM:+0000
TZOFFSETTO:+0100
TZNAME:Europe/Lisbon WEST
END:DAYLIGHT
BEGIN:DAYLIGHT
DTSTART:20170326T020000
RDATE:20171029T010000
TZOFFSETFROM:+0000
TZOFFSETTO:+0100
TZNAME:Europe/Lisbon WEST
END:DAYLIGHT
BEGIN:DAYLIGHT
DTSTART:20180325T020000
RDATE:20181028T010000
TZOFFSETFROM:+0000
TZOFFSETTO:+0100
TZNAME:Europe/Lisbon WEST
END:DAYLIGHT
BEGIN:DAYLIGHT
DTSTART:20190331T020000
RDATE:20191027T010000
TZOFFSETFROM:+0000
TZOFFSETTO:+0100
TZNAME:Europe/Lisbon WEST
END:DAYLIGHT
BEGIN:DAYLIGHT
DTSTART:20200329T020000
RDATE:20201025T010000
TZOFFSETFROM:+0000
TZOFFSETTO:+0100
TZNAME:Europe/Lisbon WEST
END:DAYLIGHT
END:VTIMEZONE
BEGIN:VEVENT
UID:f4018f2234bb809467343dd7a16cc3ba
CATEGORIES:Santos
SUMMARY:Santa Apolónia
DESCRIPTION;ENCODING=QUOTED-PRINTABLE:Santa Apolónia também é conhecida como Santa Apolónia de Alexandria. Nada s
 e sabe da vida da santa até ao momento do seu martírio.\nHistoricamente, Sa
 nta Apolónia viveu no tempo do Império Romano (27 a.C &ndash; 476 d.C). Sab
 e-se que o martírio da santa ocorreu no ano de 249 em Alexandria (Egipto) m
 as desconhece-se a data do seu nascimento.\nDurante os reinados do Imperado
 r Filipe I, o Árabe, (244-249) e de Trajano Décio (249-251), multidões fero
 zes na cidade de Alexandria (Egipto) saíam às ruas à caça de cristãos. \nO 
 martírio de Santa Apolónia é contado por São Dionísio, bispo de Alexandria 
 numa carta enviada ao bispo de Antioquia no ano de 249. Segundo algumas fon
 tes o bispo terá escrito: &ldquo;No dia 9 de fevereiro, um charlatão alexan
 drino, "maligno adivinho e falso profeta", que insuflava a população pagã, 
 sempre pronta a se agitar, provocou uma terrível revolta. As casas dos cris
 tãos foram invadidas. Os pagãos saquearam os vizinhos católicos ou aqueles 
 que estivessem mais próximos, levando as jóias e objetos preciosos. Os móve
 is e as roupas foram levados para uma praça, onde ergueram uma grande fogue
 ira. Os cristãos, mesmo os velhos e as crianças, foram arrastados pelas rua
 s, espancados, escorraçados e, condenados a morte, caso não renegassem a fé
  em voz alta. A cidade parecia que tinha sido tomada por uma multidão de de
 mónios enfurecidos".\nContinua o bispo, &ldquo;naquele momento Apolónia, pa
 rthénos presbytis (traduzido por uns como diaconisa ou por outros de idade 
 avançada) foi considerada por eles uma pessoa importante. Eles amarraram es
 ta preciosa virgem, quebraram todos os seus dentes com socos nos maxilares,
  fizeram uma fogueira e ameaçaram queimá-la viva, mas ela continuava recusa
 ndo-se a recitar as blasfémias que eles queriam que recitasse. Então, de re
 pente, ela mesma entrou na pira e foi logo envolvida de um fogo do "Espirit
 o Santo" pois, lá de dentro, ela nos olhava com o rosto de uma cristã sem n
 enhum medo."\nMuitos dos presentes converteram-se ao presenciar este fato.\
 nSanta Apolónia faleceu no ano de 249.\n \nSanta Apolónia foi canonizada no
  ano 300. É padroeira dos dentistas, dos que sofrem de dores na boca e prob
 lemas nos dentes.\n \nSanta Apolónia rogai por nós!\n
DTSTAMP:20260420T025755Z
DTSTART;TZID=Europe/Lisbon;VALUE=DATE:20160209
DTEND;TZID=Europe/Lisbon;VALUE=DATE:20160210
SEQUENCE:0
TRANSP:OPAQUE
END:VEVENT
END:VCALENDAR