BEGIN:VCALENDAR
VERSION:2.0
PRODID:-//jEvents 2.0 for Joomla//EN
CALSCALE:GREGORIAN
METHOD:PUBLISH
BEGIN:VTIMEZONE
TZID:Europe/Lisbon
END:VTIMEZONE
BEGIN:VEVENT
UID:1d642e365ff89cb2b29ed20d50638d52
CATEGORIES:Santos
SUMMARY:Teodósio, o Cenobiarca
DESCRIPTION;ENCODING=QUOTED-PRINTABLE:\n\n\n\n\n \nCenobiarca, significa líder daqueles que vivem juntos. Foi enq
 uanto abade do Mosteiro de Catismo, que Teodósio obteve maior fama.\nTeodós
 io opôs-se profindamente à heresia eutiquiana, ou monodisista, defendendo c
 om igual fervor a ortodoxia. \nSão-lhe atribuídos inúmeros milagres. Diz-se
  que teria 105 anos, quando Teodósio morreu, com "a pele seca como pedra".\
 n\nNascimento: ano 423 d.C., na Capadócia, atual Turquia\nMorte: ano 529 d.
 C., perto de Belém, Israel\n\n
DTSTAMP:20260421T113811Z
DTSTART;TZID=Europe/Lisbon;VALUE=DATE:20280111
DTEND;TZID=Europe/Lisbon;VALUE=DATE:20280112
SEQUENCE:0
TRANSP:OPAQUE
END:VEVENT
END:VCALENDAR