BEGIN:VCALENDAR
VERSION:2.0
PRODID:-//jEvents 2.0 for Joomla//EN
CALSCALE:GREGORIAN
METHOD:PUBLISH
BEGIN:VTIMEZONE
TZID:Europe/Lisbon
BEGIN:STANDARD
DTSTART:20160207T000000
RDATE:20160327T020000
TZOFFSETFROM:+0100
TZOFFSETTO:+0000
TZNAME:Europe/Lisbon WET
END:STANDARD
BEGIN:STANDARD
DTSTART:20161030T010000
RDATE:20170326T020000
TZOFFSETFROM:+0100
TZOFFSETTO:+0000
TZNAME:Europe/Lisbon WET
END:STANDARD
BEGIN:STANDARD
DTSTART:20171029T010000
RDATE:20180325T020000
TZOFFSETFROM:+0100
TZOFFSETTO:+0000
TZNAME:Europe/Lisbon WET
END:STANDARD
BEGIN:STANDARD
DTSTART:20181028T010000
RDATE:20190331T020000
TZOFFSETFROM:+0100
TZOFFSETTO:+0000
TZNAME:Europe/Lisbon WET
END:STANDARD
BEGIN:STANDARD
DTSTART:20191027T010000
RDATE:20200329T020000
TZOFFSETFROM:+0100
TZOFFSETTO:+0000
TZNAME:Europe/Lisbon WET
END:STANDARD
BEGIN:STANDARD
DTSTART:20201025T010000
RDATE:20210328T020000
TZOFFSETFROM:+0100
TZOFFSETTO:+0000
TZNAME:Europe/Lisbon WET
END:STANDARD
BEGIN:DAYLIGHT
DTSTART:20160327T020000
RDATE:20161030T010000
TZOFFSETFROM:+0000
TZOFFSETTO:+0100
TZNAME:Europe/Lisbon WEST
END:DAYLIGHT
BEGIN:DAYLIGHT
DTSTART:20170326T020000
RDATE:20171029T010000
TZOFFSETFROM:+0000
TZOFFSETTO:+0100
TZNAME:Europe/Lisbon WEST
END:DAYLIGHT
BEGIN:DAYLIGHT
DTSTART:20180325T020000
RDATE:20181028T010000
TZOFFSETFROM:+0000
TZOFFSETTO:+0100
TZNAME:Europe/Lisbon WEST
END:DAYLIGHT
BEGIN:DAYLIGHT
DTSTART:20190331T020000
RDATE:20191027T010000
TZOFFSETFROM:+0000
TZOFFSETTO:+0100
TZNAME:Europe/Lisbon WEST
END:DAYLIGHT
BEGIN:DAYLIGHT
DTSTART:20200329T020000
RDATE:20201025T010000
TZOFFSETFROM:+0000
TZOFFSETTO:+0100
TZNAME:Europe/Lisbon WEST
END:DAYLIGHT
END:VTIMEZONE
BEGIN:VEVENT
UID:a6eea878ef4c1849b26d81407783b30f
CATEGORIES:Santos
SUMMARY:Cinco Chagas do Senhor
DESCRIPTION;ENCODING=QUOTED-PRINTABLE:As Cinco Chagas do Senhor, que hoje celebramos, são as feridas feitas no co
 rpo de Jesus no momento da sua crucificação. Uma em cada um dos seus pés e 
 mãos, feitas pelos pregos que O pregaram na cruz e a última, no seu lado, f
 eita pela lança do soldado romano. Segundo o site gaudium press, esse solda
 do romano chamar-se-ia Longinus e ter-se-á convertido ao catolicismo.\nEsta
  Festa Litúrgica, eminentemente Portuguesa, tem uma longa tradição que remo
 nta aos primórdios da nossa nacionalidade. São Bernardo de Claraval (http:/
 /www.paroquia-almancil.pt/utilidades/vida-dos-santos/icalrepeat.detail/2018
 /08/20/18513/-/s-bernardo.html), primo de D. Afonso Henriques, primeiro rei
  de Portugal, foi um grande difusor da devoção às Chagas de Jesus. Tendo en
 viado monges para o Mosteiro de Alcobaça, Portugal, dali os religiosos prop
 agaram a devoção que acabou ficando impregnada na alma dos portugueses.\nEs
 sa devoção conquistou a nação lusa de tal maneira, que a atual bandeira tem
  ainda presentes as Cinco Chagas de Cristo, que nem o vento do Liberalismo 
 nem a fúria anticlerical da República ousou retirar. Esta é uma festa litúr
 gica portuguesa e do mundo português que nos foi concedida pelos Romanos Po
 ntífices, a partir do Papa Bento XIV (1740-1758).\nLuís de Camões na sua ob
 ra &ldquo;Os Lusíadas&rdquo; publicada em 1572, faz eco da devoção dos port
 ugueses às cinco chagas do Senhor (Canto I, 7).\n"Vós, tenro e novo ramo fl
 orescente\nDe uma árvore de Cristo mais amada\nQue nenhuma nascida no Ocide
 nte,\nCesárea ou Cristianíssima chamada;\n(Vede-o no vosso escudo, que pres
 ente\nVos amostra a vitória já passada,\nNa qual vos deu por armas, e deixo
 u\nAs que Ele para si na Cruz tomou)".\nO primeiro ato de adoração às Santa
 s Chagas do Senhor foi realizado pela Virgem Maria quando desceram Jesus da
  Cruz. \nJesus é descido da Cruz. Cuidadosamente, Nicodemos, José de Arimat
 éia e São João conduzem-nO até Maria e depositam-nO no seu regaço. Maria, t
 respassada de dor, por ter acabado de ver o seu filho morrer, acolhe-O e ad
 ora-O.\nPodemos até imaginar que enquanto as outras mulheres preparam os bá
 lsamos com que irão em breve ungi-Lo, para ser depositado no sepulcro, a Vi
 rgem Maria contempla uma a uma, as cinco chagas do seu divino filho Jesus C
 risto.\nPor causa daquelas Santíssimas Chagas, Maria foi preservada do peca
 do original e aos Homens de boa vontade abriram-se as portas do Céu.\nPouco
 s dias após a ressurreição, é o próprio Redentor que convida o incrédulo To
 mé a ter devoção às suas Santas Chagas. Já deslumbrado, São Tomé (http://ww
 w.paroquia-almancil.pt/utilidades/vida-dos-santos/icalrepeat.detail/2018/07
 /03/58028/-/s-tom%C3%A9.html) respondeu-Lhe: &ldquo;Meu Senhor e meu Deus!&
 rdquo; De São Tomé até nossos dias, muitos foram os devotos e propagadores 
 desta belíssima devoção. \nSão Francisco de Assis (http://www.paroquia-alma
 ncil.pt/utilidades/vida-dos-santos/icalrepeat.detail/2018/10/04/48947/-/s-f
 rancisco-de-assis.html), e São Pio de Pietrelcina (http://www.paroquia-alma
 ncil.pt/utilidades/vida-dos-santos/icalrepeat.detail/2018/09/23/58110/-/s-p
 io-de-pietrelcina.html) são dois santos que foram compensados com os estigm
 as da Paixão de Cristo. É um modo maravilhoso de Deus condecorar alguns daq
 ueles a quem mais ama, na face da terra.\n
DTSTAMP:20260420T033138Z
DTSTART;TZID=Europe/Lisbon;VALUE=DATE:20170207
DTEND;TZID=Europe/Lisbon;VALUE=DATE:20170208
SEQUENCE:0
TRANSP:OPAQUE
END:VEVENT
END:VCALENDAR