BEGIN:VCALENDAR
VERSION:2.0
PRODID:-//jEvents 2.0 for Joomla//EN
CALSCALE:GREGORIAN
METHOD:PUBLISH
BEGIN:VTIMEZONE
TZID:Europe/Lisbon
BEGIN:STANDARD
DTSTART:20200206T000000
RDATE:20200329T020000
TZOFFSETFROM:+0100
TZOFFSETTO:+0000
TZNAME:Europe/Lisbon WET
END:STANDARD
BEGIN:STANDARD
DTSTART:20201025T010000
RDATE:20210328T020000
TZOFFSETFROM:+0100
TZOFFSETTO:+0000
TZNAME:Europe/Lisbon WET
END:STANDARD
BEGIN:DAYLIGHT
DTSTART:20200329T020000
RDATE:20201025T010000
TZOFFSETFROM:+0000
TZOFFSETTO:+0100
TZNAME:Europe/Lisbon WEST
END:DAYLIGHT
END:VTIMEZONE
BEGIN:VEVENT
UID:d0cf9d37cc0b5e7ae7a8256a1f6a2e46
CATEGORIES:Santos
SUMMARY:São Paulo Miki e Companheiros
DESCRIPTION;ENCODING=QUOTED-PRINTABLE:São Paulo Miki nasceu no ano 1564 em Tsunokuni, Japão e faleceu a 5 de feve
 reiro de 1597. São Paulo Miki era filho de um nobre e famoso militar japonê
 s, pertencente a uma família de samurais.  A sua família era cristã, e São 
 Paulo Miki estudou no Colégio Jesuíta de Anziquiama, Japão.\nA convivência 
 no colégio, despertou em São Paulo Miki o desejo de se tornar jesuíta. Por 
 isso, pediu para ingressar na Ordem o que foi aceite.\nSão Paulo Miki era u
 m homem de oração profunda e um pregador de grande eloquência. As suas preg
 ações arrebatavam os corações e confirmavam os japoneses na fé. São Paulo M
 iki não pode ser ordenado na altura correta por não haver nenhum bispo na r
 egião japonesa de Fusai. Mesmo assim, Paulo Miki continuou com seu ministér
 io de pregação. Alguns anos depois São Paulo Miki tornou-se o primeiro japo
 nês a ser ordenado padre no Japão. Uma vez padre, conquistou inúmeros coraç
 ões por causa de seu testemunho de humildade e paciência.\nTudo corria bem 
 até que o imperador Toyotomi Hideyoshi que anteriormente simpatizava com o 
 catolicismo e o permitia no Japão se tornou um feroz perseguidor da fé em C
 risto. O motivo dessa mudança foi político. Por ter conquistado a Coreia, o
  Japão rompeu relações com a Espanha e com todo o Ocidente, motivando uma p
 erseguição contra todos os cristãos.\nOs católicos passaram então a ser exp
 ulsos do país, mas muitos cristãos decidiram ficar. E a repressão não tardo
 u. O imperador começou por mandar prender seis franciscanos, logo depois Sã
 o Paulo Miki com outros dois jesuítas e um grupo de dezassete leigos compan
 heiros de Paulo Miki e membros de ordens terceiras. Esse grupo de vinte e s
 eis cristãos foi vítima de humilhações e torturas públicas das mais terríve
 is.\nOs vinte e seis cristãos sofreram terríveis humilhações e torturas púb
 licas. Levados em cortejo de Meaco a Nagasaki foram alvo de violência e zom
 baria pelas ruas e estradas, enquanto seguiam para o local onde seria execu
 tada a pena de morte por crucificação. \nAlguns dos companheiros de São Pau
 lo Miki eram muito novos, contudo enfrentaram a pena de morte com a mesma c
 oragem do líder. Sabemos o nome de alguns: Tomáz Cozaki, 14 anos; Antônio, 
 13 e Luis Ibaraki, 11.\nSão Paulo Miki e os seus companheiros foram crucifi
 cados na colina que ficou conhecida como &ldquo;Monte dos Mártires&rdquo;, 
 em Nagazaki, no ano de 1597.\nForam canonizados pelo Papa Pio IX a 8 de jun
 ho de 1862.\nSão Paulo Miki e companheiros mártires rogai por nós!\n
DTSTAMP:20260420T060338Z
DTSTART;TZID=Europe/Lisbon;VALUE=DATE:20210206
DTEND;TZID=Europe/Lisbon;VALUE=DATE:20210207
SEQUENCE:0
TRANSP:OPAQUE
END:VEVENT
END:VCALENDAR