BEGIN:VCALENDAR
VERSION:2.0
PRODID:-//jEvents 2.0 for Joomla//EN
CALSCALE:GREGORIAN
METHOD:PUBLISH
BEGIN:VEVENT
UID:44e7504562263ca726cb146e3e78e14e
CATEGORIES:Santos
SUMMARY:William Laud
DESCRIPTION;ENCODING=QUOTED-PRINTABLE:\n\n\nWilliam Laud frequentou a universidade de Oxford e rapidamente se tor
 nou o clérigo inglês mais brilhante do seu tempo, um grande intelectual e a
 dministrador competente.\nEm 1630 chegou a chanceler de Oxford e em 1633 fo
 i nomeado arcebispo da Cantuária. No entanto, o seu legado não é apreciado 
 de forma unânime. \nEra partidário assumido da Igreja Alta Anglicana e um a
 dversário implacável do puritanismo. O Parlamento mandou prendê-lo em 1641,
  tendo sido decapitado quatro anos depois.\n\nNascimento: ano 1573 d.C. em 
 Reading, Inglaterra\nMorte: ano 1645 d.C. em Londres, Inglaterra\n
DTSTAMP:20260424T053507Z
DTSTART;TZID=Europe/Lisbon;VALUE=DATE:20420110
DTEND;TZID=Europe/Lisbon;VALUE=DATE:20420111
SEQUENCE:0
TRANSP:OPAQUE
END:VEVENT
END:VCALENDAR