BEGIN:VCALENDAR
VERSION:2.0
PRODID:-//jEvents 2.0 for Joomla//EN
CALSCALE:GREGORIAN
METHOD:PUBLISH
BEGIN:VTIMEZONE
TZID:Europe/Lisbon
BEGIN:STANDARD
DTSTART:20140203T000000
RDATE:20140330T020000
TZOFFSETFROM:+0100
TZOFFSETTO:+0000
TZNAME:Europe/Lisbon WET
END:STANDARD
BEGIN:STANDARD
DTSTART:20141026T010000
RDATE:20150329T020000
TZOFFSETFROM:+0100
TZOFFSETTO:+0000
TZNAME:Europe/Lisbon WET
END:STANDARD
BEGIN:STANDARD
DTSTART:20151025T010000
RDATE:20160327T020000
TZOFFSETFROM:+0100
TZOFFSETTO:+0000
TZNAME:Europe/Lisbon WET
END:STANDARD
BEGIN:STANDARD
DTSTART:20161030T010000
RDATE:20170326T020000
TZOFFSETFROM:+0100
TZOFFSETTO:+0000
TZNAME:Europe/Lisbon WET
END:STANDARD
BEGIN:STANDARD
DTSTART:20171029T010000
RDATE:20180325T020000
TZOFFSETFROM:+0100
TZOFFSETTO:+0000
TZNAME:Europe/Lisbon WET
END:STANDARD
BEGIN:STANDARD
DTSTART:20181028T010000
RDATE:20190331T020000
TZOFFSETFROM:+0100
TZOFFSETTO:+0000
TZNAME:Europe/Lisbon WET
END:STANDARD
BEGIN:STANDARD
DTSTART:20191027T010000
RDATE:20200329T020000
TZOFFSETFROM:+0100
TZOFFSETTO:+0000
TZNAME:Europe/Lisbon WET
END:STANDARD
BEGIN:STANDARD
DTSTART:20201025T010000
RDATE:20210328T020000
TZOFFSETFROM:+0100
TZOFFSETTO:+0000
TZNAME:Europe/Lisbon WET
END:STANDARD
BEGIN:DAYLIGHT
DTSTART:20140330T020000
RDATE:20141026T010000
TZOFFSETFROM:+0000
TZOFFSETTO:+0100
TZNAME:Europe/Lisbon WEST
END:DAYLIGHT
BEGIN:DAYLIGHT
DTSTART:20150329T020000
RDATE:20151025T010000
TZOFFSETFROM:+0000
TZOFFSETTO:+0100
TZNAME:Europe/Lisbon WEST
END:DAYLIGHT
BEGIN:DAYLIGHT
DTSTART:20160327T020000
RDATE:20161030T010000
TZOFFSETFROM:+0000
TZOFFSETTO:+0100
TZNAME:Europe/Lisbon WEST
END:DAYLIGHT
BEGIN:DAYLIGHT
DTSTART:20170326T020000
RDATE:20171029T010000
TZOFFSETFROM:+0000
TZOFFSETTO:+0100
TZNAME:Europe/Lisbon WEST
END:DAYLIGHT
BEGIN:DAYLIGHT
DTSTART:20180325T020000
RDATE:20181028T010000
TZOFFSETFROM:+0000
TZOFFSETTO:+0100
TZNAME:Europe/Lisbon WEST
END:DAYLIGHT
BEGIN:DAYLIGHT
DTSTART:20190331T020000
RDATE:20191027T010000
TZOFFSETFROM:+0000
TZOFFSETTO:+0100
TZNAME:Europe/Lisbon WEST
END:DAYLIGHT
BEGIN:DAYLIGHT
DTSTART:20200329T020000
RDATE:20201025T010000
TZOFFSETFROM:+0000
TZOFFSETTO:+0100
TZNAME:Europe/Lisbon WEST
END:DAYLIGHT
END:VTIMEZONE
BEGIN:VEVENT
UID:d15fbd750c568b45ca91eac148866677
CATEGORIES:Santos
SUMMARY:Santa Catarina de Ricci
DESCRIPTION;ENCODING=QUOTED-PRINTABLE:Santa Catarina de Ricci nasceu a 23 de abril de 1522 em Florença e faleceu 
 a 1 de fevereiro de 1590 em Prato (Itália). Era filha dos nobres Pedro Fran
 cisco e Catarina, e tinha três irmãos, todos rapazes. Foi batizada como Ale
 ssandra Lucrezia Romola. Ficou órfã de mãe aos 3 anos.\nSanta Catarina pass
 ou então a ser criada pela sua avó paterna (segundo algumas fontes, pela su
 a madrinha segundo outras fontes). O certo é que a jovem santa Catarina de 
 Ricci considerava a Virgem Maria como a sua verdadeira mãe e enquanto crian
 ça conseguia falar com o seu anjo da guarda que lhe ensinava preces para o 
 rosário.\nAos 6 anos entrou para o convento-escola em Montecelli em Florenç
 a (Itália), onde a sua tia, Louisa del Ricci, era abadessa.  Santa Catarina
  de Ricci desenvolveu uma enorme devoção à Paixão de Cristo e pretendia ent
 rar definitivamente para o convento. O seu pai, opunha-se aos seus planos, 
 contudo depois de falar com o seu irmão (tio paterno de Catarina) o padre T
 imóteo permitiu que Catarina ingressasse no convento. Assim tomou o hábito 
 da Ordem Dominicana no convento do Prado aos 14 anos, mudou o nome de Aless
 andra para Catarina em memória da sua mãe e de Santa Catarina de Sena (http
 ://www.paroquia-almancil.pt/utilidades/vida-dos-santos/icalrepeat.detail/20
 18/04/29/57863/-/s-catarina-de-sena.html).\nFoi eleita superiora apenas com
  25 anos cargo que ocupou até a morte. Santa Catarina de Ricci governava pe
 lo bom exemplo na prática de todas as virtudes, conseguindo assim que na co
 munidade reinasse sempre ótimo espírito, e as religiosas esforçavam-se por 
 seguir o exemplo da superiora.\nCom 20 anos Santa Catarina de Ricci começou
  um ciclo de 12 semanas de êxtases da Paixão, iniciando na quinta-feira ao 
 meio dia e indo até sexta-feira às 16 horas, sempre acompanhado de sérios f
 erimentos e chagas. As outras freiras podiam seguir o curso da Paixão pelos
  ferimentos que apareciam em ordem cronológica - desde os açoites, à coroa 
 de espinhos e os ferimentos na Cruz - e, quando o êxtase finalmente termina
 va, Santa Catarina de Ricci estava coberta de ferimentos, com os ombros pro
 fundamente afundados onde a madeira da cruz se teria apoiado. Na primeira v
 ez, na quaresma de 1542, ela meditava tão completamente na crucificação que
  ficou doente, só melhorando com a visão de Jesus levantando-se do sepulcro
  e falando com Maria Madalena no domingo.\nGrandes e extraordinárias foram 
 também as graças, de que Deus cumulou sua serva. Catarina possuía o dom da 
 profecia, do conhecimento de coisas ocultas, da cura de doenças e da multip
 licação de mantimentos em favor dos pobres.\nSanta Catarina de Ricci falece
 u a 11 de fevereiro de 1590, e foi canonizada pelo Papa Bento XIV no ano de
  1746.\n\nSanta Catarina de Ricci rogai por nós! \n
DTSTAMP:20260422T104039Z
DTSTART;TZID=Europe/Lisbon;VALUE=DATE:20150204
DTEND;TZID=Europe/Lisbon;VALUE=DATE:20150205
SEQUENCE:0
TRANSP:OPAQUE
END:VEVENT
END:VCALENDAR