BEGIN:VCALENDAR
VERSION:2.0
PRODID:-//jEvents 2.0 for Joomla//EN
CALSCALE:GREGORIAN
METHOD:PUBLISH
BEGIN:VTIMEZONE
TZID:Europe/Lisbon
BEGIN:STANDARD
DTSTART:20170202T000000
RDATE:20170326T020000
TZOFFSETFROM:+0100
TZOFFSETTO:+0000
TZNAME:Europe/Lisbon WET
END:STANDARD
BEGIN:STANDARD
DTSTART:20171029T010000
RDATE:20180325T020000
TZOFFSETFROM:+0100
TZOFFSETTO:+0000
TZNAME:Europe/Lisbon WET
END:STANDARD
BEGIN:STANDARD
DTSTART:20181028T010000
RDATE:20190331T020000
TZOFFSETFROM:+0100
TZOFFSETTO:+0000
TZNAME:Europe/Lisbon WET
END:STANDARD
BEGIN:STANDARD
DTSTART:20191027T010000
RDATE:20200329T020000
TZOFFSETFROM:+0100
TZOFFSETTO:+0000
TZNAME:Europe/Lisbon WET
END:STANDARD
BEGIN:STANDARD
DTSTART:20201025T010000
RDATE:20210328T020000
TZOFFSETFROM:+0100
TZOFFSETTO:+0000
TZNAME:Europe/Lisbon WET
END:STANDARD
BEGIN:DAYLIGHT
DTSTART:20170326T020000
RDATE:20171029T010000
TZOFFSETFROM:+0000
TZOFFSETTO:+0100
TZNAME:Europe/Lisbon WEST
END:DAYLIGHT
BEGIN:DAYLIGHT
DTSTART:20180325T020000
RDATE:20181028T010000
TZOFFSETFROM:+0000
TZOFFSETTO:+0100
TZNAME:Europe/Lisbon WEST
END:DAYLIGHT
BEGIN:DAYLIGHT
DTSTART:20190331T020000
RDATE:20191027T010000
TZOFFSETFROM:+0000
TZOFFSETTO:+0100
TZNAME:Europe/Lisbon WEST
END:DAYLIGHT
BEGIN:DAYLIGHT
DTSTART:20200329T020000
RDATE:20201025T010000
TZOFFSETFROM:+0000
TZOFFSETTO:+0100
TZNAME:Europe/Lisbon WEST
END:DAYLIGHT
END:VTIMEZONE
BEGIN:VEVENT
UID:977855d7852c6641c77780aa6b12b6bb
CATEGORIES:Santos
SUMMARY:Beata Josefina Nicola
DESCRIPTION;ENCODING=QUOTED-PRINTABLE:Beata Josefina Nicola nasceu em Casatisma (Pavia, Itália) a 18 de novembro 
 de 1863 e faleceu a 31 de dezembro de 1924. Josefina Nicola era a quinta da
 s dez crianças de uma família de classe média de fé profunda.\nA beata Jose
 fina Nicola estudou com as freiras agostinianas em Voghera e depois em Pavi
 a. O seu desejo secreto era dedicar-se à educação de crianças pobres devido
  à elevada taxa de analfabetismo entre as pessoas com os menores recursos. 
 O desejo de Josefina Nicola foi amadurecido, sobretudo, através da experiên
 cia da dor, que visitou a sua família com a morte de alguns de seus filhos 
 (algumas fontes indicam que a morte foi de irmãos da beata e não de filhos)
 , entre eles Juan, de quem Josefina se tornou enfermeira pessoal. No meio d
 essas situações dolorosas, Josefina Nicola aprendeu a considerar o valor da
  vida e a fragilidade das coisas humanas.\nJosefina Nicola era amada por to
 dos, sua doce natureza era um presente natural; e um padre de Voghera, Don 
 Giacomo Prinetti, seu diretor espiritual, guiou-a no caminho da perfeição d
 o espírito.  A 24 de setembro de 1883, Josefina Nicola entrou na Companhia 
 das Filhas da Caridade de São Vicente de Paulo, na casa "San Salvario" em T
 urim, onde fez o apostolado e o noviciado. Recebeu o hábito da Companhia na
  cidade de Paris, numa cerimónia que ocorreu na Casa Mãe das Filhas da Cari
 dade.\nA beata Josefina Nicola foi transferida para a Sardenha no ano de 18
 85 e a sua primeira missão foi ensinar no "Conservatório de Providencia" em
  Cagliari. A experiência educacional entre as meninas pobres marcou-a de fo
 rma especial. No ano de 1886, a cidade de Cagliari foi atormentada pela epi
 demia de cólera e Josefina Nicola, juntamente com as irmãs do conservatório
 , dedicaram-se a ajudar as famílias pobres da cidade, organizando "cozinhas
  económicas" que foram disponibilizadas às autoridades civis. Este serviço 
 permitiu-lhes conhecer os meninos abandonados nas ruas de Cagliari, ensinan
 do-lhes o catecismo. Mais tarde a beata organizou uma associação chamada "O
 s Luisitos", encorajando-os os rapazes a viver uma atitude de ajuda fratern
 a e educando-os para uma sociabilidade saudável que levou muitos deles a mu
 dar de vida.\nApós quase quinze anos de vida apostólica ativa em Cagliari, 
 no ano de 1889 foi transferida para o orfanato de Sássari. Lá, também, dese
 nvolveu um amplo projeto apostólico, organizando várias instituições sempre
  orientadas para servir os pobres. \nEntre 1910 e 1913 trabalhou em Turim. 
 Primeiro foi nomeada Tesoureira Provincial e, algum tempo depois, tornou-se
  Diretora da casa de formação das Filhas da Caridade, missão a que se dedic
 ou com grande dedicação. Contudo, a beata Josefina Nicola ficou gravemente 
 doente com tuberculose e foi transferida para a Sardenha.\nNo ano de 1914, 
 Josefina Nicola regressa a Sássari, onde reinava um ambiente hostil por cau
 sa do anticlericalismo. A sua permanência nas ilhas melhorou o estado de su
 a saúde, mas começou o seu calvário interior. Uma série de mal-entendidos e
  falsos testemunhos pela administração do orfanato forçaram os superiores a
  declará-la incapaz de administrar o orfanato. A Irmã Josefina Nicola aceit
 ou esta humilhação em silêncio.\nA beata Josefina Nicola foi então transfer
 ida para o Asilo da Marinha, em Cagliari. Aí encontrou-se no meio de um bai
 rro superlotado, localizado nas proximidades do porto, e onde a pobreza ati
 ngiu taxas muito altas, tornando as condições de vida muito precárias. Às c
 rianças, por serem pobres, foi-lhes negado o direito à educação, o que favo
 receu o mau comportamento.\nEm contato direto com a pobreza material, Josef
 ina Nicola descobriu ainda mais feridas secretas: as da pobreza moral e esp
 iritual. O seu zelo apostólico encorajou-a a sair novamente aos jovens, ens
 inando-lhes o catecismo e orientando aqueles que migraram das áreas rurais 
 para a cidade. Fundou a primeira seção na Itália do "Pequeno trabalho de Lu
 ísa de Marillac" (http://www.paroquia-almancil.pt/utilidades/vida-dos-santo
 s/icalrepeat.detail/2018/03/15/57616/-/s-lu%C3%ADsa-de-marillac.html) e o p
 rimeiro grupo da Ação das Mulheres Católicas em Cagliari. \nNo último ano d
 e sua vida, a beata Josefina Nicola foi novamente injustamente caluniada pe
 lo trabalho realizada no Asilo da Marinha. Como anteriormente a Irmã Josefi
 na aceitou em silêncio o que aconteceu, e o testemunho de sua vida fez com 
 que o oficial que a caluniou reconhecesse o seu erro. \nMorreu em 31 de dez
 embro de 1924 em Cagliari devido a uma broncopneumonia.\nFoi beatificada pe
 lo Papa Bento XVI a 3 de fevereiro de 2008.\n
DTSTAMP:20260419T193222Z
DTSTART;TZID=Europe/Lisbon;VALUE=DATE:20180203
DTEND;TZID=Europe/Lisbon;VALUE=DATE:20180204
SEQUENCE:0
TRANSP:OPAQUE
END:VEVENT
END:VCALENDAR