BEGIN:VCALENDAR
VERSION:2.0
PRODID:-//jEvents 2.0 for Joomla//EN
CALSCALE:GREGORIAN
METHOD:PUBLISH
BEGIN:VTIMEZONE
TZID:Europe/Lisbon
END:VTIMEZONE
BEGIN:VEVENT
UID:93ef6f9d19f93606cbcae8a9289792b5
CATEGORIES:Santos
SUMMARY:São Gregório de Nissa
DESCRIPTION;ENCODING=QUOTED-PRINTABLE:São Gregório de Nissa nasceu numa importante família dos primeiros cristão 
 na Ásia Menor. A par do irmão mais velho, Basílio, o Grande, e de Gregório 
 Nazianzo (ambos celebrados a 2 de janeiro), São Gregório de Nissa é recorda
 do como um dos padres da Capadócia. Afirmaram a superioridade dos ensinamen
 tos cristãos em relação aos da filosofia grega tradicional. \nNo ano 372, S
 ão Gregório foi consagrado bispo de Nissa, uma cidade remota de Anatólia (p
 erto da Arménia). \n\nNascimento: ano 330 d.C em Cesareia, atual Turquia\nM
 orte: ano 395 d.C em Nissa, atual Turquia\n\nCuriosidade: É normalmente rep
 resentado trajando as vestes de bispo\n
DTSTAMP:20260423T211138Z
DTSTART;TZID=Europe/Lisbon;VALUE=DATE:20280110
DTEND;TZID=Europe/Lisbon;VALUE=DATE:20280111
SEQUENCE:0
TRANSP:OPAQUE
END:VEVENT
END:VCALENDAR