BEGIN:VCALENDAR
VERSION:2.0
PRODID:-//jEvents 2.0 for Joomla//EN
CALSCALE:GREGORIAN
METHOD:PUBLISH
BEGIN:VTIMEZONE
TZID:Europe/Lisbon
BEGIN:STANDARD
DTSTART:20130128T000000
RDATE:20130331T020000
TZOFFSETFROM:+0100
TZOFFSETTO:+0000
TZNAME:Europe/Lisbon WET
END:STANDARD
BEGIN:STANDARD
DTSTART:20131027T010000
RDATE:20140330T020000
TZOFFSETFROM:+0100
TZOFFSETTO:+0000
TZNAME:Europe/Lisbon WET
END:STANDARD
BEGIN:STANDARD
DTSTART:20141026T010000
RDATE:20150329T020000
TZOFFSETFROM:+0100
TZOFFSETTO:+0000
TZNAME:Europe/Lisbon WET
END:STANDARD
BEGIN:STANDARD
DTSTART:20151025T010000
RDATE:20160327T020000
TZOFFSETFROM:+0100
TZOFFSETTO:+0000
TZNAME:Europe/Lisbon WET
END:STANDARD
BEGIN:STANDARD
DTSTART:20161030T010000
RDATE:20170326T020000
TZOFFSETFROM:+0100
TZOFFSETTO:+0000
TZNAME:Europe/Lisbon WET
END:STANDARD
BEGIN:STANDARD
DTSTART:20171029T010000
RDATE:20180325T020000
TZOFFSETFROM:+0100
TZOFFSETTO:+0000
TZNAME:Europe/Lisbon WET
END:STANDARD
BEGIN:STANDARD
DTSTART:20181028T010000
RDATE:20190331T020000
TZOFFSETFROM:+0100
TZOFFSETTO:+0000
TZNAME:Europe/Lisbon WET
END:STANDARD
BEGIN:STANDARD
DTSTART:20191027T010000
RDATE:20200329T020000
TZOFFSETFROM:+0100
TZOFFSETTO:+0000
TZNAME:Europe/Lisbon WET
END:STANDARD
BEGIN:STANDARD
DTSTART:20201025T010000
RDATE:20210328T020000
TZOFFSETFROM:+0100
TZOFFSETTO:+0000
TZNAME:Europe/Lisbon WET
END:STANDARD
BEGIN:DAYLIGHT
DTSTART:20130331T020000
RDATE:20131027T010000
TZOFFSETFROM:+0000
TZOFFSETTO:+0100
TZNAME:Europe/Lisbon WEST
END:DAYLIGHT
BEGIN:DAYLIGHT
DTSTART:20140330T020000
RDATE:20141026T010000
TZOFFSETFROM:+0000
TZOFFSETTO:+0100
TZNAME:Europe/Lisbon WEST
END:DAYLIGHT
BEGIN:DAYLIGHT
DTSTART:20150329T020000
RDATE:20151025T010000
TZOFFSETFROM:+0000
TZOFFSETTO:+0100
TZNAME:Europe/Lisbon WEST
END:DAYLIGHT
BEGIN:DAYLIGHT
DTSTART:20160327T020000
RDATE:20161030T010000
TZOFFSETFROM:+0000
TZOFFSETTO:+0100
TZNAME:Europe/Lisbon WEST
END:DAYLIGHT
BEGIN:DAYLIGHT
DTSTART:20170326T020000
RDATE:20171029T010000
TZOFFSETFROM:+0000
TZOFFSETTO:+0100
TZNAME:Europe/Lisbon WEST
END:DAYLIGHT
BEGIN:DAYLIGHT
DTSTART:20180325T020000
RDATE:20181028T010000
TZOFFSETFROM:+0000
TZOFFSETTO:+0100
TZNAME:Europe/Lisbon WEST
END:DAYLIGHT
BEGIN:DAYLIGHT
DTSTART:20190331T020000
RDATE:20191027T010000
TZOFFSETFROM:+0000
TZOFFSETTO:+0100
TZNAME:Europe/Lisbon WEST
END:DAYLIGHT
BEGIN:DAYLIGHT
DTSTART:20200329T020000
RDATE:20201025T010000
TZOFFSETFROM:+0000
TZOFFSETTO:+0100
TZNAME:Europe/Lisbon WEST
END:DAYLIGHT
END:VTIMEZONE
BEGIN:VEVENT
UID:0413189d1842cd1676bdf8abd822336e
CATEGORIES:Santos
SUMMARY:Villana delle Botti
DESCRIPTION;ENCODING=QUOTED-PRINTABLE:Beata Villana delle Botti, nasceu no ano de 1332 em Florença (Itália) e fal
 eceu a 29 de janeiro de 1361 na mesma cidade. Era filha de Andrea di Messer
  Lapo delle Botti, um rico comerciante florentino.  \nAos treze anos, fugiu
  de casa para entrar num convento, mas suas tentativas foram infrutíferas e
  foi forçada a voltar. Para evitar que voltasse a fugir o seu pai, obrigou-
 a pouco depois a casar-se com Rosso di Piero Benintendi.\nApós o casamento,
  a beata mudou completamente e entregou-se ao prazer e à dissipação e viveu
  uma vida inteiramente ociosa e mundana.\nCerto dia, quando se preparava pa
 ra uma festa, vestida com um lindo vestido adornado com pérolas e pedras pr
 eciosas, ao olhar-se no espelho, viu o reflexo de um demónio hediondo. Um s
 egundo e um terceiro espelho mostraram a mesma forma horrorosa. Profundamen
 te alarmada e reconhecendo no reflexo a imagem de sua alma manchada pelo pe
 cado, a beata Villana delle Botti arrancou os seus finos trajes e, vestida 
 com as roupas mais simples que encontrou, dirigiu-se aos prantos aos padres
  dominicanos de Santa Maria Novella para fazer uma confissão geral e pedir 
 a absolvição e ajuda.\nEste foi o momento da sua conversão. Em pouco tempo,
  Villana delle Botti foi admitida na Ordem Terceira de São Domingos. A beat
 a Villana delle Botti continuou unida ao seu marido, mas levava uma vida au
 stera, marcada pela oração, penintência e piedade. Cheia de caridade a beat
 a incluía nas suas ações quotidianas a assistência aos pobres, para os quai
 s não teve dúvidas em mendigar. Obteve a conversão do seu pai e contribui d
 e maneira determinante na conversão do seu esposo. Cumprindo todos os dever
 es de mulher casada, passava todo o tempo disponível em oração e leitura. G
 ostava particularmente de ler as Epístolas de São Paulo e a vida dos Santos
 .\nMuitas vezes foi arrebatada em êxtase, principalmente durante a Santa Mi
 ssa, mas teve que passar por um período de perseguição, quando foi cruelmen
 te caluniada e sua honra foi atacada. A sua alma também foi purificada por 
 fortes dores e por grande fraqueza física. No entanto, Villana delle Botti 
 passou incólume por todas essas provações e foi recompensada por maravilhos
 as visões e colóquios com Nossa Senhora e outros Santos.\nFrequentemente, a
  sala da casa em que morava ficava cheia de sobrenatural luz, e também ela 
 foi dotada do dom da profecia. Enquanto estava deitada no seu leito de mort
 e, pediu que fosse lida a Paixão de Cristo, e durante as palavras: "inclina
 ndo a cabeça, entregou o espírito", a beata cruzou as mãos sobre o peito e 
 faleceu.\nO seu corpo foi levado para Santa Maria Novella, onde se tornou u
 m tal objeto de veneração que por mais de um mês foi impossível finalizar o
  funeral. \nBeata Villana delle Botti foi beatificada em 1829.\n
DTSTAMP:20260420T224226Z
DTSTART;TZID=Europe/Lisbon;VALUE=DATE:20140129
DTEND;TZID=Europe/Lisbon;VALUE=DATE:20140130
SEQUENCE:0
RRULE:FREQ=YEARLY;COUNT=100;INTERVAL=1;BYYEARDAY=+29
TRANSP:OPAQUE
END:VEVENT
END:VCALENDAR