BEGIN:VCALENDAR
VERSION:2.0
PRODID:-//jEvents 2.0 for Joomla//EN
CALSCALE:GREGORIAN
METHOD:PUBLISH
BEGIN:VTIMEZONE
TZID:Europe/Lisbon
BEGIN:STANDARD
DTSTART:20130128T000000
RDATE:20130331T020000
TZOFFSETFROM:+0100
TZOFFSETTO:+0000
TZNAME:Europe/Lisbon WET
END:STANDARD
BEGIN:STANDARD
DTSTART:20131027T010000
RDATE:20140330T020000
TZOFFSETFROM:+0100
TZOFFSETTO:+0000
TZNAME:Europe/Lisbon WET
END:STANDARD
BEGIN:STANDARD
DTSTART:20141026T010000
RDATE:20150329T020000
TZOFFSETFROM:+0100
TZOFFSETTO:+0000
TZNAME:Europe/Lisbon WET
END:STANDARD
BEGIN:STANDARD
DTSTART:20151025T010000
RDATE:20160327T020000
TZOFFSETFROM:+0100
TZOFFSETTO:+0000
TZNAME:Europe/Lisbon WET
END:STANDARD
BEGIN:STANDARD
DTSTART:20161030T010000
RDATE:20170326T020000
TZOFFSETFROM:+0100
TZOFFSETTO:+0000
TZNAME:Europe/Lisbon WET
END:STANDARD
BEGIN:STANDARD
DTSTART:20171029T010000
RDATE:20180325T020000
TZOFFSETFROM:+0100
TZOFFSETTO:+0000
TZNAME:Europe/Lisbon WET
END:STANDARD
BEGIN:STANDARD
DTSTART:20181028T010000
RDATE:20190331T020000
TZOFFSETFROM:+0100
TZOFFSETTO:+0000
TZNAME:Europe/Lisbon WET
END:STANDARD
BEGIN:STANDARD
DTSTART:20191027T010000
RDATE:20200329T020000
TZOFFSETFROM:+0100
TZOFFSETTO:+0000
TZNAME:Europe/Lisbon WET
END:STANDARD
BEGIN:STANDARD
DTSTART:20201025T010000
RDATE:20210328T020000
TZOFFSETFROM:+0100
TZOFFSETTO:+0000
TZNAME:Europe/Lisbon WET
END:STANDARD
BEGIN:DAYLIGHT
DTSTART:20130331T020000
RDATE:20131027T010000
TZOFFSETFROM:+0000
TZOFFSETTO:+0100
TZNAME:Europe/Lisbon WEST
END:DAYLIGHT
BEGIN:DAYLIGHT
DTSTART:20140330T020000
RDATE:20141026T010000
TZOFFSETFROM:+0000
TZOFFSETTO:+0100
TZNAME:Europe/Lisbon WEST
END:DAYLIGHT
BEGIN:DAYLIGHT
DTSTART:20150329T020000
RDATE:20151025T010000
TZOFFSETFROM:+0000
TZOFFSETTO:+0100
TZNAME:Europe/Lisbon WEST
END:DAYLIGHT
BEGIN:DAYLIGHT
DTSTART:20160327T020000
RDATE:20161030T010000
TZOFFSETFROM:+0000
TZOFFSETTO:+0100
TZNAME:Europe/Lisbon WEST
END:DAYLIGHT
BEGIN:DAYLIGHT
DTSTART:20170326T020000
RDATE:20171029T010000
TZOFFSETFROM:+0000
TZOFFSETTO:+0100
TZNAME:Europe/Lisbon WEST
END:DAYLIGHT
BEGIN:DAYLIGHT
DTSTART:20180325T020000
RDATE:20181028T010000
TZOFFSETFROM:+0000
TZOFFSETTO:+0100
TZNAME:Europe/Lisbon WEST
END:DAYLIGHT
BEGIN:DAYLIGHT
DTSTART:20190331T020000
RDATE:20191027T010000
TZOFFSETFROM:+0000
TZOFFSETTO:+0100
TZNAME:Europe/Lisbon WEST
END:DAYLIGHT
BEGIN:DAYLIGHT
DTSTART:20200329T020000
RDATE:20201025T010000
TZOFFSETFROM:+0000
TZOFFSETTO:+0100
TZNAME:Europe/Lisbon WEST
END:DAYLIGHT
END:VTIMEZONE
BEGIN:VEVENT
UID:f86e71adfa38cdd59defb281525a89d0
CATEGORIES:Santos
SUMMARY:São José Freinademetz
DESCRIPTION;ENCODING=QUOTED-PRINTABLE:São José Freinademetz nasceu a 15 de abril de 1852 em Oies, num pequeno lug
 ar com apenas cinco casas nos montes Dolmitas (Itália). São José Freinademe
 tz foi batizado no dia em que nasceu. Da sua família herdou uma fé simples 
 e uma grande capacidade de trabalho.\nAos 20 anos (em 1872), ingressou no s
 eminário maior diocesano de Bressanone (Brixen- Itália), onde completou os 
 estudos teológicos. Foi ordenado sacerdote em 25 de julho de 1875, e foi de
 stinado pelo seu bispo para a comunidade de S. Martinho di Badia (Paróquia 
 de S. Martinho), muito próximo da casa paterna. Humilde, generoso, rico em 
 humanidade e sincero, logo ganhou o coração de todos.\nNo entanto, o apelo 
 ao serviço da missão não o abandonou. Dois anos após a ordenação entrou em 
 contacto com o P. Arnaldo Janssen (http://www.paroquia-almancil.pt/utilidad
 es/vida-dos-santos/icalrepeat.detail/2018/01/14/3966/-/s-arnaldo-janssen.ht
 ml), Fundador da casa de Steyl, que ficaria a conhecer-se como Congregação 
 do Verbo Divino.\nCom a autorização do seu bispo Vicente Gasser, S. José Fr
 einademetz seguiu para a casa missionária de Steyl em agosto de 1878. A 2 d
 e março de 1879 partiu para a China, juntamente com outro missionário, João
  Baptista de Anzer.\nCinco semanas depois aportam em Hong Kong e nesta cida
 de se preparam durante dois anos para o próximo passo. Em 1881, os dois mis
 sionários foram para a província de Shantung, que nessa altura contava com 
 158 batizados entre 12 milhões de habitantes.\nOs anos seguintes foram extr
 emamente difíceis, marcados por longas e laboriosas viagens, assaltos de la
 drões, e muito trabalho na construção das primeiras comunidades cristãs. No
  entanto, assim que uma comunidade se tinha começado a desenvolver, o bispo
  em funções chamava-o a abandonar tudo e a começar tudo de novo noutro loca
 l.\nSão José Freinademetz rapidamente percebeu a importância da colaboração
  de leigos dedicados para o enraizamento de uma comunidade, sobretudo na ca
 tequese. Por essa razão valorizou muito a sua formação e elaborou um cateci
 smo em chinês. Ao mesmo tempo, juntamente com Anzer, que se tornara bispo, 
 ele dedicou grande esforço à preparação, animação espiritual e formação per
 manente de sacerdotes chineses e de outros missionários. \nDurante os 27 an
 os de vida na China, S. José Freinademetz desempenhou vários cargos de resp
 onsabilidade: foi organizador da região missionária, reitor do seminário, l
 íder espiritual dos primeiros padres chineses e, finalmente, principal de p
 rovíncia. Exerceu a sua autoridade como um irmão mais velho, tratando sempr
 e os seus subordinados com respeito. Era também admirado especialmente devi
 do à vida exemplar que levava e ao seu espírito de missão.\nA sua vida este
 ve marcada pelo desejo de se transformar num Chinês entre os Chineses e nes
 se espírito escrevia à família: «Eu amo a China e os Chineses; eu quero mor
 rer e ser sepultado entre eles».\nEm 1889 o trabalho incansável e o seu des
 prendimento fizeram com que o santo adoecesse gravemente com uma laringite 
 e um início de tuberculose. Perante a insistência do Bispo e dos confrades,
  S. José Freinademetz saiu para o Japão para descansar, na esperança de que
  recuperasse a saúde. Voltou melhor para a China, mas não totalmente curado
 .\nQuando no ano de 1907, o bispo empreendeu uma viagem à Europa, São José 
 Freinademetz assumiu o lugar de Administrador da Diocese. Durante esse perí
 odo surgiu uma epidemia de tifo. José, como um bom pastor oferecendo ajuda 
 onde podia, visitava as muitas comunidades até que ele próprio foi infetado
 . Dirigiu-se a Taikia, sede da Diocese, onde morreu no dia 28 de janeiro de
  1908. \nFoi canonizado pelo Papa João Paulo II a 5 de outubro de 2003.\nSã
 o José Freinademetz rogai por nós!\n
DTSTAMP:20260420T023417Z
DTSTART;TZID=Europe/Lisbon;VALUE=DATE:20140129
DTEND;TZID=Europe/Lisbon;VALUE=DATE:20140130
SEQUENCE:0
RRULE:FREQ=YEARLY;COUNT=100;INTERVAL=1;BYYEARDAY=+29
TRANSP:OPAQUE
END:VEVENT
END:VCALENDAR