BEGIN:VCALENDAR
VERSION:2.0
PRODID:-//jEvents 2.0 for Joomla//EN
CALSCALE:GREGORIAN
METHOD:PUBLISH
BEGIN:VTIMEZONE
TZID:Europe/Lisbon
BEGIN:STANDARD
DTSTART:20171029T010000
RDATE:20180325T020000
TZOFFSETFROM:+0100
TZOFFSETTO:+0000
TZNAME:Europe/Lisbon WET
END:STANDARD
BEGIN:STANDARD
DTSTART:20181028T010000
RDATE:20190331T020000
TZOFFSETFROM:+0100
TZOFFSETTO:+0000
TZNAME:Europe/Lisbon WET
END:STANDARD
BEGIN:STANDARD
DTSTART:20191027T010000
RDATE:20200329T020000
TZOFFSETFROM:+0100
TZOFFSETTO:+0000
TZNAME:Europe/Lisbon WET
END:STANDARD
BEGIN:STANDARD
DTSTART:20201025T010000
RDATE:20210328T020000
TZOFFSETFROM:+0100
TZOFFSETTO:+0000
TZNAME:Europe/Lisbon WET
END:STANDARD
BEGIN:DAYLIGHT
DTSTART:20170514T000000
RDATE:20171029T010000
TZOFFSETFROM:+0000
TZOFFSETTO:+0100
TZNAME:Europe/Lisbon WEST
END:DAYLIGHT
BEGIN:DAYLIGHT
DTSTART:20180325T020000
RDATE:20181028T010000
TZOFFSETFROM:+0000
TZOFFSETTO:+0100
TZNAME:Europe/Lisbon WEST
END:DAYLIGHT
BEGIN:DAYLIGHT
DTSTART:20190331T020000
RDATE:20191027T010000
TZOFFSETFROM:+0000
TZOFFSETTO:+0100
TZNAME:Europe/Lisbon WEST
END:DAYLIGHT
BEGIN:DAYLIGHT
DTSTART:20200329T020000
RDATE:20201025T010000
TZOFFSETFROM:+0000
TZOFFSETTO:+0100
TZNAME:Europe/Lisbon WEST
END:DAYLIGHT
END:VTIMEZONE
BEGIN:VEVENT
UID:1a9f04a632ab2a455d3f287e771c3f4c
CATEGORIES:Santos
SUMMARY:São Frei Gil
DESCRIPTION;ENCODING=QUOTED-PRINTABLE:São Frei Gil também é conhecido como São Frei Gil de Portugal, São Frei Gil
  de Vouzela, São Frei Gil de Santarém, ou Dom Gil Rodrigues de Valadares.\n
 São Frei Gil nasceu entre os anos 1184 e 1190 na Quinta da Cavalaria em Vou
 zela, Portugal (atual edifício da Santa Casa da Misericórdia local) e falec
 eu a 14 de maio de 1265 em Santarém (Portugal).\nSão Frei Gil era filho de 
 D. Rodrigo Pais de Valadares (algumas fontes indicam D. Rui Pais de Valadar
 es) e de D. Maria Gil Feijó. O seu pai era fidalgo do conselho (grupo de pe
 ssoas nomeadas pelo rei para emitir pareceres sobre os negócios do Reino) d
 o rei D. Sancho I e seu mordomo-mor. Para além disso era também alcaide-mor
  de Coimbra (governador da cidade). A mãe de São Frei Gil era a segunda mul
 her de D. Rodrigo, e uma senhora de origem ilustre e dotada de notável prud
 ência e exímias virtudes.\nSabe-se que São Frei Gil teve pelo menos quatro 
 irmãos. De dois conhecem-se os nomes (D. João Rodrigues de Valadares e D. P
 aio Rodrigues de Valadares), dum apenas se sabe que foi deão na Sé de Lisbo
 a e de outro nada se sabe.\nAinda muito novo São Frei Gil mostrou ser dotad
 o de notável inteligência e aptidão para as letras. Pensa-se que terá estud
 ado inicialmente no Mosteiro de Santa Cruz em Coimbra. São Frei Gil estudav
 a filosofia e medicina e tinha fama de bom estudante. Em 1225, São Frei Gil
  deixou Coimbra e foi estudar teologia para a Universidade de Paris\nAlguma
 s fontes referem que nestes tempos de juventude São Frei Gil vivia uma vida
  desregrada. Há quem afirme que São Frei Gil fez um pacto com o diabo onde 
 terá entregue a sua alma ao demónio, e assinado um documento com o próprio 
 sangue. Mais tarde São Frei Gil começou a sentir-se atormentado pelo pacto 
 que fizera, e terá sido acometido por visões, nas quais lhe surgia um caval
 eiro gigantesco que, com uma espada desembainhada, o ameaçava de morte, cas
 o não alterasse a sua postura ímpia. \nInfluenciado ou não por esta históri
 a, a verdade é que São Frei Gil, após a sua passagem bem-sucedida por Franç
 a, começa a dedicar-se à causa religiosa, deixando para trás uma juventude 
 irreverente.\nContudo nada disto está comprovado. Sabe-se, porém, que nessa
  época Beato Jordão da Saxónia (http://www.paroquia-almancil.pt/utilidades/
 vida-dos-santos/icalrepeat.detail/2019/02/13/13270/-/beato-jord%C3%A3o-de-s
 ax%C3%B3nia.html) pregava à juventude estudantil de Paris. Muitos dos que e
 scutavam o beato abandonaram o mundo e vieram a abraçar a vida religiosa na
  Ordem dos Pregadores. São Frei Gil foi um dos jovens que se deixou atrair 
 pelas pregações de Beato Jordão da Saxónia e nos anos de 1224 ou 1225 entro
 u como noviço na Ordem Dominicana.\nNo ano de 1229 regressou a Portugal.\nS
 ão Frei Gil tem o seu nome ligado aos factos conhecidos relacionados com a 
 deposição de D. Sancho II e à subsequente regência e ascensão ao trono de D
 . Afonso III.\nNo ano de 1233 São Frei Gil foi designado prior provincial d
 a sua Ordem para &ldquo;as Espanhas&rdquo;, tendo defendido no Capítulo da 
 Ordem na cidade castelhana de Burgos a instalação de um convento na cidade 
 do Porto.\nNo ano de 1238 São Frei Gil participou no Capítulo geral da Orde
 m, na cidade italiana de Bolonha e em 1257 foi eleito pela segunda vez como
  provincial.\nFaleceu a 14 de maio de 1265 no convento de Santarém.\nSão Fr
 ei Gil rogai por nós!\n
DTSTAMP:20260422T175656Z
DTSTART;TZID=Europe/Lisbon;VALUE=DATE:20180515
DTEND;TZID=Europe/Lisbon;VALUE=DATE:20180516
SEQUENCE:0
RRULE:FREQ=YEARLY;COUNT=999;INTERVAL=1;BYYEARDAY=-231
TRANSP:OPAQUE
END:VEVENT
END:VCALENDAR