BEGIN:VCALENDAR
VERSION:2.0
PRODID:-//jEvents 2.0 for Joomla//EN
CALSCALE:GREGORIAN
METHOD:PUBLISH
BEGIN:VTIMEZONE
TZID:Europe/Lisbon
BEGIN:STANDARD
DTSTART:20130128T000000
RDATE:20130331T020000
TZOFFSETFROM:+0100
TZOFFSETTO:+0000
TZNAME:Europe/Lisbon WET
END:STANDARD
BEGIN:STANDARD
DTSTART:20131027T010000
RDATE:20140330T020000
TZOFFSETFROM:+0100
TZOFFSETTO:+0000
TZNAME:Europe/Lisbon WET
END:STANDARD
BEGIN:STANDARD
DTSTART:20141026T010000
RDATE:20150329T020000
TZOFFSETFROM:+0100
TZOFFSETTO:+0000
TZNAME:Europe/Lisbon WET
END:STANDARD
BEGIN:STANDARD
DTSTART:20151025T010000
RDATE:20160327T020000
TZOFFSETFROM:+0100
TZOFFSETTO:+0000
TZNAME:Europe/Lisbon WET
END:STANDARD
BEGIN:STANDARD
DTSTART:20161030T010000
RDATE:20170326T020000
TZOFFSETFROM:+0100
TZOFFSETTO:+0000
TZNAME:Europe/Lisbon WET
END:STANDARD
BEGIN:STANDARD
DTSTART:20171029T010000
RDATE:20180325T020000
TZOFFSETFROM:+0100
TZOFFSETTO:+0000
TZNAME:Europe/Lisbon WET
END:STANDARD
BEGIN:STANDARD
DTSTART:20181028T010000
RDATE:20190331T020000
TZOFFSETFROM:+0100
TZOFFSETTO:+0000
TZNAME:Europe/Lisbon WET
END:STANDARD
BEGIN:STANDARD
DTSTART:20191027T010000
RDATE:20200329T020000
TZOFFSETFROM:+0100
TZOFFSETTO:+0000
TZNAME:Europe/Lisbon WET
END:STANDARD
BEGIN:STANDARD
DTSTART:20201025T010000
RDATE:20210328T020000
TZOFFSETFROM:+0100
TZOFFSETTO:+0000
TZNAME:Europe/Lisbon WET
END:STANDARD
BEGIN:DAYLIGHT
DTSTART:20130331T020000
RDATE:20131027T010000
TZOFFSETFROM:+0000
TZOFFSETTO:+0100
TZNAME:Europe/Lisbon WEST
END:DAYLIGHT
BEGIN:DAYLIGHT
DTSTART:20140330T020000
RDATE:20141026T010000
TZOFFSETFROM:+0000
TZOFFSETTO:+0100
TZNAME:Europe/Lisbon WEST
END:DAYLIGHT
BEGIN:DAYLIGHT
DTSTART:20150329T020000
RDATE:20151025T010000
TZOFFSETFROM:+0000
TZOFFSETTO:+0100
TZNAME:Europe/Lisbon WEST
END:DAYLIGHT
BEGIN:DAYLIGHT
DTSTART:20160327T020000
RDATE:20161030T010000
TZOFFSETFROM:+0000
TZOFFSETTO:+0100
TZNAME:Europe/Lisbon WEST
END:DAYLIGHT
BEGIN:DAYLIGHT
DTSTART:20170326T020000
RDATE:20171029T010000
TZOFFSETFROM:+0000
TZOFFSETTO:+0100
TZNAME:Europe/Lisbon WEST
END:DAYLIGHT
BEGIN:DAYLIGHT
DTSTART:20180325T020000
RDATE:20181028T010000
TZOFFSETFROM:+0000
TZOFFSETTO:+0100
TZNAME:Europe/Lisbon WEST
END:DAYLIGHT
BEGIN:DAYLIGHT
DTSTART:20190331T020000
RDATE:20191027T010000
TZOFFSETFROM:+0000
TZOFFSETTO:+0100
TZNAME:Europe/Lisbon WEST
END:DAYLIGHT
BEGIN:DAYLIGHT
DTSTART:20200329T020000
RDATE:20201025T010000
TZOFFSETFROM:+0000
TZOFFSETTO:+0100
TZNAME:Europe/Lisbon WEST
END:DAYLIGHT
END:VTIMEZONE
BEGIN:VEVENT
UID:69b678451fe54af6d96ba575372a50e8
CATEGORIES:Santos
SUMMARY:Beata Arcângela Girlani
DESCRIPTION;ENCODING=QUOTED-PRINTABLE:Beata Arcânegla Girlani nasceu no ano de 1460 em Trino Vercellese, no Monfe
 rrato, Itália e faleceu a 25 de janeiro de 1494. Era filha de João e de Âng
 ela e tinha duas irmãs ((Francisca e Maria). Foi baptizada com o nome Eleon
 ora Girlani (Leonor). Beata Arcângela Girlani nasceu no seio duma família r
 ica e distinta.\nDesde muito cedo, Beata Arcângela Girlani deu provas de vi
 rtudes singulares. Os pais enviaram-na para estudar no Mosteiro de São Fran
 cisco, em Rocca delle Donne, longe da residência da família.\nBeata Arcânge
 la sentiu então nascer em si uma vocação religiosa, mas os seus pais que se
  opunham a que abraçasse a vida religiosa mandaram-na para casa para um per
 íodo de reflexão. O resultado foi que ao viver em contato com as duas irmãs
 , Escolástica e Maria, nasceu nestas o desejo de se consagrarem a Cristo ta
 mbém.\nOs pais concordaram então que Eleonora entrasse no convento, desde q
 ue fosse perto de casa. A beata prontamente rejeitou essa oportunidade porq
 ue a proximidade da família teria impedido o caminho da perfeição e da sant
 idade que pretendia seguir. A família Girlani recebeu nessa altura a visita
  dum amigo carmelita e com a intervenção deste, foi escolhido o Convento de
  Santa Maria Madalena fundado em Parma no ano 1465 e pertencente à Congrega
 ção Carmelita de Mântua. No ano 1477, (segundo algumas fontes a 25 de janei
 ro de 1478), Leonor vestiu o hábito de monja, mudando seu nome pelo de Arcâ
 ngela. Com ela entraram também as suas irmãs Maria e Francisca, em religião
  Maria e Escolástica.\nArcângela era devota dos mistérios da Natividade e d
 a Paixão. Promoveu a devoção à Santíssima Trindade como remédio de todos os
  males. Ela era amante da pobreza. Não tocava no Breviário sem antes lavar 
 as mãos em reverência a Deus.\nPara imitar a mortificação de Nosso Senhor J
 esus Cristo, vestia-se de áspero cilício, jejuava frequentemente a pão e ág
 ua, tomava disciplina e dedicava-se à oração e à leitura da vida dos santos
 . Muitas vezes era arrebatada em êxtase durante a oração. Em uma Sexta-feir
 a Santa, descalçando-se para ir adorar a Cruz de Nosso Senhor, foi arrebata
 da em êxtase e permaneceu assim todo o dia. Suas exortações, mas ainda mais
  seu estilo de vida, foram um exemplo para as irmãs. Toda a cidade conhecia
  a perfeição com que os carmelitas viviam sua consagração e muitos lhes ped
 iram ajuda espiritual e material para atender às necessidades desses tempos
  difíceis.\nEm poucos anos foi eleita priora do mosteiro de Parma. Foi desd
 e então a consolação de todas as monjas e entre elas a mais humilde e servi
 çal. Consolava as doentes com carinho maternal e fazia-lhes considerações o
 portunas, animando-as a sofrer com resignação. Quinze anos depois de residi
 r no convento de Parma, santificando-se e santificando as suas religiosas c
 om seu bom exemplo e a heroicidade de suas virtudes, quando os superiores d
 eterminaram fazer uma nova fundação de monjas em Mântua elegeram-na para es
 ta obra.\nCom grande sacrifício obedeceu e, habituada aos caminhos do Senho
 r, em Mântua inicia a mesma vida que seguia em Parma. Os habitantes de Mânt
 ua logo se deram conta do bem que Deus lhes havia proporcionado com o conve
 nto das carmelitas. As mães levavam suas filhas para que a Beata Arcângela 
 as instruísse nos caminhos do Senhor. O efeito não se fez esperar: sete daq
 uelas jovens tomaram o hábito e sob sua direção se santificaram no claustro
 . A Beata deixou como priora deste convento a sua irmã Escolástica.\nA Beat
 a Arcângela Girlani fundou ainda os conventos de São Barnabé e Santa Maria 
 dos Anjos em Florença. Em 1492 fundou o de Santa Maria do Paraiso, onde viv
 eu três anos, até sua morte.\nQuando depois de penosa enfermidade, sentindo
  que sua hora chegara, reuniu suas monjas para as exortar e lhes dar, os se
 us últimos conselhos. Expirou dizendo: &ldquo;Jesus, amor meu, tem piedade 
 de mim&rdquo;. Nesse mesmo instante ela apareceu a sua irmã Escolástica, em
  Parma. \nFoi enterrada num túmulo como todas as monjas e logo o seu corpo 
 incorrupto foi trasladado para uma urna sob o coro, como resultado dos muit
 os milagres que ela obtinha de Deus.\n    \n
DTSTAMP:20260421T210750Z
DTSTART;TZID=Europe/Lisbon;VALUE=DATE:20140129
DTEND;TZID=Europe/Lisbon;VALUE=DATE:20140130
SEQUENCE:0
RRULE:FREQ=YEARLY;COUNT=100;INTERVAL=1;BYYEARDAY=+29
TRANSP:OPAQUE
END:VEVENT
END:VCALENDAR