BEGIN:VCALENDAR
VERSION:2.0
PRODID:-//jEvents 2.0 for Joomla//EN
CALSCALE:GREGORIAN
METHOD:PUBLISH
BEGIN:VTIMEZONE
TZID:Europe/Lisbon
BEGIN:STANDARD
DTSTART:20171029T010000
RDATE:20180325T020000
TZOFFSETFROM:+0100
TZOFFSETTO:+0000
TZNAME:Europe/Lisbon WET
END:STANDARD
BEGIN:STANDARD
DTSTART:20181028T010000
RDATE:20190331T020000
TZOFFSETFROM:+0100
TZOFFSETTO:+0000
TZNAME:Europe/Lisbon WET
END:STANDARD
BEGIN:STANDARD
DTSTART:20191027T010000
RDATE:20200329T020000
TZOFFSETFROM:+0100
TZOFFSETTO:+0000
TZNAME:Europe/Lisbon WET
END:STANDARD
BEGIN:STANDARD
DTSTART:20201025T010000
RDATE:20210328T020000
TZOFFSETFROM:+0100
TZOFFSETTO:+0000
TZNAME:Europe/Lisbon WET
END:STANDARD
BEGIN:DAYLIGHT
DTSTART:20170503T000000
RDATE:20171029T010000
TZOFFSETFROM:+0000
TZOFFSETTO:+0100
TZNAME:Europe/Lisbon WEST
END:DAYLIGHT
BEGIN:DAYLIGHT
DTSTART:20180325T020000
RDATE:20181028T010000
TZOFFSETFROM:+0000
TZOFFSETTO:+0100
TZNAME:Europe/Lisbon WEST
END:DAYLIGHT
BEGIN:DAYLIGHT
DTSTART:20190331T020000
RDATE:20191027T010000
TZOFFSETFROM:+0000
TZOFFSETTO:+0100
TZNAME:Europe/Lisbon WEST
END:DAYLIGHT
BEGIN:DAYLIGHT
DTSTART:20200329T020000
RDATE:20201025T010000
TZOFFSETFROM:+0000
TZOFFSETTO:+0100
TZNAME:Europe/Lisbon WEST
END:DAYLIGHT
END:VTIMEZONE
BEGIN:VEVENT
UID:2c5c200e704c0e0c5cd6e0807c79f029
CATEGORIES:Santos
SUMMARY:São Floriano
DESCRIPTION;ENCODING=QUOTED-PRINTABLE:São Floriano nasceu provavelmente no começo do século III d.C., sob o reino
  do imperador romano Diocleciano. Da vida de São Floriano pouco conhecemos.
 \nConsta que São Floriano era um oficial romano numa das legiões estacionad
 as na Europa, provavelmente na região da Áustria. São Floriano era cristão 
 e administrador militar da província de Nórica (antiga região do império ro
 mano). São Floriano viveu boa parte da vida na cidade de Mantem, próxima a 
 Kems, na atual Alemanha.\nO oficial superior de São Floriano era Aquilino, 
 comandante da legião romana no vale do rio Danúbio, onde existiam muitos so
 ldados.\nO mais antigo registro histórico sobre São Floriano foi encontrado
  num documento de doação de terras que data do século VIII, onde o presbíte
 ro Reginolfo oferecia para a Igreja Católica algumas propriedades de terras
 , entre elas, "as do lugar aonde foi enterrado o precioso mártir Floriano".
 \nA igreja cristã espalhou-se rapidamente pelo Império Romano em especial p
 or suas vias de circulação e também pelos seus soldados. O fato de ficarem 
 estacionados em regiões distantes de Roma devido às conquistas fazia com qu
 e os ensinamentos cristãos chegassem aos confins remotos do império.\nNo sé
 culo III, o imperador Diocleciano tornou-se perseguidor dos cristãos. Com o
  auxílio do genro Galério, o imperador iniciou prisões, torturas e expediu 
 um decreto que proibia qualquer culto cristão e exigiu que qualquer livro r
 eligioso fosse destruído. A perseguição foi estendida também para as legiõe
 s, onde os soldados não podiam professar a sua fé, sendo obrigados a jurar 
 fidelidade ao imperador e aos seus ídolos sob pena de morte.\nSabendo disto
  São Floriano, com outros quarenta colegas, apresentaram-se ao comandante A
 quilino para comunicar que eram cristãos e que não podiam continuar a servi
 r o imperador. Aquilino mandou prender os soldados e todos foram condenados
  à morte, com uma pedra de moinho amarrada ao pescoço e sendo atirados ao r
 io Enns. Na ponte, os soldados permitiram a São Floriano que encomendasse a
  sua alma ao Senhor.\nSão Floriano foi atirado de cabeça para baixo no rio,
  a 4 de maio de 304.\nUma mulher piedosa enterrou o corpo de São Floriano n
 um terreno de sua propriedade, onde mais tarde se erigiu sobre o seu túmulo
  uma igreja e após, no local, um convento de Beneditinos, destruído pelos b
 árbaros.\nSão Floriano é o padroeiro dos bombeiros e protetor contra os inc
 êndios.\n\n São Floriano rogai por nós!\n
DTSTAMP:20260422T230028Z
DTSTART;TZID=Europe/Lisbon;VALUE=DATE:20180504
DTEND;TZID=Europe/Lisbon;VALUE=DATE:20180505
SEQUENCE:0
RRULE:FREQ=YEARLY;COUNT=999;INTERVAL=1;BYYEARDAY=-242
TRANSP:OPAQUE
END:VEVENT
END:VCALENDAR