BEGIN:VCALENDAR
VERSION:2.0
PRODID:-//jEvents 2.0 for Joomla//EN
CALSCALE:GREGORIAN
METHOD:PUBLISH
BEGIN:VTIMEZONE
TZID:Europe/Lisbon
BEGIN:STANDARD
DTSTART:20130126T000000
RDATE:20130331T020000
TZOFFSETFROM:+0100
TZOFFSETTO:+0000
TZNAME:Europe/Lisbon WET
END:STANDARD
BEGIN:STANDARD
DTSTART:20131027T010000
RDATE:20140330T020000
TZOFFSETFROM:+0100
TZOFFSETTO:+0000
TZNAME:Europe/Lisbon WET
END:STANDARD
BEGIN:STANDARD
DTSTART:20141026T010000
RDATE:20150329T020000
TZOFFSETFROM:+0100
TZOFFSETTO:+0000
TZNAME:Europe/Lisbon WET
END:STANDARD
BEGIN:STANDARD
DTSTART:20151025T010000
RDATE:20160327T020000
TZOFFSETFROM:+0100
TZOFFSETTO:+0000
TZNAME:Europe/Lisbon WET
END:STANDARD
BEGIN:STANDARD
DTSTART:20161030T010000
RDATE:20170326T020000
TZOFFSETFROM:+0100
TZOFFSETTO:+0000
TZNAME:Europe/Lisbon WET
END:STANDARD
BEGIN:STANDARD
DTSTART:20171029T010000
RDATE:20180325T020000
TZOFFSETFROM:+0100
TZOFFSETTO:+0000
TZNAME:Europe/Lisbon WET
END:STANDARD
BEGIN:STANDARD
DTSTART:20181028T010000
RDATE:20190331T020000
TZOFFSETFROM:+0100
TZOFFSETTO:+0000
TZNAME:Europe/Lisbon WET
END:STANDARD
BEGIN:STANDARD
DTSTART:20191027T010000
RDATE:20200329T020000
TZOFFSETFROM:+0100
TZOFFSETTO:+0000
TZNAME:Europe/Lisbon WET
END:STANDARD
BEGIN:STANDARD
DTSTART:20201025T010000
RDATE:20210328T020000
TZOFFSETFROM:+0100
TZOFFSETTO:+0000
TZNAME:Europe/Lisbon WET
END:STANDARD
BEGIN:DAYLIGHT
DTSTART:20130331T020000
RDATE:20131027T010000
TZOFFSETFROM:+0000
TZOFFSETTO:+0100
TZNAME:Europe/Lisbon WEST
END:DAYLIGHT
BEGIN:DAYLIGHT
DTSTART:20140330T020000
RDATE:20141026T010000
TZOFFSETFROM:+0000
TZOFFSETTO:+0100
TZNAME:Europe/Lisbon WEST
END:DAYLIGHT
BEGIN:DAYLIGHT
DTSTART:20150329T020000
RDATE:20151025T010000
TZOFFSETFROM:+0000
TZOFFSETTO:+0100
TZNAME:Europe/Lisbon WEST
END:DAYLIGHT
BEGIN:DAYLIGHT
DTSTART:20160327T020000
RDATE:20161030T010000
TZOFFSETFROM:+0000
TZOFFSETTO:+0100
TZNAME:Europe/Lisbon WEST
END:DAYLIGHT
BEGIN:DAYLIGHT
DTSTART:20170326T020000
RDATE:20171029T010000
TZOFFSETFROM:+0000
TZOFFSETTO:+0100
TZNAME:Europe/Lisbon WEST
END:DAYLIGHT
BEGIN:DAYLIGHT
DTSTART:20180325T020000
RDATE:20181028T010000
TZOFFSETFROM:+0000
TZOFFSETTO:+0100
TZNAME:Europe/Lisbon WEST
END:DAYLIGHT
BEGIN:DAYLIGHT
DTSTART:20190331T020000
RDATE:20191027T010000
TZOFFSETFROM:+0000
TZOFFSETTO:+0100
TZNAME:Europe/Lisbon WEST
END:DAYLIGHT
BEGIN:DAYLIGHT
DTSTART:20200329T020000
RDATE:20201025T010000
TZOFFSETFROM:+0000
TZOFFSETTO:+0100
TZNAME:Europe/Lisbon WEST
END:DAYLIGHT
END:VTIMEZONE
BEGIN:VEVENT
UID:987ad91dbeb3925ba4a26c0d24ea4541
CATEGORIES:Santos
SUMMARY:Beato Jorge Matulaitis-Matulewicz
DESCRIPTION;ENCODING=QUOTED-PRINTABLE:O Beato Jorge Matulaitis-Matulewicz nasceu a 13 de abril de 1871 em Lüginé,
  Lituânia e faleceu a 27 de janeiro de 1927 em Kaunas. Foi um arcebispo cat
 ólico lituano, que nasceu na Lituânia e foi o último de oito filhos do casa
 l.\nNo ano de 1889 o Beato Jorge Matulaitis mudou-se para a Polónia, trocan
 do o apelido de Matulaitis para Matulewicz. \nJorge Matulaitis-Matulewicz c
 ompletou os seus estudos teológicos e foi ordenado sacerdote em 20 de novem
 bro de 1889.\nNo ano de 1911, o Beato Jorge Matulaitis-Matulewicz foi nomea
 do Superior Geral da Congregação dos Padres Marianos da Imaculada Conceição
 , e lutou para recuperar as casas e os terrenos tomados pelo estado.\nJorge
  Matulaitis foi nomeado Bispo de Vilnius no dia 1 de dezembro de 1918, poré
 m no ano de 1925 deixou o cargo para se voltar a dedicar à Congregação. Ent
 ão, o Papa Bento XV, nomeou o Beato Jorge Matulaitis-Matulewicz arcebispo t
 itular de Adulis. \nViria a falecer no ano de 1927 de apendicite e foi ente
 rrado na Catedral de Kaunas, entretanto no ano de 1934 o corpo do Beato Jor
 ge Matulaitis-Matulewicz foi transladado para a igreja de Marijampolé.\nFoi
  beatificado a 28 de junho de 1987 pelo Papa João Paulo II.\n
DTSTAMP:20260424T072841Z
DTSTART;TZID=Europe/Lisbon;VALUE=DATE:20140127
DTEND;TZID=Europe/Lisbon;VALUE=DATE:20140128
SEQUENCE:0
RRULE:FREQ=YEARLY;COUNT=100;INTERVAL=1;BYYEARDAY=+27
TRANSP:OPAQUE
END:VEVENT
END:VCALENDAR