BEGIN:VCALENDAR
VERSION:2.0
PRODID:-//jEvents 2.0 for Joomla//EN
CALSCALE:GREGORIAN
METHOD:PUBLISH
BEGIN:VTIMEZONE
TZID:Europe/Lisbon
BEGIN:STANDARD
DTSTART:20171029T010000
RDATE:20180325T020000
TZOFFSETFROM:+0100
TZOFFSETTO:+0000
TZNAME:Europe/Lisbon WET
END:STANDARD
BEGIN:STANDARD
DTSTART:20181028T010000
RDATE:20190331T020000
TZOFFSETFROM:+0100
TZOFFSETTO:+0000
TZNAME:Europe/Lisbon WET
END:STANDARD
BEGIN:STANDARD
DTSTART:20191027T010000
RDATE:20200329T020000
TZOFFSETFROM:+0100
TZOFFSETTO:+0000
TZNAME:Europe/Lisbon WET
END:STANDARD
BEGIN:STANDARD
DTSTART:20201025T010000
RDATE:20210328T020000
TZOFFSETFROM:+0100
TZOFFSETTO:+0000
TZNAME:Europe/Lisbon WET
END:STANDARD
BEGIN:DAYLIGHT
DTSTART:20170503T000000
RDATE:20171029T010000
TZOFFSETFROM:+0000
TZOFFSETTO:+0100
TZNAME:Europe/Lisbon WEST
END:DAYLIGHT
BEGIN:DAYLIGHT
DTSTART:20180325T020000
RDATE:20181028T010000
TZOFFSETFROM:+0000
TZOFFSETTO:+0100
TZNAME:Europe/Lisbon WEST
END:DAYLIGHT
BEGIN:DAYLIGHT
DTSTART:20190331T020000
RDATE:20191027T010000
TZOFFSETFROM:+0000
TZOFFSETTO:+0100
TZNAME:Europe/Lisbon WEST
END:DAYLIGHT
BEGIN:DAYLIGHT
DTSTART:20200329T020000
RDATE:20201025T010000
TZOFFSETFROM:+0000
TZOFFSETTO:+0100
TZNAME:Europe/Lisbon WEST
END:DAYLIGHT
END:VTIMEZONE
BEGIN:VEVENT
UID:28541c72e100f9938e4a5da2eef941fb
CATEGORIES:Santos
SUMMARY:São Gotardo
DESCRIPTION;ENCODING=QUOTED-PRINTABLE:São Gotardo de Hildesheim nasceu a 5 de dezembro de 960 em Reichersdorf, (A
 lemanha) e faleceu a 4 de maio de 1038 em Hildesheim (Alemanha).Os pais de 
 São Gotardo, profundamente cristãos, notaram, desde cedo, existir no menino
  algo de extraordinário. Desde pequeno São Gotardo demonstrou ser vocaciona
 do à vida religiosa-sacerdotal. São Gotardo tinha o costume de sair de casa
  sozinho e ir até a igreja do mosteiro para acompanhar a missa.Os pais, tem
 endo que lhe acontecesse algum acidente no trajeto da casa até o mosteiro, 
 por ser ainda muito pequeno, deram ordem aos criados que deixassem as porta
 s da casa fechadas durante o dia. Mas São Gotardo, quando viu que a porta e
 stava fechada impedindo que fosse à igreja, começou a chorar, fazendo com q
 ue os pais o acompanhassem na missa.Chegando à idade estudantil, São Gotard
 o frequentou o Mosteiro de Alteich. Os seus pais queriam que São Gotardo de
  Hildesheim aprendesse ciências humanas e as ciências dos santos. O progres
 so de São Gotardo foi tão grande que ele foi aceite entre os cónegos do mos
 teiro apesar de ter apenas 14 anos.Com o tempo, São Gotardo tornou-se o ass
 essor do bispo, depois recebeu o sacramento do diaconato, ficando ao serviç
 o da igreja do mosteiro. Após um tempo, São Gotardo foi escolhido superior 
 do mosteiro.Quando São Gotardo completou os estudos eclesiásticos, o bispo 
 Dom Cristiano quis ordená-lo sacerdote, mas São Gotardo não aceitou. Só dep
 ois de muita insistência do bispo é que São Gotardo de Hildesheim aceitou s
 er ordenado.Com o tempo, São Gotardo tornou-se monge e depois abade. No ano
  de 1020, faleceu Dom Benvardo, bispo de Hildesheim, e o imperador indicou 
 São Gotardo para ser o seu sucessor. Mais uma vez São Gotardo recusou, acei
 tando apenas depois de ter tido uma visão.São Gotardo morreu com a idade de
  77 anos. São Gotardo foi canonizado pelo Papa Inocêncio II a 29 de outubro
  de 1131. São Gotardo, rogai por nós! 
DTSTAMP:20260422T123358Z
DTSTART;TZID=Europe/Lisbon;VALUE=DATE:20180504
DTEND;TZID=Europe/Lisbon;VALUE=DATE:20180505
SEQUENCE:0
RRULE:FREQ=YEARLY;COUNT=999;INTERVAL=1;BYYEARDAY=-242
TRANSP:OPAQUE
END:VEVENT
END:VCALENDAR