BEGIN:VCALENDAR
VERSION:2.0
PRODID:-//jEvents 2.0 for Joomla//EN
CALSCALE:GREGORIAN
METHOD:PUBLISH
BEGIN:VTIMEZONE
TZID:Europe/Lisbon
BEGIN:STANDARD
DTSTART:20151025T010000
RDATE:20160327T020000
TZOFFSETFROM:+0100
TZOFFSETTO:+0000
TZNAME:Europe/Lisbon WET
END:STANDARD
BEGIN:STANDARD
DTSTART:20161030T010000
RDATE:20170326T020000
TZOFFSETFROM:+0100
TZOFFSETTO:+0000
TZNAME:Europe/Lisbon WET
END:STANDARD
BEGIN:STANDARD
DTSTART:20171029T010000
RDATE:20180325T020000
TZOFFSETFROM:+0100
TZOFFSETTO:+0000
TZNAME:Europe/Lisbon WET
END:STANDARD
BEGIN:STANDARD
DTSTART:20181028T010000
RDATE:20190331T020000
TZOFFSETFROM:+0100
TZOFFSETTO:+0000
TZNAME:Europe/Lisbon WET
END:STANDARD
BEGIN:STANDARD
DTSTART:20191027T010000
RDATE:20200329T020000
TZOFFSETFROM:+0100
TZOFFSETTO:+0000
TZNAME:Europe/Lisbon WET
END:STANDARD
BEGIN:STANDARD
DTSTART:20201025T010000
RDATE:20210328T020000
TZOFFSETFROM:+0100
TZOFFSETTO:+0000
TZNAME:Europe/Lisbon WET
END:STANDARD
BEGIN:DAYLIGHT
DTSTART:20150428T000000
RDATE:20151025T010000
TZOFFSETFROM:+0000
TZOFFSETTO:+0100
TZNAME:Europe/Lisbon WEST
END:DAYLIGHT
BEGIN:DAYLIGHT
DTSTART:20160327T020000
RDATE:20161030T010000
TZOFFSETFROM:+0000
TZOFFSETTO:+0100
TZNAME:Europe/Lisbon WEST
END:DAYLIGHT
BEGIN:DAYLIGHT
DTSTART:20170326T020000
RDATE:20171029T010000
TZOFFSETFROM:+0000
TZOFFSETTO:+0100
TZNAME:Europe/Lisbon WEST
END:DAYLIGHT
BEGIN:DAYLIGHT
DTSTART:20180325T020000
RDATE:20181028T010000
TZOFFSETFROM:+0000
TZOFFSETTO:+0100
TZNAME:Europe/Lisbon WEST
END:DAYLIGHT
BEGIN:DAYLIGHT
DTSTART:20190331T020000
RDATE:20191027T010000
TZOFFSETFROM:+0000
TZOFFSETTO:+0100
TZNAME:Europe/Lisbon WEST
END:DAYLIGHT
BEGIN:DAYLIGHT
DTSTART:20200329T020000
RDATE:20201025T010000
TZOFFSETFROM:+0000
TZOFFSETTO:+0100
TZNAME:Europe/Lisbon WEST
END:DAYLIGHT
END:VTIMEZONE
BEGIN:VEVENT
UID:f38b2a0db751689e9b22bf18c96b2e41
CATEGORIES:Santos
SUMMARY:São Bento Menni
DESCRIPTION;ENCODING=QUOTED-PRINTABLE:São Bento Menni nasceu a 11 de março de 1841 em Milão (Itália) e faleceu a 
 24 de abril de 1914 em Dinan (França). São Bento Menni era filho de Luís Me
 nni e de Luísa Figini. Foi batizado com o nome de Angelo Hercules Menni e e
 ra o quinto de quinze filhos do casal.\nOs pais de São Bento Menni eram cri
 stãos fervorosos e todas as noites rezavam com os filhos o Rosário e no seu
  quotidiano praticavam a caridade. São Bento Menni cresceu num ambiente fam
 iliar bastante religioso e na sua vida, existiram várias experiências que i
 nfluenciaram a sua decisão de entrar para a Ordem Hospitaleira de São João 
 de Deus. Essas experiências foram: a oração diária em frente de um quadro d
 a Virgem Maria; exercício espirituais quando tinha 17 anos; os conselhos de
  um eremita da sua cidade natal (Milão) e o exemplo dos Irmãos de São João 
 de Deus, tratando dos soldados quando estes chegavam à estação de Milão, fe
 ridos na batalha de Magenta. São Bento Menni chegou também a tratar dos sol
 dados feridos. \nNo ano de 1860 São Bento Menni entrou na Ordem Hospitaleir
 a de São João de Deus trocando o nome recebido no batismo pelo de Benito (B
 ento, em português). Fez os estudos filosóficos e teológicos, primeiro no S
 eminário de Lodi (perto de Milão) e depois no Colégio Romano (atual Pontifí
 cia Universidade Gregoriana de Roma). Em 1866 foi ordenado sacerdote.\nAssi
 m que foi ordenado São Bento Menni foi encarregado pelo Papa Pio IX de rest
 aurar a Ordem Hospitaleira de São João de Deus em Espanha, onde tinha sido 
 suprimida pelo liberalismo. São Bento Menni chegou a Barcelona em 1867 onde
  começou a restauração da Ordem. \nDepois de dar nova vida à Ordem em Espan
 ha, São Bento Menni continuou com a sua restauração em Portugal, no fim do 
 século XIX e, no México, já no princípio do século XX.\nSão Bento Menni foi
  um homem de caráter generoso e de caridade inesgotável, demonstrando capac
 idade de comando e administração. Em 31 de maio de 1881 juntamente com as r
 eligiosas Maria Josefa Recio e Angustias Gimenez fundou a Congregação das I
 rmãs Hospitaleiras do Sagrado Coração de Jesus. A Congregação era especiali
 zada na assistência aos doentes psiquiátricos. \nSão Bento Menni estava em 
 Paris quando adoeceu e veio a falecer em Dinan a 24 de abril de 1914.\nDura
 nte a sua vida São Bento Menni fundou 22 grandes centros entre asilos, hosp
 itais gerais e hospitais psiquiátricos. \nSão Bento Menni foi canonizado a 
 21 de novembro de 1999 pelo Papa João Paulo II.\n \nSão Bento Menni rogai p
 or nós!\n
DTSTAMP:20260420T031152Z
DTSTART;TZID=Europe/Lisbon;VALUE=DATE:20160428
DTEND;TZID=Europe/Lisbon;VALUE=DATE:20160429
SEQUENCE:0
RRULE:FREQ=YEARLY;COUNT=100;INTERVAL=1;BYYEARDAY=-248
TRANSP:OPAQUE
END:VEVENT
END:VCALENDAR