BEGIN:VCALENDAR
VERSION:2.0
PRODID:-//jEvents 2.0 for Joomla//EN
CALSCALE:GREGORIAN
METHOD:PUBLISH
BEGIN:VTIMEZONE
TZID:Europe/Lisbon
BEGIN:STANDARD
DTSTART:20151025T010000
RDATE:20160327T020000
TZOFFSETFROM:+0100
TZOFFSETTO:+0000
TZNAME:Europe/Lisbon WET
END:STANDARD
BEGIN:STANDARD
DTSTART:20161030T010000
RDATE:20170326T020000
TZOFFSETFROM:+0100
TZOFFSETTO:+0000
TZNAME:Europe/Lisbon WET
END:STANDARD
BEGIN:STANDARD
DTSTART:20171029T010000
RDATE:20180325T020000
TZOFFSETFROM:+0100
TZOFFSETTO:+0000
TZNAME:Europe/Lisbon WET
END:STANDARD
BEGIN:STANDARD
DTSTART:20181028T010000
RDATE:20190331T020000
TZOFFSETFROM:+0100
TZOFFSETTO:+0000
TZNAME:Europe/Lisbon WET
END:STANDARD
BEGIN:STANDARD
DTSTART:20191027T010000
RDATE:20200329T020000
TZOFFSETFROM:+0100
TZOFFSETTO:+0000
TZNAME:Europe/Lisbon WET
END:STANDARD
BEGIN:STANDARD
DTSTART:20201025T010000
RDATE:20210328T020000
TZOFFSETFROM:+0100
TZOFFSETTO:+0000
TZNAME:Europe/Lisbon WET
END:STANDARD
BEGIN:DAYLIGHT
DTSTART:20150428T000000
RDATE:20151025T010000
TZOFFSETFROM:+0000
TZOFFSETTO:+0100
TZNAME:Europe/Lisbon WEST
END:DAYLIGHT
BEGIN:DAYLIGHT
DTSTART:20160327T020000
RDATE:20161030T010000
TZOFFSETFROM:+0000
TZOFFSETTO:+0100
TZNAME:Europe/Lisbon WEST
END:DAYLIGHT
BEGIN:DAYLIGHT
DTSTART:20170326T020000
RDATE:20171029T010000
TZOFFSETFROM:+0000
TZOFFSETTO:+0100
TZNAME:Europe/Lisbon WEST
END:DAYLIGHT
BEGIN:DAYLIGHT
DTSTART:20180325T020000
RDATE:20181028T010000
TZOFFSETFROM:+0000
TZOFFSETTO:+0100
TZNAME:Europe/Lisbon WEST
END:DAYLIGHT
BEGIN:DAYLIGHT
DTSTART:20190331T020000
RDATE:20191027T010000
TZOFFSETFROM:+0000
TZOFFSETTO:+0100
TZNAME:Europe/Lisbon WEST
END:DAYLIGHT
BEGIN:DAYLIGHT
DTSTART:20200329T020000
RDATE:20201025T010000
TZOFFSETFROM:+0000
TZOFFSETTO:+0100
TZNAME:Europe/Lisbon WEST
END:DAYLIGHT
END:VTIMEZONE
BEGIN:VEVENT
UID:ac85db1f37a288a40be9d33163941f5d
CATEGORIES:Santos
SUMMARY:Beato Luquésio
DESCRIPTION;ENCODING=QUOTED-PRINTABLE:Beato Luquésio nasceu em 1181 em Gaggiano, Milão (Itália) e faleceu a 28 de
  abril de 1260 em Poggibonzi (Itália). Não há dados concretos sobre a infân
 cia ou adolescência do beato. Sabemos que o seu nome era Lucchese Modestini
  (em português: Luquésio ou Lúcio).\nComo outros jovens da sua idade, beato
  Luquésio sonhava com armas e glória militar; e começou por militar no part
 ido do Imperador; para mais tarde, por interesses comerciais, passar para o
  partido da Papa. Nestas suas andanças, conheceu uma jovem de Poggibonzi, B
 uonadonna Segni, com a qual casou. Depois de casar Beato Luquésio passou a 
 residir em Poggibonzi.\nTanto o beato Luquésio como a sua mulher eram apega
 dos ao dinheiro, e aos bens materiais. Trabalhavam no comércio; emprestavam
  dinheiro aos ricos e nobres e assim fizeram fortuna. Mas esta ilusão do lu
 xo, do conforto e dos bens temporais, resultou no afastamento das coisas de
  Deus, e nem sempre esses negócios eram honestos. Prevendo que uma crise de
  mantimentos iria acontecer Luquésio comprou todo o trigo existente, e depo
 is como era o único que tinha o produto, elevou os preços e teve lucros ext
 raordinários.\nPor essa altura, São Francisco (http://www.paroquia-almancil
 .pt/utilidades/vida-dos-santos/icalrepeat.detail/2018/10/04/48947/-/s%C3%A3
 o-francisco-de-assis.html), andava na zona de Arezzo a pregar. Beato Luqués
 io conhecia o pai de São Francisco de Assis do mundo dos negócios e decidiu
  ir ouvir São Francisco.\nDe tão eloquentes e santas palavras, tirou o rico
  e abastado Luquésio, uma lição de humildade, e fraternidade para com os po
 bres e desfavorecidos, mudando radicalmente a sua vida, devolvendo tudo, o 
 que por meios menos próprios, foi conseguindo e dividindo, com os pobres a 
 sua riqueza.\nNesta altura, sua esposa Buonadonna, ainda não tinha sido ilu
 minada, pelo espírito de Francisco, pois questionava as opções do marido, d
 uvidando até da sua capacidade mental, o qual, com muita paciência, rezava 
 para a sua conversão.\nCerto dia, Buonadonna estava a discutir com o beato 
 Luquésio sobre o seu hábito de dar pão a todos e que por isso tinha esvazia
 do toda a arca e não lhes sobrando nada. Meigamente Luquésio lembra a mulhe
 r do milagre da multiplicação dos pães. Perante as palavras de Luquésio a e
 sposa refletiu e quando ao abrir de novo a arca a encontrou cheia de pão fr
 esco, a divina luz de Deus a iluminou.\nTendo perdido os seus dois filhos, 
 o casal dedicou a sua vida a Deus e ao próximo. Sabendo que São Francisco, 
 andava pelos campos ali próximo, muitos leigos, pedem a sua adesão à causa 
 franciscana e entre eles estão, o casal (conhecidos como os Bem-Casados), L
 uquésio e Buonadonna, propondo o beato Luquésio a São Francisco a entrada n
 o convento e a entrada de Buonadonna para o convento de São Damião juntando
 -se a Santa Clara (http://www.paroquia-almancil.pt/utilidades/vida-dos-sant
 os/icalrepeat.detail/2018/08/11/16191/-/santa-clara-de-assis.html). De pron
 to São Francisco de Assis contrariou estas ideias dizendo: &ldquo;Vocês são
  casados e vão continuar a viver juntos, mas vou dar-lhes uma regra de vida
  para se tornarem perfeitos&rdquo;. Eles vestiram o hábito cor cinza e fora
 m cingidos com um cíngulo dizendo: &ldquo;Vocês vivem no mundo de frades pe
 nitentes, mas pertencem ao mundo&rdquo; para fazer boas obras, jejuar e pre
 gar a paz.\nSão Francisco, pensava, já havia tempo que numa instituição que
  agrupasse também pessoas leigas, homens e mulheres casados e trabalhadores
 , que devido ao seu estado não podiam sujeitar-se aos três clássicos votos,
  de castidade, pobreza e obediência; aproveitou esta oportunidades, compôs 
 e enviou ao casal a regra da chamada Ordem Terceira da Penitência considera
 da e definida como &ldquo;medula do Evangelho&rdquo; que foi aprovada pelo 
 Papa Nicolau IV em 1221.\nSeguindo as regras da nova vida, Luquésio vendeu 
 a sua casa e todos os seus bens, entregou o dinheiro, para o hospital de Sã
 o João e o casal, ficou a morar numa pequena casa, perto de um campo, onde 
 o beato Luquésio, cultivava produtos, para o seu sustento e dos pobres.\nCe
 rta vez um padre, passando junto ao campo do beato Luquésio, vendo que havi
 a cebolas, pediu algumas e Luquésio deu-lhe tantas, que poucas ficaram. Ent
 ão Luquésio pediu ao padre para as abençoar e logo elas se multiplicaram.\n
 Já na sua renovada vida de bem-fazer passando à oração e penitência, havia 
 perto de sua casa o ermitério de Santa Maria em Camaldo, onde o beato Luqué
 sio e a sua mulher se deslocavam muitas vezes para rezar; aí em contemplaçã
 o o seu corpo se elevava no ar.\nO beato Luquésio recolhia muitas vezes doe
 ntes e levava-os para onde podiam ser tratados. Quando uma vez estava a lev
 ar um doente, um rapaz lembrou-se de o humilhar e Luquésio respondeu: &ldqu
 o;Eu carrego comigo o sofrimento de Cristo&rdquo;, e como punição divina, o
  jovem tornou-se mudo, mas Luquésio, intercedeu por ele em oração, e a pala
 vra foi-lhe devolvida.\nEm 26 de Abril de 1260 o beato Luquésio e a sua mul
 her Buonadonna, unidos pelo amor na terra, foram também juntos chamados à c
 asa do Senhor. Luquésio teve de ficar de cama, quando de repente Buonadonna
 , também ficou febril e sentiu-se tão mal que pediu ao marido para chamar o
  seu confessor frei Hildebrando, para este lhe administrar o sacramento dos
  doentes. Então Luquésio, vendo a esposa muito mal, pegou-lhe delicadamente
  na mão e disse: &ldquo;Querida, já que tanto nos amámos em vida, porque nã
 o vamos juntos para a pátria eterna? Por isso espera-me por favor&rdquo;.\n
 Assim que frei Hildebrando acabou de lhes administrar o sacramento dos doen
 tes Buonadonna morreu. Ao vera mulher morrer o Beato Luquésio fez o sinal d
 a cruz, pediu a intervenção da Virgem Maria e de São Francisco, e entrelaço
 u os seus dedos nas mãos da mulher. Poucas horas depois faleceu também o be
 ato Luquésio.\nBeato Luquésio foi beatificado em 1274 pelo Papa Gregório X.
 \n
DTSTAMP:20260422T002952Z
DTSTART;TZID=Europe/Lisbon;VALUE=DATE:20160428
DTEND;TZID=Europe/Lisbon;VALUE=DATE:20160429
SEQUENCE:0
RRULE:FREQ=YEARLY;COUNT=100;INTERVAL=1;BYYEARDAY=-248
TRANSP:OPAQUE
END:VEVENT
END:VCALENDAR