BEGIN:VCALENDAR
VERSION:2.0
PRODID:-//jEvents 2.0 for Joomla//EN
CALSCALE:GREGORIAN
METHOD:PUBLISH
BEGIN:VTIMEZONE
TZID:Europe/Lisbon
BEGIN:STANDARD
DTSTART:20151025T010000
RDATE:20160327T020000
TZOFFSETFROM:+0100
TZOFFSETTO:+0000
TZNAME:Europe/Lisbon WET
END:STANDARD
BEGIN:STANDARD
DTSTART:20161030T010000
RDATE:20170326T020000
TZOFFSETFROM:+0100
TZOFFSETTO:+0000
TZNAME:Europe/Lisbon WET
END:STANDARD
BEGIN:STANDARD
DTSTART:20171029T010000
RDATE:20180325T020000
TZOFFSETFROM:+0100
TZOFFSETTO:+0000
TZNAME:Europe/Lisbon WET
END:STANDARD
BEGIN:STANDARD
DTSTART:20181028T010000
RDATE:20190331T020000
TZOFFSETFROM:+0100
TZOFFSETTO:+0000
TZNAME:Europe/Lisbon WET
END:STANDARD
BEGIN:STANDARD
DTSTART:20191027T010000
RDATE:20200329T020000
TZOFFSETFROM:+0100
TZOFFSETTO:+0000
TZNAME:Europe/Lisbon WET
END:STANDARD
BEGIN:STANDARD
DTSTART:20201025T010000
RDATE:20210328T020000
TZOFFSETFROM:+0100
TZOFFSETTO:+0000
TZNAME:Europe/Lisbon WET
END:STANDARD
BEGIN:DAYLIGHT
DTSTART:20150427T000000
RDATE:20151025T010000
TZOFFSETFROM:+0000
TZOFFSETTO:+0100
TZNAME:Europe/Lisbon WEST
END:DAYLIGHT
BEGIN:DAYLIGHT
DTSTART:20160327T020000
RDATE:20161030T010000
TZOFFSETFROM:+0000
TZOFFSETTO:+0100
TZNAME:Europe/Lisbon WEST
END:DAYLIGHT
BEGIN:DAYLIGHT
DTSTART:20170326T020000
RDATE:20171029T010000
TZOFFSETFROM:+0000
TZOFFSETTO:+0100
TZNAME:Europe/Lisbon WEST
END:DAYLIGHT
BEGIN:DAYLIGHT
DTSTART:20180325T020000
RDATE:20181028T010000
TZOFFSETFROM:+0000
TZOFFSETTO:+0100
TZNAME:Europe/Lisbon WEST
END:DAYLIGHT
BEGIN:DAYLIGHT
DTSTART:20190331T020000
RDATE:20191027T010000
TZOFFSETFROM:+0000
TZOFFSETTO:+0100
TZNAME:Europe/Lisbon WEST
END:DAYLIGHT
BEGIN:DAYLIGHT
DTSTART:20200329T020000
RDATE:20201025T010000
TZOFFSETFROM:+0000
TZOFFSETTO:+0100
TZNAME:Europe/Lisbon WEST
END:DAYLIGHT
END:VTIMEZONE
BEGIN:VEVENT
UID:846177195477447a3a880d570a3c86c4
CATEGORIES:Santos
SUMMARY:Santa Zita
DESCRIPTION;ENCODING=QUOTED-PRINTABLE:Santa Zita nasceu no ano de 1218 em Monsagrati, perto da cidade de Luca (It
 ália) e faleceu a 27 de abril de 1278 em Luca (Itália).\nSanta Zita nasceu 
 no seio duma família pobre e com muitos filhos.  Santa Zita era uma menina,
  muito querida por todos devido à sua mansidão e modéstia. Educada no santo
  temor de Deus, Santa Zita pouco falava, trabalhando e conservando sua alma
  em constante recolhimento.\nQuando Santa Zita tinha doze anos foi levada p
 ara trabalhar na casa de um nobre, Pagano di Fatineli, que residia perto da
  igreja de São Fridigiano, na cidade de Luca. Esta era a única maneira de u
 ma rapariga não passar a ser mais um peso para a família.\nBem cedo, antes 
 dos outros se levantarem, Santa Zita ia à igreja assistir à missa mas à hor
 a marcada infalivelmente já se encontrava a trabalhar. Santa Zita não tinha
  um salário e em troca do seu trabalho recebia comida e roupa para vestir.\
 nNa época era costume se a família gostasse da empregada e quisesse dar-lhe
  um futuro mais seguro, era possível que lhe dessem um dote para se poder c
 asar. Contudo isso não era uma obrigação.\nA família para a qual Santa Zita
  foi trabalhar, não tinha o costume de tratar os seus criados com dignidade
 . Por isso, Santa Zita sofreu muito, principalmente nos primeiros anos.  Sa
 nta Zita foi maltratada pelos patrões e também pelos outros empregados da c
 asa. Contudo Santa Zita, procurava na oração a força para suportar todas as
  humilhações que sofria.\nA caridade cristã fez com que Zita se tornasse ba
 stante conhecida entre os mais pobres que viviam perto da casa ode trabalha
 va. Tudo aquilo que Santa Zita recebia, fosse roupa ou comida, doava aos qu
 e mais precisavam.\nCom o tempo a caridade de Santa Zita foi notada e consi
 derada pelos patrões. Percebendo o seu espírito cristão e a sua eficiência 
 no trabalho, eles passaram para as mãos da jovem Zita o comando da casa e d
 e todos os criados. Os patrões ficaram satisfeitos com os resultados.\nUma 
 vez, um mendigo pediu a Santa Zita um copo de vinho. Santa Zita, não dispon
 do de nenhuma gota desta bebida para servir ao pobre, foi com o cântaro à f
 onte, e cheio deu-o ao mendigo. \nQuando o mendigo levou o cântaro à boca f
 icou muito admirado por ter provado um vinho delicioso.\nAs frutas no celei
 ro, e a farinha na dispensa multiplicavam-se nas mãos de Santa Zita sempre 
 que com a autorização dos patrões, a santa tirava um pouco para seus pobres
 .\nVendo que Santa Zita era considerada pelos patrões os criados começaram 
 a ficar com inveja e ciúme. Cheia de inveja e querendo assumir o posto de S
 anta Zita, uma das criadas da casa acusou-a de distribuir alimentos da desp
 ensa da casa entre os mendigos sem autorização dos patrões.\nCerto dia quan
 do Santa Zita vinha carregando um grande volume de algo em seu avental, o g
 rande patriarca da casa chegou e, influenciado pela criada invejosa, pergun
 tou a Zita o que ela estava levando escondido no avental. Zita respondeu: "
 são flores". Então, ela soltou o avental um grande volume de flores caiu e 
 cobriu os pés da santa. Sua inocência ficou provada. Ela foi defendida por 
 Deus.\nJamais alguém a viu encolerizada. Santa Zita apenas não continha a s
 ua indignação quando alguém na sua presença se atrevia a dizer uma palavra 
 que ofendesse a virtude angélica.\nSanta Zita serviu a família Fatineli por
  48 anos, sempre com a mesma pontualidade e dedicação.\nDizia Santa Zita qu
 e são quatro as principais qualidades que uma empregada deve ter: temor de 
 Deus, obediência, fidelidade e amor ao trabalho.\nSanta Zita possuía todos 
 estes predicados no mais alto grau. O que nela mais se admirava, era a paci
 ência e o bom humor, que a acompanhavam em toda a parte, e a submissão a se
 us patrões, mesmo nas condições mais difíceis.\nO tempo que lhe restava de 
 seus afazeres, empregava-o com orações e boa leitura, não deixando nunca de
  elevar seu espírito a Deus também no meio do trabalho.\nSanta Zita faleceu
  a 27 de abril de 1278 com sessenta anos,\nFoi canonizada pelo Papa Inocênc
 io XII em 1696.\nÉ padroeira dos empregados domésticos.\n \nSanta Zita roga
 i por nós!\n
DTSTAMP:20260421T205756Z
DTSTART;TZID=Europe/Lisbon;VALUE=DATE:20160427
DTEND;TZID=Europe/Lisbon;VALUE=DATE:20160428
SEQUENCE:0
RRULE:FREQ=YEARLY;COUNT=100;INTERVAL=1;BYYEARDAY=-249
TRANSP:OPAQUE
END:VEVENT
END:VCALENDAR