BEGIN:VCALENDAR
VERSION:2.0
PRODID:-//jEvents 2.0 for Joomla//EN
CALSCALE:GREGORIAN
METHOD:PUBLISH
BEGIN:VTIMEZONE
TZID:Europe/Lisbon
BEGIN:STANDARD
DTSTART:20151025T010000
RDATE:20160327T020000
TZOFFSETFROM:+0100
TZOFFSETTO:+0000
TZNAME:Europe/Lisbon WET
END:STANDARD
BEGIN:STANDARD
DTSTART:20161030T010000
RDATE:20170326T020000
TZOFFSETFROM:+0100
TZOFFSETTO:+0000
TZNAME:Europe/Lisbon WET
END:STANDARD
BEGIN:STANDARD
DTSTART:20171029T010000
RDATE:20180325T020000
TZOFFSETFROM:+0100
TZOFFSETTO:+0000
TZNAME:Europe/Lisbon WET
END:STANDARD
BEGIN:STANDARD
DTSTART:20181028T010000
RDATE:20190331T020000
TZOFFSETFROM:+0100
TZOFFSETTO:+0000
TZNAME:Europe/Lisbon WET
END:STANDARD
BEGIN:STANDARD
DTSTART:20191027T010000
RDATE:20200329T020000
TZOFFSETFROM:+0100
TZOFFSETTO:+0000
TZNAME:Europe/Lisbon WET
END:STANDARD
BEGIN:STANDARD
DTSTART:20201025T010000
RDATE:20210328T020000
TZOFFSETFROM:+0100
TZOFFSETTO:+0000
TZNAME:Europe/Lisbon WET
END:STANDARD
BEGIN:DAYLIGHT
DTSTART:20150426T000000
RDATE:20151025T010000
TZOFFSETFROM:+0000
TZOFFSETTO:+0100
TZNAME:Europe/Lisbon WEST
END:DAYLIGHT
BEGIN:DAYLIGHT
DTSTART:20160327T020000
RDATE:20161030T010000
TZOFFSETFROM:+0000
TZOFFSETTO:+0100
TZNAME:Europe/Lisbon WEST
END:DAYLIGHT
BEGIN:DAYLIGHT
DTSTART:20170326T020000
RDATE:20171029T010000
TZOFFSETFROM:+0000
TZOFFSETTO:+0100
TZNAME:Europe/Lisbon WEST
END:DAYLIGHT
BEGIN:DAYLIGHT
DTSTART:20180325T020000
RDATE:20181028T010000
TZOFFSETFROM:+0000
TZOFFSETTO:+0100
TZNAME:Europe/Lisbon WEST
END:DAYLIGHT
BEGIN:DAYLIGHT
DTSTART:20190331T020000
RDATE:20191027T010000
TZOFFSETFROM:+0000
TZOFFSETTO:+0100
TZNAME:Europe/Lisbon WEST
END:DAYLIGHT
BEGIN:DAYLIGHT
DTSTART:20200329T020000
RDATE:20201025T010000
TZOFFSETFROM:+0000
TZOFFSETTO:+0100
TZNAME:Europe/Lisbon WEST
END:DAYLIGHT
END:VTIMEZONE
BEGIN:VEVENT
UID:578e0d2217c304de8580a61d913b8a39
CATEGORIES:Santos
SUMMARY:São Pedro de São José Betancur
DESCRIPTION;ENCODING=QUOTED-PRINTABLE:São Pedro de São José Betancur nasceu 19 de março de 1626 em Villaflor (Ten
 erife) e faleceu a 25 de abril de 1667 em Antigua (Guatemala).\nSão Pedro d
 e São José Betancur nasceu no seio duma família cristã e era filho de Amado
 r González Betancur de la Rosa e Ana Garcia sendo batizado apenas com dois 
 dias de idade. \nA infância de São Pedro de São José Betancur foi passada e
 m Villaflor. O santo era um menino modesto, calmo, mas poderosamente constr
 uído por seu trabalho no campo. Desde cedo São Pedro de São José Betancur a
 presentava uma predileção pelas coisas de Deus, orando o tempo todo, mesmo 
 no campo cuidando das cabras de seu pai.\nA família de São Pedro de São Jos
 é Betancur não tinha dinheiro e o seu pai era dono de terras e ovelhas, que
  perdeu nas mãos de um agiota (pessoa que empresta dinheiro ilegalmente e q
 ue cobra juros altíssimos). Aos 23 anos São Pedro de São José Betancur deix
 ou Tenerife e, depois de 2 anos, chegou à Guatemala. São Pedro de São José 
 Betancur começou a viver na Guatemala como se esta fosse essa a sua pátria,
  e depressa captou a simpatia das famílias do lugar, que desejavam a presen
 ça do santo nas suas casas, pela sua afabilidade e interesse pela situação 
 de cada um.\nSão Pedro de São José Betancur ajudou pobres, doentes, órfãos 
 e moribundos, e foi um precursor dos Direitos Humanos.\nPor dificuldades no
 s estudos, não conseguiu ser sacerdote, não foi membro de uma Ordem religio
 sa, o que o convenceu de que Deus o chamava à santidade por outro caminho; 
 seguiu o da caridade, tornando-se um verdadeiro apaixonado pelos pobres por
  amor a Cristo. Sincero e humilde, mas de um singular intuição e prática na
  vida, soube reconhecer Deus e encontrar Cristo nas ruas da cidade. Os seus
  compatriotas chegavam em busca de poder e de riquezas; ele procurou as sua
 s honras na catequese, na oração e no alívio dos sofrimentos humanos dos po
 bres. Essa era a sua ambição, que realizava &ldquo;sempre ocupado em obras 
 de misericórdia&rdquo;, aliviando o sofrimento do seu Salvador nas cruzes d
 os mais pobres.\nPeregrino e contemplativo, São Pedro de São José Betancur 
 traçou um itinerário de lugares de oração, de recolhimento e de contemplaçã
 o, para que aqueles povos pudessem gozar de momentos de contato com o Senho
 r. Por isso, não nos admiremos de que ele fosse um &ldquo;leigo fundador de
  uma Ordem religiosa&rdquo;. Assim se expressam os Bispos da Guatemala em C
 arta Pastoral, escrita a propósito da sua canonização.\nTendo vestido o háb
 ito da Terceira Ordem da Penitência franciscana, continuou a sua vida na pr
 ática das obras de caridade, consolidando a sua devoção a Maria; rezava o t
 erço na Capela da casa com os escravos, os mais simples, sem deixar de se r
 etirar para o &ldquo;seu&rdquo; Calvário (tinha-o construído com as suas pr
 óprias mãos), pelos pátios da Pousada de Belém. Alguns deixaram-se seduzir 
 pelo seu exemplo e congregou à sua volta os que julgou idôneos para dar cum
 primento aos seus desejos. Com eles acerta uma vida regular de oração e aus
 teridade que, ao trabalho com os pobres, uniam uma espiritualidade muito ri
 ca de fidelidade a Deus e vida comunitária. Assim nasceu a Ordem Betlemita,
  fundada na Guatemala e ainda hoje viva naqueles meios, ao serviço das pess
 oas mais humildes e sem lar.\nSão Pedro de São José Betancur foi canonizado
  a 30 de julho de 2002 pelo Papa João Paulo II.\n \nSão Pedro de São José B
 etancur rogai por nós!\n
DTSTAMP:20260420T033559Z
DTSTART;TZID=Europe/Lisbon;VALUE=DATE:20160426
DTEND;TZID=Europe/Lisbon;VALUE=DATE:20160427
SEQUENCE:0
RRULE:FREQ=YEARLY;COUNT=100;INTERVAL=1;BYYEARDAY=-250
TRANSP:OPAQUE
END:VEVENT
END:VCALENDAR