BEGIN:VCALENDAR
VERSION:2.0
PRODID:-//jEvents 2.0 for Joomla//EN
CALSCALE:GREGORIAN
METHOD:PUBLISH
BEGIN:VTIMEZONE
TZID:Europe/Lisbon
BEGIN:STANDARD
DTSTART:20151025T010000
RDATE:20160327T020000
TZOFFSETFROM:+0100
TZOFFSETTO:+0000
TZNAME:Europe/Lisbon WET
END:STANDARD
BEGIN:STANDARD
DTSTART:20161030T010000
RDATE:20170326T020000
TZOFFSETFROM:+0100
TZOFFSETTO:+0000
TZNAME:Europe/Lisbon WET
END:STANDARD
BEGIN:STANDARD
DTSTART:20171029T010000
RDATE:20180325T020000
TZOFFSETFROM:+0100
TZOFFSETTO:+0000
TZNAME:Europe/Lisbon WET
END:STANDARD
BEGIN:STANDARD
DTSTART:20181028T010000
RDATE:20190331T020000
TZOFFSETFROM:+0100
TZOFFSETTO:+0000
TZNAME:Europe/Lisbon WET
END:STANDARD
BEGIN:STANDARD
DTSTART:20191027T010000
RDATE:20200329T020000
TZOFFSETFROM:+0100
TZOFFSETTO:+0000
TZNAME:Europe/Lisbon WET
END:STANDARD
BEGIN:STANDARD
DTSTART:20201025T010000
RDATE:20210328T020000
TZOFFSETFROM:+0100
TZOFFSETTO:+0000
TZNAME:Europe/Lisbon WET
END:STANDARD
BEGIN:DAYLIGHT
DTSTART:20150426T000000
RDATE:20151025T010000
TZOFFSETFROM:+0000
TZOFFSETTO:+0100
TZNAME:Europe/Lisbon WEST
END:DAYLIGHT
BEGIN:DAYLIGHT
DTSTART:20160327T020000
RDATE:20161030T010000
TZOFFSETFROM:+0000
TZOFFSETTO:+0100
TZNAME:Europe/Lisbon WEST
END:DAYLIGHT
BEGIN:DAYLIGHT
DTSTART:20170326T020000
RDATE:20171029T010000
TZOFFSETFROM:+0000
TZOFFSETTO:+0100
TZNAME:Europe/Lisbon WEST
END:DAYLIGHT
BEGIN:DAYLIGHT
DTSTART:20180325T020000
RDATE:20181028T010000
TZOFFSETFROM:+0000
TZOFFSETTO:+0100
TZNAME:Europe/Lisbon WEST
END:DAYLIGHT
BEGIN:DAYLIGHT
DTSTART:20190331T020000
RDATE:20191027T010000
TZOFFSETFROM:+0000
TZOFFSETTO:+0100
TZNAME:Europe/Lisbon WEST
END:DAYLIGHT
BEGIN:DAYLIGHT
DTSTART:20200329T020000
RDATE:20201025T010000
TZOFFSETFROM:+0000
TZOFFSETTO:+0100
TZNAME:Europe/Lisbon WEST
END:DAYLIGHT
END:VTIMEZONE
BEGIN:VEVENT
UID:417b7bb4afc5d1adcde58eeeb33b044d
CATEGORIES:Santos
SUMMARY:Nossa Senhora de Montserrat
DESCRIPTION;ENCODING=QUOTED-PRINTABLE:Nossa Senhora de Monserrat também é conhecida como Virgem Negra de Montserr
 at. Popularmente é conhecida popularmente como La Moreneta ("A Morena").\nS
 egundo a lenda, a imagem de Nossa Senhora de Montserrat teria sido construí
 da por São Lucas (http://www.paroquia-almancil.pt/utilidades/vida-dos-santo
 s/icalrepeat.detail/2018/10/18/51803/-/s%C3%A3o-lucas.html). Terá sido São 
 Pedro (http://www.paroquia-almancil.pt/utilidades/vida-dos-santos/icalrepea
 t.detail/2018/06/29/54822/-/s%C3%A3o-pedro-e-s%C3%A3o-paulo.html) que duran
 te a sua viagem pela Península Ibérica, no ano 50, terá transportado uma im
 agem de madeira esculpida conhecida por Senhora Jerusalemitana, e a terá de
 ixado em Montserrat, na Catalunha.\nPor volta do ano 546 um monge chamado Q
 uerino, fundou no local um rudimentar mosteiro consagrado à referida imagem
 , que alguns séculos antes, fora trazida por São\nPedro.\nNo tempo das inva
 sões, pelos árabes a imagem foi escondida numa caverna e só encontrada dois
  séculos depois por pastores da região, que a levaram de volta ao mosteiro 
 em solene procissão.\nConta-se que os referidos pastores de Obesa passavam 
 pela montanha quando ouviram cânticos celestiais e foram atraídos por uma l
 uz esplendorosa que saía do interior do rochedo. Encantados com o som e com
  as luzes subiram o monte e pasmados caíram de joelhos diante da imagem da 
 Virgem Maria, que se encontrava numa cavidade natural na elevação da montan
 ha.\nRapidamente os pastores desceram o monte e cheios de alegria foram ao 
 encontro do bispo de Manresa e revelaram o ocorrido. Na companhia dos pasto
 res, o Bispo sobe o monte e comprova o fato, e fica extasiado pela beleza e
  detalhes da imagem.\nAssim que os habitantes das redondezas souberam da no
 tícia, correram ao local e tentaram retirar a imagem e transportá-la para u
 m local mais elevado da montanha. Apesar de todos os esforços não conseguir
 am movê-la do lugar. Este fenómeno foi interpretado por todos, como um sina
 l de que a imagem deveria ficar no local onde se encontrava. Assim no local
  foi erguida uma capela sob a proteção dos monges.\nMais tarde, com os dona
 tivos da nobreza que prestava culto e veneração a Nossa Senhora de Montserr
 at foi erguido no local o Mosteiro Beneditino de Montserrat.\n \nNossa Senh
 ora de Montserrat rogai por nós!\n
DTSTAMP:20260423T171424Z
DTSTART;TZID=Europe/Lisbon;VALUE=DATE:20160426
DTEND;TZID=Europe/Lisbon;VALUE=DATE:20160427
SEQUENCE:0
RRULE:FREQ=YEARLY;COUNT=100;INTERVAL=1;BYYEARDAY=-250
TRANSP:OPAQUE
END:VEVENT
END:VCALENDAR