BEGIN:VCALENDAR
VERSION:2.0
PRODID:-//jEvents 2.0 for Joomla//EN
CALSCALE:GREGORIAN
METHOD:PUBLISH
BEGIN:VTIMEZONE
TZID:Europe/Lisbon
BEGIN:STANDARD
DTSTART:20151025T010000
RDATE:20160327T020000
TZOFFSETFROM:+0100
TZOFFSETTO:+0000
TZNAME:Europe/Lisbon WET
END:STANDARD
BEGIN:STANDARD
DTSTART:20161030T010000
RDATE:20170326T020000
TZOFFSETFROM:+0100
TZOFFSETTO:+0000
TZNAME:Europe/Lisbon WET
END:STANDARD
BEGIN:STANDARD
DTSTART:20171029T010000
RDATE:20180325T020000
TZOFFSETFROM:+0100
TZOFFSETTO:+0000
TZNAME:Europe/Lisbon WET
END:STANDARD
BEGIN:STANDARD
DTSTART:20181028T010000
RDATE:20190331T020000
TZOFFSETFROM:+0100
TZOFFSETTO:+0000
TZNAME:Europe/Lisbon WET
END:STANDARD
BEGIN:STANDARD
DTSTART:20191027T010000
RDATE:20200329T020000
TZOFFSETFROM:+0100
TZOFFSETTO:+0000
TZNAME:Europe/Lisbon WET
END:STANDARD
BEGIN:STANDARD
DTSTART:20201025T010000
RDATE:20210328T020000
TZOFFSETFROM:+0100
TZOFFSETTO:+0000
TZNAME:Europe/Lisbon WET
END:STANDARD
BEGIN:DAYLIGHT
DTSTART:20150423T000000
RDATE:20151025T010000
TZOFFSETFROM:+0000
TZOFFSETTO:+0100
TZNAME:Europe/Lisbon WEST
END:DAYLIGHT
BEGIN:DAYLIGHT
DTSTART:20160327T020000
RDATE:20161030T010000
TZOFFSETFROM:+0000
TZOFFSETTO:+0100
TZNAME:Europe/Lisbon WEST
END:DAYLIGHT
BEGIN:DAYLIGHT
DTSTART:20170326T020000
RDATE:20171029T010000
TZOFFSETFROM:+0000
TZOFFSETTO:+0100
TZNAME:Europe/Lisbon WEST
END:DAYLIGHT
BEGIN:DAYLIGHT
DTSTART:20180325T020000
RDATE:20181028T010000
TZOFFSETFROM:+0000
TZOFFSETTO:+0100
TZNAME:Europe/Lisbon WEST
END:DAYLIGHT
BEGIN:DAYLIGHT
DTSTART:20190331T020000
RDATE:20191027T010000
TZOFFSETFROM:+0000
TZOFFSETTO:+0100
TZNAME:Europe/Lisbon WEST
END:DAYLIGHT
BEGIN:DAYLIGHT
DTSTART:20200329T020000
RDATE:20201025T010000
TZOFFSETFROM:+0000
TZOFFSETTO:+0100
TZNAME:Europe/Lisbon WEST
END:DAYLIGHT
END:VTIMEZONE
BEGIN:VEVENT
UID:270564c3882b67c5ffd2265353a0c06d
CATEGORIES:Santos
SUMMARY:  Santo Adalberto de Praga
DESCRIPTION;ENCODING=QUOTED-PRINTABLE:Santo Adalberto de Praga nasceu no ano de 956 em Libice, Boémia (atual Repú
 blica Checa) e faleceu a 23 de abril de 997 em Truso (Polónia). Santo Adalb
 erto era descendente da nobre família dos príncipes de Slavnik. Foi batizad
 o com o nome Woytiech, isto é, "socorro do exército". O pai de Santo Adalbe
 rto era um rico e independente governante do principado de Zličan, que riva
 lizava com Praga. Santo Adalberto tinha cinco irmãos: Soběslav (herdeiro do
 s Slavniks), Spytimír, Pobraslav, Pořej, Čáslav e um meio-irmão Radim (que 
 adotou mais tarde o nome Gaudêncio) duma relação do seu pai com outra mulhe
 r.\nAinda bebé Santo Adalberto, adoeceu gravemente e os seus pais prometera
 m que caso recuperasse seria consagrado a Deus. Como Santo Adalberto recupe
 rou a saúde, os pais encaminharam os seus estudos de forma que, mais tarde,
  Adalberto se tornasse sacerdote.\nSanto Adalberto era um homem bem-educado
 , tendo estudado durante cerca de dez anos (970-80) em Magdeburgo, sob a or
 ientação de Adalberto de Magdeburgo. Com a morte do seu mentor, o santo ado
 tou o nome Adalberto em sua homenagem.\nEm 980 Santo Adalberto concluiu os 
 seus estudos na escola de Magdeburgo e retornou a Praga, onde se tornou sac
 erdote. Em 981 morreram, o seu pai, príncipe Slavník, e o seu mentor, Adalb
 erto de Magdeburgo.\nPouco tempo depois morreu o bispo de Praga Diethmar I 
 e Santo Adalberto que acompanhou a agonia do bispo ficou impressionado com 
 tal morte, (uma vez que Dithmar I se recriminava por ter levado vida inútil
 ), e resolveu entregar-se à penitência e às austeridades. Conta-se que desd
 e aquela época nunca mais o viram rir.\nNo ano de 983 Santo Adalberto foi n
 omeado bispo de Praga. Em sinal de humildade e penitência, Santo Adalberto 
 entrou descalço em Praga.\nSanto Adalberto era conhecido por praticar a car
 idade, pela austeridade, serviço zeloso à Igreja. Todos os dias, Santo Adal
 berto tinha à mesa, nas refeições, a companhia de doze mendigos, em homenag
 em aos santos apóstolos. Conta-se que, certa vez, uma mendiga pediu-lhe esm
 ola e, como não tinha, Santo Adalberto deu-lhe o próprio manto. Santo Adalb
 erto dormia no chão sobre um cilício. Impunha ao corpo sacrifícios com long
 as vigílias e duros jejuns. E, quase todos os dias, pregava com calor, doce
 mente fazia visitas aos doentes, nas prisões consolava com imensa ternura o
 s prisioneiros.\nApesar disso o trabalho de Santo Adalberto foi dificultado
  devido à crença pagã profundamente enraizada na mente das pessoas. Adalber
 to combateu a poligamia e a idolatria, que ainda eram comum entre os tcheco
 s. Ele também se ressentia muito da participação dos cristãos batizados no 
 comércio de escravos. Como em seis anos, pouco ou quase nada conseguiu Sant
 o Adalberto partiu para Roma em 989.\nEm Roma Santo Adalberto falou longame
 nte com o Papa João XV sobre a triste posição em que se encontrava, acaband
 o por lhe suplicar a graça de desligá-lo do cargo, porque, ardentemente, de
 sejava encerrar-se num mosteiro. O Papa concedeu-lhe a demissão solicitada 
 e santo Adalberto, com um irmão, Gaudêncio, tomou o hábito religioso de São
  Bonifácio no mosteiro de Santo Alexis.\nSanto Adalberto ficou por cinco an
 os no mosteiro, para depois a pedido do Papa voltar a Praga e retomar a dir
 eção da diocese. Contudo, novamente o povo repudiou Santo Adalberto por cau
 sa da disciplina cristã correta que queria instaurar. Novamente dececionado
 , Santo Adalberto retomou a vida de monge.\nMais tarde e em obediência ao p
 apa Gregório V, Adalberto assumiu pela terceira vez a diocese de Praga. Em 
 995, a antiga rivalidade dos Slavníks com os Přemyslids resultou na tomada 
 de Libice e o cruel assassinato de quatro (ou cinco) dos irmãos de Santo Ad
 alberto. Tudo isso foi feito pela vontade de Boleslau II, Duque da Boémia, 
 e os executores eram membros de um poderoso clã de Vr&scaron;ovci. Assim, o
  principado de Zličan tornou-se parte do território dos Přemyslidas. Santo 
 Adalberto condenou Vrśovci na igreja e previu que seriam severamente perseg
 uidos.\nComo depois da tragédia Santo Adalberto não poderia permanecer na B
 oémia fugiu de Praga, e refugiou-se na Polónia onde foi recebido pelo seu a
 migo Boleslau II.\nDepois de permanecer algum tempo na Polónia onde trabalh
 ou pela conversão dos idólatras, Santo Adalberto partiu conjuntamente com a
 lguns sacerdotes em missão evangelizadora para a Prússia, que ainda era pag
 ã.\nSanto Adalberto fixou-se na cidade de Danzig e converteu praticamente t
 oda a população. Porém os sacerdotes pagãos, vendo acabar o seu poder e inf
 luência, arquitetaram e executaram o assassinato de Adalberto e de todos os
  religiosos que o acompanhavam.\nSanto Adalberto de Praga foi morto com set
 e golpes de lança e depois decapitado, na cidade de Tenkiten, no dia 23 de 
 abril de 997.\nFoi canonizado no ano 999 pelo Papa Silvestre II.\n \nSanto 
 Adalberto de Praga rogai por nós.\n
DTSTAMP:20260421T205755Z
DTSTART;TZID=Europe/Lisbon;VALUE=DATE:20160423
DTEND;TZID=Europe/Lisbon;VALUE=DATE:20160424
SEQUENCE:0
RRULE:FREQ=YEARLY;COUNT=100;INTERVAL=1;BYYEARDAY=-253
TRANSP:OPAQUE
END:VEVENT
END:VCALENDAR