BEGIN:VCALENDAR
VERSION:2.0
PRODID:-//jEvents 2.0 for Joomla//EN
CALSCALE:GREGORIAN
METHOD:PUBLISH
BEGIN:VTIMEZONE
TZID:Europe/Lisbon
BEGIN:STANDARD
DTSTART:20151025T010000
RDATE:20160327T020000
TZOFFSETFROM:+0100
TZOFFSETTO:+0000
TZNAME:Europe/Lisbon WET
END:STANDARD
BEGIN:STANDARD
DTSTART:20161030T010000
RDATE:20170326T020000
TZOFFSETFROM:+0100
TZOFFSETTO:+0000
TZNAME:Europe/Lisbon WET
END:STANDARD
BEGIN:STANDARD
DTSTART:20171029T010000
RDATE:20180325T020000
TZOFFSETFROM:+0100
TZOFFSETTO:+0000
TZNAME:Europe/Lisbon WET
END:STANDARD
BEGIN:STANDARD
DTSTART:20181028T010000
RDATE:20190331T020000
TZOFFSETFROM:+0100
TZOFFSETTO:+0000
TZNAME:Europe/Lisbon WET
END:STANDARD
BEGIN:STANDARD
DTSTART:20191027T010000
RDATE:20200329T020000
TZOFFSETFROM:+0100
TZOFFSETTO:+0000
TZNAME:Europe/Lisbon WET
END:STANDARD
BEGIN:STANDARD
DTSTART:20201025T010000
RDATE:20210328T020000
TZOFFSETFROM:+0100
TZOFFSETTO:+0000
TZNAME:Europe/Lisbon WET
END:STANDARD
BEGIN:DAYLIGHT
DTSTART:20150420T000000
RDATE:20151025T010000
TZOFFSETFROM:+0000
TZOFFSETTO:+0100
TZNAME:Europe/Lisbon WEST
END:DAYLIGHT
BEGIN:DAYLIGHT
DTSTART:20160327T020000
RDATE:20161030T010000
TZOFFSETFROM:+0000
TZOFFSETTO:+0100
TZNAME:Europe/Lisbon WEST
END:DAYLIGHT
BEGIN:DAYLIGHT
DTSTART:20170326T020000
RDATE:20171029T010000
TZOFFSETFROM:+0000
TZOFFSETTO:+0100
TZNAME:Europe/Lisbon WEST
END:DAYLIGHT
BEGIN:DAYLIGHT
DTSTART:20180325T020000
RDATE:20181028T010000
TZOFFSETFROM:+0000
TZOFFSETTO:+0100
TZNAME:Europe/Lisbon WEST
END:DAYLIGHT
BEGIN:DAYLIGHT
DTSTART:20190331T020000
RDATE:20191027T010000
TZOFFSETFROM:+0000
TZOFFSETTO:+0100
TZNAME:Europe/Lisbon WEST
END:DAYLIGHT
BEGIN:DAYLIGHT
DTSTART:20200329T020000
RDATE:20201025T010000
TZOFFSETFROM:+0000
TZOFFSETTO:+0100
TZNAME:Europe/Lisbon WEST
END:DAYLIGHT
END:VTIMEZONE
BEGIN:VEVENT
UID:51ec5864d37db79f2c0e922f5853b3ea
CATEGORIES:Santos
SUMMARY:Nª Srª Mãe do Divino Pastor
DESCRIPTION;ENCODING=QUOTED-PRINTABLE:\n\nNossa Senhora Mãe do Divino Pastor também é conhecida como Nossa Senhor
 a Divina Pastora, Nossa Senhora Divina Pastora das Almas, Nossa Senhora Mãe
  Divina Pastora ou Nossa Senhora Mãe do Bom Pastor. É particularmente cultu
 ada em Portugal, Espanha e América Latina.\nAs origens da devoção a Nossa S
 enhora Mãe do Divino Pastor são imprecisas, mas as primeiras manifestações 
 surgem no século XVIII. Existem referências à Virgem Maria vestida de pasto
 ra na vida de São João de Deus (http://www.paroquia-almancil.pt/utilidades/
 vida-dos-santos/icalrepeat.detail/2018/03/08/42466/-/s%C3%A3o-jo%C3%A3o-de-
 deus.html), de São Pedro de Alcântara (http://www.paroquia-almancil.pt/util
 idades/vida-dos-santos/icalrepeat.detail/2018/10/19/68309/-/s%C3%A3o-pedro-
 de-alc%C3%A2ntara.html), da Venerável Maria de Jesus de Ágreda e de Santa M
 aria das Cinco Chagas (http://www.paroquia-almancil.pt/utilidades/vida-dos-
 santos/icalrepeat.detail/2018/10/06/49199/-/s-maria-francisco-das-cinco-cha
 gas.html).\nInicialmente chamada de "Virgen Zagala" (que significa: "a past
 ora que cuida do seu rebanho"), esta invocação simboliza uma mãe que cuida 
 dos seus filhos. No entanto, a invocação mariana de Nossa Senhora Divina Pa
 stora começou a tornar-se mais conhecida a partir da cidade de Sevilha, em 
 Espanha. De acordo com a tradição, a Virgem Maria terá aí aparecido no ano 
 de 1703. Nossa Senhora Mãe do Divino Pastor ter-se-á revelado sentada numa 
 rocha, vestida como uma pastora e num local onde pastavam algumas ovelhas. 
 Desde logo, um conhecido frade capuchinho, Frei Isidoro, tornou-se num gran
 de divulgador desta devoção (tendo mesmo solicitado a um pintor da Escola P
 ictórica de Sevilha, Alonso Miguel de Tovar, que fizesse a primeira represe
 ntação da Virgem Maria sobre esta invocação).\nPosteriormente, o artista Fr
 ancisco Ruiz Gijón esculpiu a primeira imagem em tamanho natural de Nossa S
 enhora Mãe do Divino Pastor. Essa imagem saiu em procissão pela primeira ve
 z em outubro de 1705.\nO culto a Nossa Senhora Mãe do Divino Pastor foi aut
 orizado em 1709, tendo também sido autorizado a criação de várias Irmandade
 s da Mãe do Divino Pastor (uma das quais o próprio Rei de Espanha se associ
 ou).\n\n\n \n\n\nNossa Senhora Mãe do Divino Pastor, rogai por nós!\n
DTSTAMP:20260421T223453Z
DTSTART;TZID=Europe/Lisbon;VALUE=DATE:20160420
DTEND;TZID=Europe/Lisbon;VALUE=DATE:20160421
SEQUENCE:0
RRULE:FREQ=YEARLY;COUNT=100;INTERVAL=1;BYYEARDAY=-256
TRANSP:OPAQUE
END:VEVENT
END:VCALENDAR