BEGIN:VCALENDAR
VERSION:2.0
PRODID:-//jEvents 2.0 for Joomla//EN
CALSCALE:GREGORIAN
METHOD:PUBLISH
BEGIN:VTIMEZONE
TZID:Europe/Lisbon
BEGIN:STANDARD
DTSTART:20151025T010000
RDATE:20160327T020000
TZOFFSETFROM:+0100
TZOFFSETTO:+0000
TZNAME:Europe/Lisbon WET
END:STANDARD
BEGIN:STANDARD
DTSTART:20161030T010000
RDATE:20170326T020000
TZOFFSETFROM:+0100
TZOFFSETTO:+0000
TZNAME:Europe/Lisbon WET
END:STANDARD
BEGIN:STANDARD
DTSTART:20171029T010000
RDATE:20180325T020000
TZOFFSETFROM:+0100
TZOFFSETTO:+0000
TZNAME:Europe/Lisbon WET
END:STANDARD
BEGIN:STANDARD
DTSTART:20181028T010000
RDATE:20190331T020000
TZOFFSETFROM:+0100
TZOFFSETTO:+0000
TZNAME:Europe/Lisbon WET
END:STANDARD
BEGIN:STANDARD
DTSTART:20191027T010000
RDATE:20200329T020000
TZOFFSETFROM:+0100
TZOFFSETTO:+0000
TZNAME:Europe/Lisbon WET
END:STANDARD
BEGIN:STANDARD
DTSTART:20201025T010000
RDATE:20210328T020000
TZOFFSETFROM:+0100
TZOFFSETTO:+0000
TZNAME:Europe/Lisbon WET
END:STANDARD
BEGIN:DAYLIGHT
DTSTART:20150419T000000
RDATE:20151025T010000
TZOFFSETFROM:+0000
TZOFFSETTO:+0100
TZNAME:Europe/Lisbon WEST
END:DAYLIGHT
BEGIN:DAYLIGHT
DTSTART:20160327T020000
RDATE:20161030T010000
TZOFFSETFROM:+0000
TZOFFSETTO:+0100
TZNAME:Europe/Lisbon WEST
END:DAYLIGHT
BEGIN:DAYLIGHT
DTSTART:20170326T020000
RDATE:20171029T010000
TZOFFSETFROM:+0000
TZOFFSETTO:+0100
TZNAME:Europe/Lisbon WEST
END:DAYLIGHT
BEGIN:DAYLIGHT
DTSTART:20180325T020000
RDATE:20181028T010000
TZOFFSETFROM:+0000
TZOFFSETTO:+0100
TZNAME:Europe/Lisbon WEST
END:DAYLIGHT
BEGIN:DAYLIGHT
DTSTART:20190331T020000
RDATE:20191027T010000
TZOFFSETFROM:+0000
TZOFFSETTO:+0100
TZNAME:Europe/Lisbon WEST
END:DAYLIGHT
BEGIN:DAYLIGHT
DTSTART:20200329T020000
RDATE:20201025T010000
TZOFFSETFROM:+0000
TZOFFSETTO:+0100
TZNAME:Europe/Lisbon WEST
END:DAYLIGHT
END:VTIMEZONE
BEGIN:VEVENT
UID:55300c19ebcac3c1125efbe0e67d16c6
CATEGORIES:Santos
SUMMARY:São Leão IX
DESCRIPTION;ENCODING=QUOTED-PRINTABLE:São Leão IX, nasceu a 21 de junho de 1002 em Eguisheim, Alsácia (França) e 
 morreu a 19 de abril de 1054 em Roma (Itália). Era filho do Conde de Eguish
 eim e primo-irmão do Imperador Conrado, o Sálico. Foi batizado com o nome B
 runo de Eguisheim-Dagsbourg. Quando nasceu, São Leão IX tinha manchas verme
 lhas, formando cruzes pelo corpo todo. A sua mãe Heilwiges, que era uma cat
 ólica fervorosa, viu com este sinal, que o seu filho estava predestinado a 
 ser grande na Igreja.\nConforme era costume na época quando são Leão IX fez
  5 anos foi confiado, pelos pais, a Bertoldo (bispo de Toul) que dirigia um
 a escola no próprio palácio episcopal.\nNo colégio, São Leão IX foi confiad
 o particularmente a um primo seu, chamado Aderico, filho do Príncipe de Lux
 emburgo. O seu primo foi-lhe modelo de todas as virtudes e serviu extraordi
 nariamente para a sua formação.\nDotado de belos talentos, São Leão IX fez 
 rápidos progressos nos estudos, e distinguiu-se com grande vantagem entre o
 s alunos de Direito canónico. Destinado a ser sacerdote, recebeu a ordem do
  diaconato, e na qualidade de ministro do altar, foi nomeado clérigo da Cap
 ela do palácio do Imperador Conrado, o Sálico, distinguindo-se sempre pela 
 habilidade de negociação, de administração e na piedade. São Leão IX foi im
 ediatamente bem visto pelo Imperador, que impressionado com as suas virtude
 s passou a tratá-lo de &ldquo;meu sobrinho&rdquo;, apesar de não ser filho 
 de nenhum dos seus irmãos.\nDepois de estudar em Toul, São Leão IX tornou-s
 e cónego de Saint-Ettienne, em 1023.\nNo ano de 1026, o Imperador Sálico re
 cebeu a visita de clérigos da Diocese de Toul, que lhe anunciavam a morte d
 o Bispo e o desejo de toda a população que São Leão IX fosse designado para
  a diocese vaga. O imperador acedeu, apesar de Bruno não ter ainda a idade 
 canónica. Apesar da pouca idade, São Leão IX destacou-se imediatamente entr
 e os Bispos da região por sua capacidade e pela virtude com que dirigia a d
 iocese. São Leão IX desenvolveu um zelo extraordinário na reforma de conven
 tos e na obra da salvação das almas. São Leão IX recebia diariamente pobres
  no seu palácio, alimentava-os e repetia a cerimónia do lava-pés, tendo-os 
 como seus discípulos. Profundo conhecedor da arte musical, são Leão IX comp
 ôs grande número de cânticos religiosos e empregou todos os esforços pela d
 igna celebração do culto divino. Anualmente visitava os túmulos de São Pedr
 o e São Paulo em Roma.\nNada disso passou despercebido e com a morte do Pap
 a Dâmaso II no ano de 1048, São Leão IX foi eleito, por unanimidade como o 
 novo Papa. São Leão IX recusou pois a a eleição ocorreu em um Concílio conv
 ocado pelo imperador da Alemanha, Henrique III, em Worms. Compareceu enorme
  número de bispos, prelados, embaixadores e príncipes, referendando o nome 
 de São Leão IX. Tendo sido consultado, São Leão IX, que não queria aceitar 
 o cargo pediu que lhe dessem alguns dias para refletir.\nTerminado o prazo 
 de reflexão, São Leão IX apresentou-se diante de todos os que estavam reuni
 dos em Worms e disse que iria fazer uma confissão pública de todos os seus 
 pecados, para fazer notar o quanto era pecador e de nenhum modo digno do pa
 pado. Ajoelhou-se e fez sua confissão pública. O que São Leão IX considerav
 a o seu pecado mais grave, não constituía um pecado venial. Assim que termi
 nou a sua confissão, São Leão IX foi aclamado por todos.\nComo última tenta
 tiva, São Leão IX levantou outro problema: o Imperador não tinha direito de
  nomeá-lo Papa. O Papa só pode ser eleito pelo clero de Roma, na forma canó
 nica, ouvindo, quando queira, o povo de Roma. São Leão IX iria então a Roma
  a fim de lá consultar se o clero e o povo o queriam como Papa.\nRetirou-se
  e, tomando o traje de peregrino, saiu a pé de Worms em direção a Roma. Ao 
 chegar às cercanias de Roma, São Leão IX encontrou a população da cidade à 
 sua espera. Vestido como peregrino, com os olhos postos no chão e sem olhar
  nem dar atenção para ninguém, São Leão IX entrou em Roma, dirigindo-se dir
 etamente ao túmulo de São Pedro para rezar.\nO povo de Roma, aclamando-o, q
 uis naquele mesmo dia entronizá-lo. Mas ele disse que esperassem até o dia 
 seguinte, para ainda poderem pensar. Mas, por fim, chegou o dia seguinte e 
 o povo estava de tal maneira decidido de que ele deveria ser o Pontífice, q
 ue ele acabou por aceitar, sendo então entronizado na Sé Romana a 12 de fev
 ereiro de 1049 e adotando o nome de Leão IX.\nLeão IX foi um reformador, te
 ndo-se inscrito na reforma gregoriana. Convoca durante seu pontificado 12 C
 oncílios.\nAs suas principais lutas foram contra: a taxa eclesiástica (a si
 monia); o casamento bem como a concubinagem dos padres (o nicolaismo); o fa
 cto de os bispos serem príncipes do Império e o afastamento dos valores do 
 cristianismo primitivo.\nDe junho de 1053 a março de 1054 São Leão IX foi m
 antido prisioneiro em Benevento, numa prisão honorável; não tendo sobrevivi
 do muito tempo após o seu retorno a Roma, onde morreu a 19 de abril de 1054
 . \n \nSão Leão IX, rogai por nós!\n
DTSTAMP:20260422T075756Z
DTSTART;TZID=Europe/Lisbon;VALUE=DATE:20160419
DTEND;TZID=Europe/Lisbon;VALUE=DATE:20160420
SEQUENCE:0
RRULE:FREQ=YEARLY;COUNT=100;INTERVAL=1;BYYEARDAY=-257
TRANSP:OPAQUE
END:VEVENT
END:VCALENDAR